BEGIN:VCALENDAR
PRODID:-//WikiCFP//cmc 1.0//EN
VERSION:2.0
CALSCALE:GREGORIAN
BEGIN:VEVENT
DTSTAMP:20260423T064151Z
DTSTART;VALUE=DATE:20120310
DTEND;VALUE=DATE:20120315
SUMMARY:ExtremeCom 2012
DESCRIPTION:The 4th Extreme Conference on Communication
URL:http://www.wikicfp.com/cfp/servlet/event.showcfp?eventid=20542&copyow
 nerid=33827
UID:cfp235021-E@wikicfp.com
END:VEVENT
BEGIN:VEVENT
DTSTAMP:20260423T064151Z
DTSTART;VALUE=DATE:20120107
SUMMARY:ExtremeCom 2012 Deadline
DESCRIPTION:The 4th Extreme Conference on Communication
URL:http://www.wikicfp.com/cfp/servlet/event.showcfp?eventid=20542&copyow
 nerid=33827
UID:cfp235021-D@wikicfp.com
END:VEVENT
BEGIN:VEVENT
DTSTAMP:20260423T064151Z
DTSTART;VALUE=DATE:20120130
SUMMARY:ExtremeCom 2012 Notification Due
DESCRIPTION:The 4th Extreme Conference on Communication
URL:http://www.wikicfp.com/cfp/servlet/event.showcfp?eventid=20542&copyow
 nerid=33827
UID:cfp235021-N@wikicfp.com
END:VEVENT
BEGIN:VEVENT
DTSTAMP:20260423T064151Z
DTSTART;VALUE=DATE:20120418
DTEND;VALUE=DATE:20120421
SUMMARY:SIU 2012
DESCRIPTION:20th Signal Processing and Communications Applications Confer
 ence
URL:http://www.wikicfp.com/cfp/servlet/event.showcfp?eventid=18485&copyow
 nerid=33827
UID:cfp235020-E@wikicfp.com
END:VEVENT
BEGIN:VEVENT
DTSTAMP:20260423T064151Z
DTSTART;VALUE=DATE:20120108
SUMMARY:SIU 2012 Deadline
DESCRIPTION:20th Signal Processing and Communications Applications Confer
 ence
URL:http://www.wikicfp.com/cfp/servlet/event.showcfp?eventid=18485&copyow
 nerid=33827
UID:cfp235020-D@wikicfp.com
END:VEVENT
BEGIN:VEVENT
DTSTAMP:20260423T064151Z
DTSTART;VALUE=DATE:20120226
SUMMARY:SIU 2012 Notification Due
DESCRIPTION:20th Signal Processing and Communications Applications Confer
 ence
URL:http://www.wikicfp.com/cfp/servlet/event.showcfp?eventid=18485&copyow
 nerid=33827
UID:cfp235020-N@wikicfp.com
END:VEVENT
BEGIN:VEVENT
DTSTAMP:20260423T064151Z
DTSTART;VALUE=DATE:20120311
SUMMARY:SIU 2012 Final Version Due
DESCRIPTION:20th Signal Processing and Communications Applications Confer
 ence
URL:http://www.wikicfp.com/cfp/servlet/event.showcfp?eventid=18485&copyow
 nerid=33827
UID:cfp235020-N@wikicfp.com
END:VEVENT
BEGIN:VEVENT
DTSTAMP:20260423T064151Z
DTSTART;VALUE=DATE:20120621
DTEND;VALUE=DATE:20120624
SUMMARY:COMM 2012
DESCRIPTION:9th International Conference on Communications
URL:http://www.wikicfp.com/cfp/servlet/event.showcfp?eventid=14527&copyow
 nerid=33827
UID:cfp234977-E@wikicfp.com
END:VEVENT
BEGIN:VEVENT
DTSTAMP:20260423T064151Z
DTSTART;VALUE=DATE:20120118
SUMMARY:COMM 2012 Deadline
DESCRIPTION:9th International Conference on Communications
URL:http://www.wikicfp.com/cfp/servlet/event.showcfp?eventid=14527&copyow
 nerid=33827
UID:cfp234977-D@wikicfp.com
END:VEVENT
BEGIN:VEVENT
DTSTAMP:20260423T064151Z
DTSTART;VALUE=DATE:20120301
SUMMARY:COMM 2012 Notification Due
DESCRIPTION:9th International Conference on Communications
URL:http://www.wikicfp.com/cfp/servlet/event.showcfp?eventid=14527&copyow
 nerid=33827
UID:cfp234977-N@wikicfp.com
END:VEVENT
BEGIN:VEVENT
DTSTAMP:20260423T064151Z
DTSTART;VALUE=DATE:20120401
SUMMARY:COMM 2012 Final Version Due
DESCRIPTION:9th International Conference on Communications
URL:http://www.wikicfp.com/cfp/servlet/event.showcfp?eventid=14527&copyow
 nerid=33827
UID:cfp234977-N@wikicfp.com
END:VEVENT
BEGIN:VEVENT
DTSTAMP:20260423T064151Z
DTSTART;VALUE=DATE:20120827
DTEND;VALUE=DATE:20120901
SUMMARY:IWCMC 2012
DESCRIPTION:8th International Wireless Communications and Mobile Computin
 g Conference
URL:http://www.wikicfp.com/cfp/servlet/event.showcfp?eventid=16897&copyow
 nerid=33827
UID:cfp234978-E@wikicfp.com
END:VEVENT
BEGIN:VEVENT
DTSTAMP:20260423T064151Z
DTSTART;VALUE=DATE:20120120
SUMMARY:IWCMC 2012 Deadline
DESCRIPTION:8th International Wireless Communications and Mobile Computin
 g Conference
URL:http://www.wikicfp.com/cfp/servlet/event.showcfp?eventid=16897&copyow
 nerid=33827
UID:cfp234978-D@wikicfp.com
END:VEVENT
BEGIN:VEVENT
DTSTAMP:20260423T064151Z
DTSTART;VALUE=DATE:20120325
SUMMARY:IWCMC 2012 Notification Due
DESCRIPTION:8th International Wireless Communications and Mobile Computin
 g Conference
URL:http://www.wikicfp.com/cfp/servlet/event.showcfp?eventid=16897&copyow
 nerid=33827
UID:cfp234978-N@wikicfp.com
END:VEVENT
BEGIN:VEVENT
DTSTAMP:20260423T064151Z
DTSTART;VALUE=DATE:20120430
SUMMARY:IWCMC 2012 Final Version Due
DESCRIPTION:8th International Wireless Communications and Mobile Computin
 g Conference
URL:http://www.wikicfp.com/cfp/servlet/event.showcfp?eventid=16897&copyow
 nerid=33827
UID:cfp234978-N@wikicfp.com
END:VEVENT
BEGIN:VEVENT
DTSTAMP:20260423T064151Z
DTSTART;VALUE=DATE:20120704
DTEND;VALUE=DATE:20120707
SUMMARY:ISIVC 2012
DESCRIPTION:International Symposium on signal\, Image\, Video and Communi
 cations
URL:http://www.wikicfp.com/cfp/servlet/event.showcfp?eventid=20523&copyow
 nerid=33827
UID:cfp234983-E@wikicfp.com
END:VEVENT
BEGIN:VEVENT
DTSTAMP:20260423T064151Z
DTSTART;VALUE=DATE:20120130
SUMMARY:ISIVC 2012 Deadline
DESCRIPTION:International Symposium on signal\, Image\, Video and Communi
 cations
URL:http://www.wikicfp.com/cfp/servlet/event.showcfp?eventid=20523&copyow
 nerid=33827
UID:cfp234983-D@wikicfp.com
END:VEVENT
BEGIN:VEVENT
DTSTAMP:20260423T064151Z
DTSTART;VALUE=DATE:20120415
SUMMARY:ISIVC 2012 Notification Due
DESCRIPTION:International Symposium on signal\, Image\, Video and Communi
 cations
URL:http://www.wikicfp.com/cfp/servlet/event.showcfp?eventid=20523&copyow
 nerid=33827
UID:cfp234983-N@wikicfp.com
END:VEVENT
BEGIN:VEVENT
DTSTAMP:20260423T064151Z
DTSTART;VALUE=DATE:20120515
SUMMARY:ISIVC 2012 Final Version Due
DESCRIPTION:International Symposium on signal\, Image\, Video and Communi
 cations
URL:http://www.wikicfp.com/cfp/servlet/event.showcfp?eventid=20523&copyow
 nerid=33827
UID:cfp234983-N@wikicfp.com
END:VEVENT
BEGIN:VEVENT
DTSTAMP:20260423T064151Z
DTSTART;VALUE=DATE:20120801
DTEND;VALUE=DATE:20120804
SUMMARY:ICCE 2012
DESCRIPTION:THE FOURTH INTERNATIONAL CONFERENCE ON COMMUNICATIONS  AND EL
 ECTRONICS 2012
URL:http://www.wikicfp.com/cfp/servlet/event.showcfp?eventid=20224&copyow
 nerid=33827
UID:cfp234982-E@wikicfp.com
END:VEVENT
BEGIN:VEVENT
DTSTAMP:20260423T064151Z
DTSTART;VALUE=DATE:20120217
SUMMARY:ICCE 2012 Deadline
DESCRIPTION:THE FOURTH INTERNATIONAL CONFERENCE ON COMMUNICATIONS  AND EL
 ECTRONICS 2012
URL:http://www.wikicfp.com/cfp/servlet/event.showcfp?eventid=20224&copyow
 nerid=33827
UID:cfp234982-D@wikicfp.com
END:VEVENT
BEGIN:VEVENT
DTSTAMP:20260423T064151Z
DTSTART;VALUE=DATE:20120413
SUMMARY:ICCE 2012 Notification Due
DESCRIPTION:THE FOURTH INTERNATIONAL CONFERENCE ON COMMUNICATIONS  AND EL
 ECTRONICS 2012
URL:http://www.wikicfp.com/cfp/servlet/event.showcfp?eventid=20224&copyow
 nerid=33827
UID:cfp234982-N@wikicfp.com
END:VEVENT
BEGIN:VEVENT
DTSTAMP:20260423T064151Z
DTSTART;VALUE=DATE:20120524
SUMMARY:ICCE 2012 Final Version Due
DESCRIPTION:THE FOURTH INTERNATIONAL CONFERENCE ON COMMUNICATIONS  AND EL
 ECTRONICS 2012
URL:http://www.wikicfp.com/cfp/servlet/event.showcfp?eventid=20224&copyow
 nerid=33827
UID:cfp234982-N@wikicfp.com
END:VEVENT
BEGIN:VEVENT
DTSTAMP:20260423T064151Z
DTSTART;VALUE=DATE:20120419
DTEND;VALUE=DATE:20120422
SUMMARY:WOCC 2012
DESCRIPTION:21st Annual Wireless and Optical Communications Conference
URL:http://www.wikicfp.com/cfp/servlet/event.showcfp?eventid=19984&copyow
 nerid=33827
UID:cfp234981-E@wikicfp.com
END:VEVENT
BEGIN:VEVENT
DTSTAMP:20260423T064151Z
DTSTART;VALUE=DATE:20120301
SUMMARY:WOCC 2012 Deadline
DESCRIPTION:21st Annual Wireless and Optical Communications Conference
URL:http://www.wikicfp.com/cfp/servlet/event.showcfp?eventid=19984&copyow
 nerid=33827
UID:cfp234981-D@wikicfp.com
END:VEVENT
BEGIN:VEVENT
DTSTAMP:20260423T064151Z
DTSTART;VALUE=DATE:20120803
DTEND;VALUE=DATE:20120806
SUMMARY:ICACCI 2012
DESCRIPTION:2012 International Conference on Advances in Computing\, Comm
 unications and Informatics 
URL:http://www.wikicfp.com/cfp/servlet/event.showcfp?eventid=19329&copyow
 nerid=33827
UID:cfp234979-E@wikicfp.com
END:VEVENT
BEGIN:VEVENT
DTSTAMP:20260423T064151Z
DTSTART;VALUE=DATE:20120305
SUMMARY:ICACCI 2012 Deadline
DESCRIPTION:2012 International Conference on Advances in Computing\, Comm
 unications and Informatics 
URL:http://www.wikicfp.com/cfp/servlet/event.showcfp?eventid=19329&copyow
 nerid=33827
UID:cfp234979-D@wikicfp.com
END:VEVENT
BEGIN:VEVENT
DTSTAMP:20260423T064151Z
DTSTART;VALUE=DATE:20120425
SUMMARY:ICACCI 2012 Notification Due
DESCRIPTION:2012 International Conference on Advances in Computing\, Comm
 unications and Informatics 
URL:http://www.wikicfp.com/cfp/servlet/event.showcfp?eventid=19329&copyow
 nerid=33827
UID:cfp234979-N@wikicfp.com
END:VEVENT
BEGIN:VEVENT
DTSTAMP:20260423T064151Z
DTSTART;VALUE=DATE:20120508
SUMMARY:ICACCI 2012 Final Version Due
DESCRIPTION:2012 International Conference on Advances in Computing\, Comm
 unications and Informatics 
URL:http://www.wikicfp.com/cfp/servlet/event.showcfp?eventid=19329&copyow
 nerid=33827
UID:cfp234979-N@wikicfp.com
END:VEVENT
BEGIN:VEVENT
DTSTAMP:20260423T064151Z
DTSTART;VALUE=DATE:20120521
DTEND;VALUE=DATE:20120523
SUMMARY:ELEKTRO 2012
DESCRIPTION:9th International Conference of ELEKTRO
URL:http://www.wikicfp.com/cfp/servlet/event.showcfp?eventid=20481&copyow
 nerid=33827
UID:cfp234973-E@wikicfp.com
END:VEVENT
BEGIN:VEVENT
DTSTAMP:20260423T064151Z
DTSTART;VALUE=DATE:20120315
SUMMARY:ELEKTRO 2012 Deadline
DESCRIPTION:9th International Conference of ELEKTRO
URL:http://www.wikicfp.com/cfp/servlet/event.showcfp?eventid=20481&copyow
 nerid=33827
UID:cfp234973-D@wikicfp.com
END:VEVENT
BEGIN:VEVENT
DTSTAMP:20260423T064151Z
DTSTART;VALUE=DATE:20120415
SUMMARY:ELEKTRO 2012 Notification Due
DESCRIPTION:9th International Conference of ELEKTRO
URL:http://www.wikicfp.com/cfp/servlet/event.showcfp?eventid=20481&copyow
 nerid=33827
UID:cfp234973-N@wikicfp.com
END:VEVENT
BEGIN:VEVENT
DTSTAMP:20260423T064151Z
DTSTART;VALUE=DATE:20120430
SUMMARY:ELEKTRO 2012 Final Version Due
DESCRIPTION:9th International Conference of ELEKTRO
URL:http://www.wikicfp.com/cfp/servlet/event.showcfp?eventid=20481&copyow
 nerid=33827
UID:cfp234973-N@wikicfp.com
END:VEVENT
BEGIN:VEVENT
DTSTAMP:20260423T064151Z
DTSTART;VALUE=DATE:20120625
DTEND;VALUE=DATE:20120628
SUMMARY:HPCC 2012
DESCRIPTION:The 14th IEEE International Conference on High Performance Co
 mputing and Communications
URL:http://www.wikicfp.com/cfp/servlet/event.showcfp?eventid=19873&copyow
 nerid=33827
UID:cfp234980-E@wikicfp.com
END:VEVENT
BEGIN:VEVENT
DTSTAMP:20260423T064151Z
DTSTART;VALUE=DATE:20120318
SUMMARY:HPCC 2012 Deadline
DESCRIPTION:The 14th IEEE International Conference on High Performance Co
 mputing and Communications
URL:http://www.wikicfp.com/cfp/servlet/event.showcfp?eventid=19873&copyow
 nerid=33827
UID:cfp234980-D@wikicfp.com
END:VEVENT
BEGIN:VEVENT
DTSTAMP:20260423T064151Z
DTSTART;VALUE=DATE:20120408
SUMMARY:HPCC 2012 Notification Due
DESCRIPTION:The 14th IEEE International Conference on High Performance Co
 mputing and Communications
URL:http://www.wikicfp.com/cfp/servlet/event.showcfp?eventid=19873&copyow
 nerid=33827
UID:cfp234980-N@wikicfp.com
END:VEVENT
BEGIN:VEVENT
DTSTAMP:20260423T064151Z
DTSTART;VALUE=DATE:20120508
SUMMARY:HPCC 2012 Final Version Due
DESCRIPTION:The 14th IEEE International Conference on High Performance Co
 mputing and Communications
URL:http://www.wikicfp.com/cfp/servlet/event.showcfp?eventid=19873&copyow
 nerid=33827
UID:cfp234980-N@wikicfp.com
END:VEVENT
BEGIN:VEVENT
DTSTAMP:20260423T064151Z
DTSTART;VALUE=DATE:20121203
DTEND;VALUE=DATE:20121208
SUMMARY:GLOBECOM 2012
DESCRIPTION:IEEE Global Communications Conference
URL:http://www.wikicfp.com/cfp/servlet/event.showcfp?eventid=13878&copyow
 nerid=33827
UID:cfp234963-E@wikicfp.com
END:VEVENT
BEGIN:VEVENT
DTSTAMP:20260423T064151Z
DTSTART;VALUE=DATE:20120330
SUMMARY:GLOBECOM 2012 Deadline
DESCRIPTION:IEEE Global Communications Conference
URL:http://www.wikicfp.com/cfp/servlet/event.showcfp?eventid=13878&copyow
 nerid=33827
UID:cfp234963-D@wikicfp.com
END:VEVENT
BEGIN:VEVENT
DTSTAMP:20260423T064151Z
DTSTART;VALUE=DATE:20120701
SUMMARY:GLOBECOM 2012 Notification Due
DESCRIPTION:IEEE Global Communications Conference
URL:http://www.wikicfp.com/cfp/servlet/event.showcfp?eventid=13878&copyow
 nerid=33827
UID:cfp234963-N@wikicfp.com
END:VEVENT
BEGIN:VEVENT
DTSTAMP:20260423T064151Z
DTSTART;VALUE=DATE:20120801
SUMMARY:GLOBECOM 2012 Final Version Due
DESCRIPTION:IEEE Global Communications Conference
URL:http://www.wikicfp.com/cfp/servlet/event.showcfp?eventid=13878&copyow
 nerid=33827
UID:cfp234963-N@wikicfp.com
END:VEVENT
BEGIN:VEVENT
DTSTAMP:20260423T064151Z
DTSTART;VALUE=DATE:20120703
DTEND;VALUE=DATE:20120706
SUMMARY:WC 2012
DESCRIPTION:Wireless Communications
URL:http://www.wikicfp.com/cfp/servlet/event.showcfp?eventid=19370&copyow
 nerid=33827
UID:cfp234967-E@wikicfp.com
END:VEVENT
BEGIN:VEVENT
DTSTAMP:20260423T064151Z
DTSTART;VALUE=DATE:20120412
SUMMARY:WC 2012 Deadline
DESCRIPTION:Wireless Communications
URL:http://www.wikicfp.com/cfp/servlet/event.showcfp?eventid=19370&copyow
 nerid=33827
UID:cfp234967-D@wikicfp.com
END:VEVENT
BEGIN:VEVENT
DTSTAMP:20260423T064151Z
DTSTART;VALUE=DATE:20120508
SUMMARY:WC 2012 Notification Due
DESCRIPTION:Wireless Communications
URL:http://www.wikicfp.com/cfp/servlet/event.showcfp?eventid=19370&copyow
 nerid=33827
UID:cfp234967-N@wikicfp.com
END:VEVENT
BEGIN:VEVENT
DTSTAMP:20260423T064151Z
DTSTART;VALUE=DATE:20120921
DTEND;VALUE=DATE:20120924
SUMMARY:WiCOM 2012
DESCRIPTION:8th International Conference on Wireless Communications\, Net
 working and Mobile Computing
URL:http://www.wikicfp.com/cfp/servlet/event.showcfp?eventid=13687&copyow
 nerid=33827
UID:cfp234976-E@wikicfp.com
END:VEVENT
BEGIN:VEVENT
DTSTAMP:20260423T064151Z
DTSTART;VALUE=DATE:20120430
SUMMARY:WiCOM 2012 Deadline
DESCRIPTION:8th International Conference on Wireless Communications\, Net
 working and Mobile Computing
URL:http://www.wikicfp.com/cfp/servlet/event.showcfp?eventid=13687&copyow
 nerid=33827
UID:cfp234976-D@wikicfp.com
END:VEVENT
BEGIN:VEVENT
DTSTAMP:20260423T064151Z
DTSTART;VALUE=DATE:20120510
SUMMARY:WiCOM 2012 Notification Due
DESCRIPTION:8th International Conference on Wireless Communications\, Net
 working and Mobile Computing
URL:http://www.wikicfp.com/cfp/servlet/event.showcfp?eventid=13687&copyow
 nerid=33827
UID:cfp234976-N@wikicfp.com
END:VEVENT
BEGIN:VEVENT
DTSTAMP:20260423T064151Z
DTSTART;VALUE=DATE:20120727
DTEND;VALUE=DATE:20120730
SUMMARY:ICNCC 2012
DESCRIPTION:2012 International Conference on Network\, Communication and 
 Computing
URL:http://www.wikicfp.com/cfp/servlet/event.showcfp?eventid=19828&copyow
 nerid=33827
UID:cfp234971-E@wikicfp.com
END:VEVENT
BEGIN:VEVENT
DTSTAMP:20260423T064151Z
DTSTART;VALUE=DATE:20120430
SUMMARY:ICNCC 2012 Deadline
DESCRIPTION:2012 International Conference on Network\, Communication and 
 Computing
URL:http://www.wikicfp.com/cfp/servlet/event.showcfp?eventid=19828&copyow
 nerid=33827
UID:cfp234971-D@wikicfp.com
END:VEVENT
BEGIN:VEVENT
DTSTAMP:20260423T064151Z
DTSTART;VALUE=DATE:20120515
SUMMARY:ICNCC 2012 Notification Due
DESCRIPTION:2012 International Conference on Network\, Communication and 
 Computing
URL:http://www.wikicfp.com/cfp/servlet/event.showcfp?eventid=19828&copyow
 nerid=33827
UID:cfp234971-N@wikicfp.com
END:VEVENT
BEGIN:VEVENT
DTSTAMP:20260423T064151Z
DTSTART;VALUE=DATE:20120515
SUMMARY:ICNCC 2012 Final Version Due
DESCRIPTION:2012 International Conference on Network\, Communication and 
 Computing
URL:http://www.wikicfp.com/cfp/servlet/event.showcfp?eventid=19828&copyow
 nerid=33827
UID:cfp234971-N@wikicfp.com
END:VEVENT
BEGIN:VEVENT
DTSTAMP:20260423T064151Z
DTSTART;VALUE=DATE:20121016
DTEND;VALUE=DATE:20121019
SUMMARY:CCS 2012
DESCRIPTION:ACM Conference on Computer and Communications Security
URL:http://www.wikicfp.com/cfp/servlet/event.showcfp?eventid=19103&copyow
 nerid=33827
UID:cfp234965-E@wikicfp.com
END:VEVENT
BEGIN:VEVENT
DTSTAMP:20260423T064151Z
DTSTART;VALUE=DATE:20120504
SUMMARY:CCS 2012 Deadline
DESCRIPTION:ACM Conference on Computer and Communications Security
URL:http://www.wikicfp.com/cfp/servlet/event.showcfp?eventid=19103&copyow
 nerid=33827
UID:cfp234965-D@wikicfp.com
END:VEVENT
BEGIN:VEVENT
DTSTAMP:20260423T064151Z
DTSTART;VALUE=DATE:20120709
SUMMARY:CCS 2012 Notification Due
DESCRIPTION:ACM Conference on Computer and Communications Security
URL:http://www.wikicfp.com/cfp/servlet/event.showcfp?eventid=19103&copyow
 nerid=33827
UID:cfp234965-N@wikicfp.com
END:VEVENT
BEGIN:VEVENT
DTSTAMP:20260423T064151Z
DTSTART;VALUE=DATE:20120810
SUMMARY:CCS 2012 Final Version Due
DESCRIPTION:ACM Conference on Computer and Communications Security
URL:http://www.wikicfp.com/cfp/servlet/event.showcfp?eventid=19103&copyow
 nerid=33827
UID:cfp234965-N@wikicfp.com
END:VEVENT
BEGIN:VEVENT
DTSTAMP:20260423T064151Z
DTSTART;VALUE=DATE:20121105
DTEND;VALUE=DATE:20121109
SUMMARY:SmartGridComm 2012
DESCRIPTION:IEEE Third International Conference on Smart Grid Communicati
 ons
URL:http://www.wikicfp.com/cfp/servlet/event.showcfp?eventid=19527&copyow
 nerid=33827
UID:cfp234969-E@wikicfp.com
END:VEVENT
BEGIN:VEVENT
DTSTAMP:20260423T064151Z
DTSTART;VALUE=DATE:20120506
SUMMARY:SmartGridComm 2012 Deadline
DESCRIPTION:IEEE Third International Conference on Smart Grid Communicati
 ons
URL:http://www.wikicfp.com/cfp/servlet/event.showcfp?eventid=19527&copyow
 nerid=33827
UID:cfp234969-D@wikicfp.com
END:VEVENT
BEGIN:VEVENT
DTSTAMP:20260423T064151Z
DTSTART;VALUE=DATE:20120718
SUMMARY:SmartGridComm 2012 Notification Due
DESCRIPTION:IEEE Third International Conference on Smart Grid Communicati
 ons
URL:http://www.wikicfp.com/cfp/servlet/event.showcfp?eventid=19527&copyow
 nerid=33827
UID:cfp234969-N@wikicfp.com
END:VEVENT
BEGIN:VEVENT
DTSTAMP:20260423T064151Z
DTSTART;VALUE=DATE:20120801
SUMMARY:SmartGridComm 2012 Final Version Due
DESCRIPTION:IEEE Third International Conference on Smart Grid Communicati
 ons
URL:http://www.wikicfp.com/cfp/servlet/event.showcfp?eventid=19527&copyow
 nerid=33827
UID:cfp234969-N@wikicfp.com
END:VEVENT
BEGIN:VEVENT
DTSTAMP:20260423T064151Z
DTSTART;VALUE=DATE:20121010
DTEND;VALUE=DATE:20121013
SUMMARY:Cognitive 2012
DESCRIPTION:The second workshop on Cognitive-Inspired Networks\, Systems 
 and Applications
URL:http://www.wikicfp.com/cfp/servlet/event.showcfp?eventid=20505&copyow
 nerid=33827
UID:cfp234974-E@wikicfp.com
END:VEVENT
BEGIN:VEVENT
DTSTAMP:20260423T064151Z
DTSTART;VALUE=DATE:20120515
SUMMARY:Cognitive 2012 Deadline
DESCRIPTION:The second workshop on Cognitive-Inspired Networks\, Systems 
 and Applications
URL:http://www.wikicfp.com/cfp/servlet/event.showcfp?eventid=20505&copyow
 nerid=33827
UID:cfp234974-D@wikicfp.com
END:VEVENT
BEGIN:VEVENT
DTSTAMP:20260423T064151Z
DTSTART;VALUE=DATE:20120615
SUMMARY:Cognitive 2012 Notification Due
DESCRIPTION:The second workshop on Cognitive-Inspired Networks\, Systems 
 and Applications
URL:http://www.wikicfp.com/cfp/servlet/event.showcfp?eventid=20505&copyow
 nerid=33827
UID:cfp234974-N@wikicfp.com
END:VEVENT
BEGIN:VEVENT
DTSTAMP:20260423T064151Z
DTSTART;VALUE=DATE:20120801
SUMMARY:Cognitive 2012 Final Version Due
DESCRIPTION:The second workshop on Cognitive-Inspired Networks\, Systems 
 and Applications
URL:http://www.wikicfp.com/cfp/servlet/event.showcfp?eventid=20505&copyow
 nerid=33827
UID:cfp234974-N@wikicfp.com
END:VEVENT
BEGIN:VEVENT
DTSTAMP:20260423T064151Z
DTSTART;VALUE=DATE:20121008
DTEND;VALUE=DATE:20121011
SUMMARY:WiMob  2012
DESCRIPTION:The 8th IEEE International Conference on Wireless and Mobile 
 Computing\, Networking and Communications (WiMob 2012)
URL:http://www.wikicfp.com/cfp/servlet/event.showcfp?eventid=20089&copyow
 nerid=33827
UID:cfp234972-E@wikicfp.com
END:VEVENT
BEGIN:VEVENT
DTSTAMP:20260423T064151Z
DTSTART;VALUE=DATE:20120601
SUMMARY:WiMob  2012 Deadline
DESCRIPTION:The 8th IEEE International Conference on Wireless and Mobile 
 Computing\, Networking and Communications (WiMob 2012)
URL:http://www.wikicfp.com/cfp/servlet/event.showcfp?eventid=20089&copyow
 nerid=33827
UID:cfp234972-D@wikicfp.com
END:VEVENT
BEGIN:VEVENT
DTSTAMP:20260423T064151Z
DTSTART;VALUE=DATE:20120701
SUMMARY:WiMob  2012 Notification Due
DESCRIPTION:The 8th IEEE International Conference on Wireless and Mobile 
 Computing\, Networking and Communications (WiMob 2012)
URL:http://www.wikicfp.com/cfp/servlet/event.showcfp?eventid=20089&copyow
 nerid=33827
UID:cfp234972-N@wikicfp.com
END:VEVENT
BEGIN:VEVENT
DTSTAMP:20260423T064151Z
DTSTART;VALUE=DATE:20120813
SUMMARY:WiMob  2012 Final Version Due
DESCRIPTION:The 8th IEEE International Conference on Wireless and Mobile 
 Computing\, Networking and Communications (WiMob 2012)
URL:http://www.wikicfp.com/cfp/servlet/event.showcfp?eventid=20089&copyow
 nerid=33827
UID:cfp234972-N@wikicfp.com
END:VEVENT
BEGIN:VEVENT
DTSTAMP:20260423T064151Z
DTSTART;VALUE=DATE:20121203
DTEND;VALUE=DATE:20121207
SUMMARY:APSIPA ASC 2012
DESCRIPTION:Asia-Pacific Signal and Information Processing Association 20
 12 Annual Summit and Conference
URL:http://www.wikicfp.com/cfp/servlet/event.showcfp?eventid=19247&copyow
 nerid=33827
UID:cfp234966-E@wikicfp.com
END:VEVENT
BEGIN:VEVENT
DTSTAMP:20260423T064151Z
DTSTART;VALUE=DATE:20120624
SUMMARY:APSIPA ASC 2012 Deadline
DESCRIPTION:Asia-Pacific Signal and Information Processing Association 20
 12 Annual Summit and Conference
URL:http://www.wikicfp.com/cfp/servlet/event.showcfp?eventid=19247&copyow
 nerid=33827
UID:cfp234966-D@wikicfp.com
END:VEVENT
BEGIN:VEVENT
DTSTAMP:20260423T064151Z
DTSTART;VALUE=DATE:20120830
SUMMARY:APSIPA ASC 2012 Notification Due
DESCRIPTION:Asia-Pacific Signal and Information Processing Association 20
 12 Annual Summit and Conference
URL:http://www.wikicfp.com/cfp/servlet/event.showcfp?eventid=19247&copyow
 nerid=33827
UID:cfp234966-N@wikicfp.com
END:VEVENT
BEGIN:VEVENT
DTSTAMP:20260423T064151Z
DTSTART;VALUE=DATE:20120930
SUMMARY:APSIPA ASC 2012 Final Version Due
DESCRIPTION:Asia-Pacific Signal and Information Processing Association 20
 12 Annual Summit and Conference
URL:http://www.wikicfp.com/cfp/servlet/event.showcfp?eventid=19247&copyow
 nerid=33827
UID:cfp234966-N@wikicfp.com
END:VEVENT
BEGIN:VEVENT
DTSTAMP:20260423T064151Z
DTSTART;VALUE=DATE:20121008
DTEND;VALUE=DATE:20121011
SUMMARY:ICWCA 2012
DESCRIPTION:The IET International Conference on Wireless Communications a
 nd Applications 
URL:http://www.wikicfp.com/cfp/servlet/event.showcfp?eventid=19496&copyow
 nerid=33827
UID:cfp234968-E@wikicfp.com
END:VEVENT
BEGIN:VEVENT
DTSTAMP:20260423T064151Z
DTSTART;VALUE=DATE:20120701
SUMMARY:ICWCA 2012 Deadline
DESCRIPTION:The IET International Conference on Wireless Communications a
 nd Applications 
URL:http://www.wikicfp.com/cfp/servlet/event.showcfp?eventid=19496&copyow
 nerid=33827
UID:cfp234968-D@wikicfp.com
END:VEVENT
BEGIN:VEVENT
DTSTAMP:20260423T064151Z
DTSTART;VALUE=DATE:20120801
SUMMARY:ICWCA 2012 Notification Due
DESCRIPTION:The IET International Conference on Wireless Communications a
 nd Applications 
URL:http://www.wikicfp.com/cfp/servlet/event.showcfp?eventid=19496&copyow
 nerid=33827
UID:cfp234968-N@wikicfp.com
END:VEVENT
BEGIN:VEVENT
DTSTAMP:20260423T064151Z
DTSTART;VALUE=DATE:20120901
SUMMARY:ICWCA 2012 Final Version Due
DESCRIPTION:The IET International Conference on Wireless Communications a
 nd Applications 
URL:http://www.wikicfp.com/cfp/servlet/event.showcfp?eventid=19496&copyow
 nerid=33827
UID:cfp234968-N@wikicfp.com
END:VEVENT
BEGIN:VEVENT
DTSTAMP:20260423T064151Z
DTSTART;VALUE=DATE:20121109
DTEND;VALUE=DATE:20121112
SUMMARY:ICCT 2012
DESCRIPTION:2012 14th IEEE International Conference on Communication Tech
 nology
URL:http://www.wikicfp.com/cfp/servlet/event.showcfp?eventid=19826&copyow
 nerid=33827
UID:cfp234970-E@wikicfp.com
END:VEVENT
BEGIN:VEVENT
DTSTAMP:20260423T064151Z
DTSTART;VALUE=DATE:20120725
SUMMARY:ICCT 2012 Deadline
DESCRIPTION:2012 14th IEEE International Conference on Communication Tech
 nology
URL:http://www.wikicfp.com/cfp/servlet/event.showcfp?eventid=19826&copyow
 nerid=33827
UID:cfp234970-D@wikicfp.com
END:VEVENT
BEGIN:VEVENT
DTSTAMP:20260423T064151Z
DTSTART;VALUE=DATE:20120810
SUMMARY:ICCT 2012 Notification Due
DESCRIPTION:2012 14th IEEE International Conference on Communication Tech
 nology
URL:http://www.wikicfp.com/cfp/servlet/event.showcfp?eventid=19826&copyow
 nerid=33827
UID:cfp234970-N@wikicfp.com
END:VEVENT
BEGIN:VEVENT
DTSTAMP:20260423T064151Z
DTSTART;VALUE=DATE:20120831
SUMMARY:JSAN 2012 Deadline
DESCRIPTION:Journal of Sensor and Actuator Networks Special Issue on Inte
 rnet of Things: Technologies and Applications 
URL:http://www.wikicfp.com/cfp/servlet/event.showcfp?eventid=20594&copyow
 nerid=33827
UID:cfp234975-D@wikicfp.com
END:VEVENT
BEGIN:VEVENT
DTSTAMP:20260423T064151Z
DTSTART;VALUE=DATE:20130609
DTEND;VALUE=DATE:20130614
SUMMARY:ICC 2013
DESCRIPTION:IEEE International Conference on Communications
URL:http://www.wikicfp.com/cfp/servlet/event.showcfp?eventid=13880&copyow
 nerid=33827
UID:cfp234964-E@wikicfp.com
END:VEVENT
BEGIN:VEVENT
DTSTAMP:20260423T064151Z
DTSTART;VALUE=DATE:20121007
SUMMARY:ICC 2013 Deadline
DESCRIPTION:IEEE International Conference on Communications
URL:http://www.wikicfp.com/cfp/servlet/event.showcfp?eventid=13880&copyow
 nerid=33827
UID:cfp234964-D@wikicfp.com
END:VEVENT
BEGIN:VEVENT
DTSTAMP:20260423T064151Z
DTSTART;VALUE=DATE:20130127
SUMMARY:ICC 2013 Notification Due
DESCRIPTION:IEEE International Conference on Communications
URL:http://www.wikicfp.com/cfp/servlet/event.showcfp?eventid=13880&copyow
 nerid=33827
UID:cfp234964-N@wikicfp.com
END:VEVENT
BEGIN:VEVENT
DTSTAMP:20260423T064151Z
DTSTART;VALUE=DATE:20130224
SUMMARY:ICC 2013 Final Version Due
DESCRIPTION:IEEE International Conference on Communications
URL:http://www.wikicfp.com/cfp/servlet/event.showcfp?eventid=13880&copyow
 nerid=33827
UID:cfp234964-N@wikicfp.com
END:VEVENT
END:VCALENDAR
