BEGIN:VCALENDAR
PRODID:-//WikiCFP//freecity 1.0//EN
VERSION:2.0
CALSCALE:GREGORIAN
BEGIN:VEVENT
DTSTAMP:20260423T083308Z
DTSTART;VALUE=DATE:20121216
DTEND;VALUE=DATE:20121220
SUMMARY:ROBIO 2012
DESCRIPTION:IEEE International Conference on Robotics and Biomimetics
URL:http://www.wikicfp.com/cfp/servlet/event.showcfp?eventid=19818&copyow
 nerid=33737
UID:cfp233957-E@wikicfp.com
END:VEVENT
BEGIN:VEVENT
DTSTAMP:20260423T083308Z
DTSTART;VALUE=DATE:20120624
DTEND;VALUE=DATE:20120629
SUMMARY:BioRob 2012
DESCRIPTION:4th IEEE RAS & EMBS International Conference on Biomedical Ro
 botics and Biomechatronics
URL:http://www.wikicfp.com/cfp/servlet/event.showcfp?eventid=15821&copyow
 nerid=33737
UID:cfp233950-E@wikicfp.com
END:VEVENT
BEGIN:VEVENT
DTSTAMP:20260423T083308Z
DTSTART;VALUE=DATE:20120115
SUMMARY:BioRob 2012 Deadline
DESCRIPTION:4th IEEE RAS & EMBS International Conference on Biomedical Ro
 botics and Biomechatronics
URL:http://www.wikicfp.com/cfp/servlet/event.showcfp?eventid=15821&copyow
 nerid=33737
UID:cfp233950-D@wikicfp.com
END:VEVENT
BEGIN:VEVENT
DTSTAMP:20260423T083308Z
DTSTART;VALUE=DATE:20120331
SUMMARY:BioRob 2012 Notification Due
DESCRIPTION:4th IEEE RAS & EMBS International Conference on Biomedical Ro
 botics and Biomechatronics
URL:http://www.wikicfp.com/cfp/servlet/event.showcfp?eventid=15821&copyow
 nerid=33737
UID:cfp233950-N@wikicfp.com
END:VEVENT
BEGIN:VEVENT
DTSTAMP:20260423T083308Z
DTSTART;VALUE=DATE:20120430
SUMMARY:BioRob 2012 Final Version Due
DESCRIPTION:4th IEEE RAS & EMBS International Conference on Biomedical Ro
 botics and Biomechatronics
URL:http://www.wikicfp.com/cfp/servlet/event.showcfp?eventid=15821&copyow
 nerid=33737
UID:cfp233950-N@wikicfp.com
END:VEVENT
BEGIN:VEVENT
DTSTAMP:20260423T083308Z
DTSTART;VALUE=DATE:20120709
DTEND;VALUE=DATE:20120714
SUMMARY:RSS 2012
DESCRIPTION:Robotics Science and Systems (RSS) 2012
URL:http://www.wikicfp.com/cfp/servlet/event.showcfp?eventid=18932&copyow
 nerid=33737
UID:cfp233951-E@wikicfp.com
END:VEVENT
BEGIN:VEVENT
DTSTAMP:20260423T083308Z
DTSTART;VALUE=DATE:20120130
SUMMARY:RSS 2012 Deadline
DESCRIPTION:Robotics Science and Systems (RSS) 2012
URL:http://www.wikicfp.com/cfp/servlet/event.showcfp?eventid=18932&copyow
 nerid=33737
UID:cfp233951-D@wikicfp.com
END:VEVENT
BEGIN:VEVENT
DTSTAMP:20260423T083308Z
DTSTART;VALUE=DATE:20120423
SUMMARY:RSS 2012 Notification Due
DESCRIPTION:Robotics Science and Systems (RSS) 2012
URL:http://www.wikicfp.com/cfp/servlet/event.showcfp?eventid=18932&copyow
 nerid=33737
UID:cfp233951-N@wikicfp.com
END:VEVENT
BEGIN:VEVENT
DTSTAMP:20260423T083308Z
DTSTART;VALUE=DATE:20120827
DTEND;VALUE=DATE:20120901
SUMMARY:ECAI 2012
DESCRIPTION: 20th European Conference on Artificial Intelligence
URL:http://www.wikicfp.com/cfp/servlet/event.showcfp?eventid=11756&copyow
 nerid=33737
UID:cfp233952-E@wikicfp.com
END:VEVENT
BEGIN:VEVENT
DTSTAMP:20260423T083308Z
DTSTART;VALUE=DATE:20120306
SUMMARY:ECAI 2012 Deadline
DESCRIPTION: 20th European Conference on Artificial Intelligence
URL:http://www.wikicfp.com/cfp/servlet/event.showcfp?eventid=11756&copyow
 nerid=33737
UID:cfp233952-D@wikicfp.com
END:VEVENT
BEGIN:VEVENT
DTSTAMP:20260423T083308Z
DTSTART;VALUE=DATE:20120521
SUMMARY:ECAI 2012 Notification Due
DESCRIPTION: 20th European Conference on Artificial Intelligence
URL:http://www.wikicfp.com/cfp/servlet/event.showcfp?eventid=11756&copyow
 nerid=33737
UID:cfp233952-N@wikicfp.com
END:VEVENT
BEGIN:VEVENT
DTSTAMP:20260423T083308Z
DTSTART;VALUE=DATE:20120603
SUMMARY:ECAI 2012 Final Version Due
DESCRIPTION: 20th European Conference on Artificial Intelligence
URL:http://www.wikicfp.com/cfp/servlet/event.showcfp?eventid=11756&copyow
 nerid=33737
UID:cfp233952-N@wikicfp.com
END:VEVENT
BEGIN:VEVENT
DTSTAMP:20260423T083308Z
DTSTART;VALUE=DATE:20121007
DTEND;VALUE=DATE:20121012
SUMMARY:IROS 2012
DESCRIPTION:IEEE/RSJ International Conference on Intelligent Robots and S
 ystems
URL:http://www.wikicfp.com/cfp/servlet/event.showcfp?eventid=16605&copyow
 nerid=33737
UID:cfp233953-E@wikicfp.com
END:VEVENT
BEGIN:VEVENT
DTSTAMP:20260423T083308Z
DTSTART;VALUE=DATE:20120310
SUMMARY:IROS 2012 Deadline
DESCRIPTION:IEEE/RSJ International Conference on Intelligent Robots and S
 ystems
URL:http://www.wikicfp.com/cfp/servlet/event.showcfp?eventid=16605&copyow
 nerid=33737
UID:cfp233953-D@wikicfp.com
END:VEVENT
BEGIN:VEVENT
DTSTAMP:20260423T083308Z
DTSTART;VALUE=DATE:20120608
SUMMARY:IROS 2012 Notification Due
DESCRIPTION:IEEE/RSJ International Conference on Intelligent Robots and S
 ystems
URL:http://www.wikicfp.com/cfp/servlet/event.showcfp?eventid=16605&copyow
 nerid=33737
UID:cfp233953-N@wikicfp.com
END:VEVENT
BEGIN:VEVENT
DTSTAMP:20260423T083308Z
DTSTART;VALUE=DATE:20120707
SUMMARY:IROS 2012 Final Version Due
DESCRIPTION:IEEE/RSJ International Conference on Intelligent Robots and S
 ystems
URL:http://www.wikicfp.com/cfp/servlet/event.showcfp?eventid=16605&copyow
 nerid=33737
UID:cfp233953-N@wikicfp.com
END:VEVENT
BEGIN:VEVENT
DTSTAMP:20260423T083308Z
DTSTART;VALUE=DATE:20121205
DTEND;VALUE=DATE:20121208
SUMMARY:ICARCV 2012
DESCRIPTION:12th International Conference on Control\, Automation\, Robot
 ics and Vision
URL:http://www.wikicfp.com/cfp/servlet/event.showcfp?eventid=18367&copyow
 nerid=33737
UID:cfp233956-E@wikicfp.com
END:VEVENT
BEGIN:VEVENT
DTSTAMP:20260423T083308Z
DTSTART;VALUE=DATE:20120401
SUMMARY:ICARCV 2012 Deadline
DESCRIPTION:12th International Conference on Control\, Automation\, Robot
 ics and Vision
URL:http://www.wikicfp.com/cfp/servlet/event.showcfp?eventid=18367&copyow
 nerid=33737
UID:cfp233956-D@wikicfp.com
END:VEVENT
BEGIN:VEVENT
DTSTAMP:20260423T083308Z
DTSTART;VALUE=DATE:20120701
SUMMARY:ICARCV 2012 Notification Due
DESCRIPTION:12th International Conference on Control\, Automation\, Robot
 ics and Vision
URL:http://www.wikicfp.com/cfp/servlet/event.showcfp?eventid=18367&copyow
 nerid=33737
UID:cfp233956-N@wikicfp.com
END:VEVENT
BEGIN:VEVENT
DTSTAMP:20260423T083308Z
DTSTART;VALUE=DATE:20120901
SUMMARY:ICARCV 2012 Final Version Due
DESCRIPTION:12th International Conference on Control\, Automation\, Robot
 ics and Vision
URL:http://www.wikicfp.com/cfp/servlet/event.showcfp?eventid=18367&copyow
 nerid=33737
UID:cfp233956-N@wikicfp.com
END:VEVENT
BEGIN:VEVENT
DTSTAMP:20260423T083308Z
DTSTART;VALUE=DATE:20120805
DTEND;VALUE=DATE:20120811
SUMMARY:ICMA 2012
DESCRIPTION:IEEE International Conference on Mechatronics and Automation
URL:http://www.wikicfp.com/cfp/servlet/event.showcfp?eventid=11979&copyow
 nerid=33737
UID:cfp233955-E@wikicfp.com
END:VEVENT
BEGIN:VEVENT
DTSTAMP:20260423T083308Z
DTSTART;VALUE=DATE:20120415
SUMMARY:ICMA 2012 Deadline
DESCRIPTION:IEEE International Conference on Mechatronics and Automation
URL:http://www.wikicfp.com/cfp/servlet/event.showcfp?eventid=11979&copyow
 nerid=33737
UID:cfp233955-D@wikicfp.com
END:VEVENT
BEGIN:VEVENT
DTSTAMP:20260423T083308Z
DTSTART;VALUE=DATE:20120515
SUMMARY:ICMA 2012 Notification Due
DESCRIPTION:IEEE International Conference on Mechatronics and Automation
URL:http://www.wikicfp.com/cfp/servlet/event.showcfp?eventid=11979&copyow
 nerid=33737
UID:cfp233955-N@wikicfp.com
END:VEVENT
BEGIN:VEVENT
DTSTAMP:20260423T083308Z
DTSTART;VALUE=DATE:20120601
SUMMARY:ICMA 2012 Final Version Due
DESCRIPTION:IEEE International Conference on Mechatronics and Automation
URL:http://www.wikicfp.com/cfp/servlet/event.showcfp?eventid=11979&copyow
 nerid=33737
UID:cfp233955-N@wikicfp.com
END:VEVENT
BEGIN:VEVENT
DTSTAMP:20260423T083308Z
DTSTART;VALUE=DATE:20121203
DTEND;VALUE=DATE:20121207
SUMMARY:NIPS 2012
DESCRIPTION:Neural Information Processing Systems Conference
URL:http://www.wikicfp.com/cfp/servlet/event.showcfp?eventid=14639&copyow
 nerid=33737
UID:cfp233954-E@wikicfp.com
END:VEVENT
BEGIN:VEVENT
DTSTAMP:20260423T083308Z
DTSTART;VALUE=DATE:20120601
SUMMARY:NIPS 2012 Deadline
DESCRIPTION:Neural Information Processing Systems Conference
URL:http://www.wikicfp.com/cfp/servlet/event.showcfp?eventid=14639&copyow
 nerid=33737
UID:cfp233954-D@wikicfp.com
END:VEVENT
BEGIN:VEVENT
DTSTAMP:20260423T083308Z
DTSTART;VALUE=DATE:20120903
SUMMARY:NIPS 2012 Notification Due
DESCRIPTION:Neural Information Processing Systems Conference
URL:http://www.wikicfp.com/cfp/servlet/event.showcfp?eventid=14639&copyow
 nerid=33737
UID:cfp233954-N@wikicfp.com
END:VEVENT
BEGIN:VEVENT
DTSTAMP:20260423T083308Z
DTSTART;VALUE=DATE:20130506
DTEND;VALUE=DATE:20130511
SUMMARY:ICRA 2013
DESCRIPTION:The 2013 IEEE International Conference on Robotics and Automa
 tion 
URL:http://www.wikicfp.com/cfp/servlet/event.showcfp?eventid=18929&copyow
 nerid=33737
UID:cfp233958-E@wikicfp.com
END:VEVENT
BEGIN:VEVENT
DTSTAMP:20260423T083308Z
DTSTART;VALUE=DATE:20120917
SUMMARY:ICRA 2013 Deadline
DESCRIPTION:The 2013 IEEE International Conference on Robotics and Automa
 tion 
URL:http://www.wikicfp.com/cfp/servlet/event.showcfp?eventid=18929&copyow
 nerid=33737
UID:cfp233958-D@wikicfp.com
END:VEVENT
BEGIN:VEVENT
DTSTAMP:20260423T083308Z
DTSTART;VALUE=DATE:20130107
SUMMARY:ICRA 2013 Notification Due
DESCRIPTION:The 2013 IEEE International Conference on Robotics and Automa
 tion 
URL:http://www.wikicfp.com/cfp/servlet/event.showcfp?eventid=18929&copyow
 nerid=33737
UID:cfp233958-N@wikicfp.com
END:VEVENT
BEGIN:VEVENT
DTSTAMP:20260423T083308Z
DTSTART;VALUE=DATE:20130211
SUMMARY:ICRA 2013 Final Version Due
DESCRIPTION:The 2013 IEEE International Conference on Robotics and Automa
 tion 
URL:http://www.wikicfp.com/cfp/servlet/event.showcfp?eventid=18929&copyow
 nerid=33737
UID:cfp233958-N@wikicfp.com
END:VEVENT
END:VCALENDAR
