BEGIN:VCALENDAR
PRODID:-//WikiCFP//netlab 1.0//EN
VERSION:2.0
CALSCALE:GREGORIAN
BEGIN:VEVENT
DTSTAMP:20260425T013410Z
DTSTART;VALUE=DATE:20090303
DTEND;VALUE=DATE:20090308
SUMMARY:SIGCSE 2009
DESCRIPTION:The 40th ACM Technical Symposium on Computer Science Educatio
 n
URL:http://www.wikicfp.com/cfp/servlet/event.showcfp?eventid=1311&copyown
 erid=3349
UID:cfp27334-E@wikicfp.com
END:VEVENT
BEGIN:VEVENT
DTSTAMP:20260425T013410Z
DTSTART;VALUE=DATE:20090611
DTEND;VALUE=DATE:20090614
SUMMARY:iCBBE 2009
DESCRIPTION:3rd International Conference on Bioinformatics and Biomedical
  Engineering
URL:http://www.wikicfp.com/cfp/servlet/event.showcfp?eventid=3451&copyown
 erid=3349
UID:cfp27342-E@wikicfp.com
END:VEVENT
BEGIN:VEVENT
DTSTAMP:20260425T013410Z
DTSTART;VALUE=DATE:20081130
SUMMARY:iCBBE 2009 Deadline
DESCRIPTION:3rd International Conference on Bioinformatics and Biomedical
  Engineering
URL:http://www.wikicfp.com/cfp/servlet/event.showcfp?eventid=3451&copyown
 erid=3349
UID:cfp27342-D@wikicfp.com
END:VEVENT
BEGIN:VEVENT
DTSTAMP:20260425T013410Z
DTSTART;VALUE=DATE:20090210
SUMMARY:iCBBE 2009 Notification Due
DESCRIPTION:3rd International Conference on Bioinformatics and Biomedical
  Engineering
URL:http://www.wikicfp.com/cfp/servlet/event.showcfp?eventid=3451&copyown
 erid=3349
UID:cfp27342-N@wikicfp.com
END:VEVENT
BEGIN:VEVENT
DTSTAMP:20260425T013410Z
DTSTART;VALUE=DATE:20090622
DTEND;VALUE=DATE:20090627
SUMMARY:ED-MEDIA 2009
DESCRIPTION:ED-MEDIA - World Conference on Educational Multimedia\, Hyper
 media & Telecommunications 2009
URL:http://www.wikicfp.com/cfp/servlet/event.showcfp?eventid=3849&copyown
 erid=3349
UID:cfp27335-E@wikicfp.com
END:VEVENT
BEGIN:VEVENT
DTSTAMP:20260425T013410Z
DTSTART;VALUE=DATE:20081219
SUMMARY:ED-MEDIA 2009 Deadline
DESCRIPTION:ED-MEDIA - World Conference on Educational Multimedia\, Hyper
 media & Telecommunications 2009
URL:http://www.wikicfp.com/cfp/servlet/event.showcfp?eventid=3849&copyown
 erid=3349
UID:cfp27335-D@wikicfp.com
END:VEVENT
BEGIN:VEVENT
DTSTAMP:20260425T013410Z
DTSTART;VALUE=DATE:20090802
DTEND;VALUE=DATE:20090808
SUMMARY:ACL-IJCNLP 2009
DESCRIPTION:The 47th Annual Meeting of the Association for Computational 
 Linguistics (ACL) and the 4th IJCNLP
URL:http://www.wikicfp.com/cfp/servlet/event.showcfp?eventid=3801&copyown
 erid=3349
UID:cfp27336-E@wikicfp.com
END:VEVENT
BEGIN:VEVENT
DTSTAMP:20260425T013410Z
DTSTART;VALUE=DATE:20090222
SUMMARY:ACL-IJCNLP 2009 Deadline
DESCRIPTION:The 47th Annual Meeting of the Association for Computational 
 Linguistics (ACL) and the 4th IJCNLP
URL:http://www.wikicfp.com/cfp/servlet/event.showcfp?eventid=3801&copyown
 erid=3349
UID:cfp27336-D@wikicfp.com
END:VEVENT
BEGIN:VEVENT
DTSTAMP:20260425T013410Z
DTSTART;VALUE=DATE:20090412
SUMMARY:ACL-IJCNLP 2009 Notification Due
DESCRIPTION:The 47th Annual Meeting of the Association for Computational 
 Linguistics (ACL) and the 4th IJCNLP
URL:http://www.wikicfp.com/cfp/servlet/event.showcfp?eventid=3801&copyown
 erid=3349
UID:cfp27336-N@wikicfp.com
END:VEVENT
BEGIN:VEVENT
DTSTAMP:20260425T013410Z
DTSTART;VALUE=DATE:20090517
SUMMARY:ACL-IJCNLP 2009 Final Version Due
DESCRIPTION:The 47th Annual Meeting of the Association for Computational 
 Linguistics (ACL) and the 4th IJCNLP
URL:http://www.wikicfp.com/cfp/servlet/event.showcfp?eventid=3801&copyown
 erid=3349
UID:cfp27336-N@wikicfp.com
END:VEVENT
BEGIN:VEVENT
DTSTAMP:20260425T013410Z
DTSTART;VALUE=DATE:20090624
DTEND;VALUE=DATE:20090627
SUMMARY:ICMIBE 2009
DESCRIPTION:International conference on Medical Informatics and Biomedica
 l Engineering
URL:http://www.wikicfp.com/cfp/servlet/event.showcfp?eventid=4694&copyown
 erid=3349
UID:cfp27346-E@wikicfp.com
END:VEVENT
BEGIN:VEVENT
DTSTAMP:20260425T013410Z
DTSTART;VALUE=DATE:20090228
SUMMARY:ICMIBE 2009 Deadline
DESCRIPTION:International conference on Medical Informatics and Biomedica
 l Engineering
URL:http://www.wikicfp.com/cfp/servlet/event.showcfp?eventid=4694&copyown
 erid=3349
UID:cfp27346-D@wikicfp.com
END:VEVENT
BEGIN:VEVENT
DTSTAMP:20260425T013410Z
DTSTART;VALUE=DATE:20090331
SUMMARY:ICMIBE 2009 Notification Due
DESCRIPTION:International conference on Medical Informatics and Biomedica
 l Engineering
URL:http://www.wikicfp.com/cfp/servlet/event.showcfp?eventid=4694&copyown
 erid=3349
UID:cfp27346-N@wikicfp.com
END:VEVENT
BEGIN:VEVENT
DTSTAMP:20260425T013410Z
DTSTART;VALUE=DATE:20090430
SUMMARY:ICMIBE 2009 Final Version Due
DESCRIPTION:International conference on Medical Informatics and Biomedica
 l Engineering
URL:http://www.wikicfp.com/cfp/servlet/event.showcfp?eventid=4694&copyown
 erid=3349
UID:cfp27346-N@wikicfp.com
END:VEVENT
BEGIN:VEVENT
DTSTAMP:20260425T013410Z
DTSTART;VALUE=DATE:20090902
DTEND;VALUE=DATE:20090907
SUMMARY:EMBC 2009
DESCRIPTION:31st Annual International Conference of the IEEE Engineering 
 in Medicine and Biology Society
URL:http://www.wikicfp.com/cfp/servlet/event.showcfp?eventid=3434&copyown
 erid=3349
UID:cfp27337-E@wikicfp.com
END:VEVENT
BEGIN:VEVENT
DTSTAMP:20260425T013410Z
DTSTART;VALUE=DATE:20090407
SUMMARY:EMBC 2009 Deadline
DESCRIPTION:31st Annual International Conference of the IEEE Engineering 
 in Medicine and Biology Society
URL:http://www.wikicfp.com/cfp/servlet/event.showcfp?eventid=3434&copyown
 erid=3349
UID:cfp27337-D@wikicfp.com
END:VEVENT
BEGIN:VEVENT
DTSTAMP:20260425T013410Z
DTSTART;VALUE=DATE:20100610
DTEND;VALUE=DATE:20100613
SUMMARY:iCBBE 2010
DESCRIPTION:4th International Conference on Bioinformatics and Biomedical
  Engineering
URL:http://www.wikicfp.com/cfp/servlet/event.showcfp?eventid=4043&copyown
 erid=3349
UID:cfp27343-E@wikicfp.com
END:VEVENT
BEGIN:VEVENT
DTSTAMP:20260425T013410Z
DTSTART;VALUE=DATE:20091031
SUMMARY:iCBBE 2010 Deadline
DESCRIPTION:4th International Conference on Bioinformatics and Biomedical
  Engineering
URL:http://www.wikicfp.com/cfp/servlet/event.showcfp?eventid=4043&copyown
 erid=3349
UID:cfp27343-D@wikicfp.com
END:VEVENT
BEGIN:VEVENT
DTSTAMP:20260425T013410Z
DTSTART;VALUE=DATE:20091231
SUMMARY:iCBBE 2010 Notification Due
DESCRIPTION:4th International Conference on Bioinformatics and Biomedical
  Engineering
URL:http://www.wikicfp.com/cfp/servlet/event.showcfp?eventid=4043&copyown
 erid=3349
UID:cfp27343-N@wikicfp.com
END:VEVENT
BEGIN:VEVENT
DTSTAMP:20260425T013410Z
DTSTART;VALUE=DATE:20100115
SUMMARY:iCBBE 2010 Final Version Due
DESCRIPTION:4th International Conference on Bioinformatics and Biomedical
  Engineering
URL:http://www.wikicfp.com/cfp/servlet/event.showcfp?eventid=4043&copyown
 erid=3349
UID:cfp27343-N@wikicfp.com
END:VEVENT
END:VCALENDAR
