BEGIN:VCALENDAR
PRODID:-//WikiCFP//kniranjansingh 1.0//EN
VERSION:2.0
CALSCALE:GREGORIAN
BEGIN:VEVENT
DTSTAMP:20260424T071735Z
DTSTART;VALUE=DATE:20110718
DTEND;VALUE=DATE:20110722
SUMMARY:SERP 2011
DESCRIPTION:The 2011 International Conference on Software Engineering Res
 earch and Practice
URL:http://www.wikicfp.com/cfp/servlet/event.showcfp?eventid=13434&copyow
 nerid=33336
UID:cfp231216-E@wikicfp.com
END:VEVENT
BEGIN:VEVENT
DTSTAMP:20260424T071735Z
DTSTART;VALUE=DATE:20110310
SUMMARY:SERP 2011 Deadline
DESCRIPTION:The 2011 International Conference on Software Engineering Res
 earch and Practice
URL:http://www.wikicfp.com/cfp/servlet/event.showcfp?eventid=13434&copyow
 nerid=33336
UID:cfp231216-D@wikicfp.com
END:VEVENT
BEGIN:VEVENT
DTSTAMP:20260424T071735Z
DTSTART;VALUE=DATE:20110620
DTEND;VALUE=DATE:20110621
SUMMARY:VARSA 2011
DESCRIPTION:1st International Workshop on Variability in Software Archite
 cture @ WICSA2011
URL:http://www.wikicfp.com/cfp/servlet/event.showcfp?eventid=14841&copyow
 nerid=33336
UID:cfp231217-E@wikicfp.com
END:VEVENT
BEGIN:VEVENT
DTSTAMP:20260424T071735Z
DTSTART;VALUE=DATE:20110325
SUMMARY:VARSA 2011 Deadline
DESCRIPTION:1st International Workshop on Variability in Software Archite
 cture @ WICSA2011
URL:http://www.wikicfp.com/cfp/servlet/event.showcfp?eventid=14841&copyow
 nerid=33336
UID:cfp231217-D@wikicfp.com
END:VEVENT
BEGIN:VEVENT
DTSTAMP:20260424T071735Z
DTSTART;VALUE=DATE:20110418
SUMMARY:VARSA 2011 Notification Due
DESCRIPTION:1st International Workshop on Variability in Software Archite
 cture @ WICSA2011
URL:http://www.wikicfp.com/cfp/servlet/event.showcfp?eventid=14841&copyow
 nerid=33336
UID:cfp231217-N@wikicfp.com
END:VEVENT
BEGIN:VEVENT
DTSTAMP:20260424T071735Z
DTSTART;VALUE=DATE:20110422
SUMMARY:VARSA 2011 Final Version Due
DESCRIPTION:1st International Workshop on Variability in Software Archite
 cture @ WICSA2011
URL:http://www.wikicfp.com/cfp/servlet/event.showcfp?eventid=14841&copyow
 nerid=33336
UID:cfp231217-N@wikicfp.com
END:VEVENT
BEGIN:VEVENT
DTSTAMP:20260424T071735Z
DTSTART;VALUE=DATE:20110913
DTEND;VALUE=DATE:20110917
SUMMARY:ECSA 2011
DESCRIPTION:5th European Conference on Software Architecture
URL:http://www.wikicfp.com/cfp/servlet/event.showcfp?eventid=12506&copyow
 nerid=33336
UID:cfp231215-E@wikicfp.com
END:VEVENT
BEGIN:VEVENT
DTSTAMP:20260424T071735Z
DTSTART;VALUE=DATE:20110403
SUMMARY:ECSA 2011 Abstract Due
DESCRIPTION:5th European Conference on Software Architecture
URL:http://www.wikicfp.com/cfp/servlet/event.showcfp?eventid=12506&copyow
 nerid=33336
UID:cfp231215-A@wikicfp.com
END:VEVENT
BEGIN:VEVENT
DTSTAMP:20260424T071735Z
DTSTART;VALUE=DATE:20110410
SUMMARY:ECSA 2011 Deadline
DESCRIPTION:5th European Conference on Software Architecture
URL:http://www.wikicfp.com/cfp/servlet/event.showcfp?eventid=12506&copyow
 nerid=33336
UID:cfp231215-D@wikicfp.com
END:VEVENT
BEGIN:VEVENT
DTSTAMP:20260424T071735Z
DTSTART;VALUE=DATE:20110525
SUMMARY:ECSA 2011 Notification Due
DESCRIPTION:5th European Conference on Software Architecture
URL:http://www.wikicfp.com/cfp/servlet/event.showcfp?eventid=12506&copyow
 nerid=33336
UID:cfp231215-N@wikicfp.com
END:VEVENT
BEGIN:VEVENT
DTSTAMP:20260424T071735Z
DTSTART;VALUE=DATE:20110625
SUMMARY:ECSA 2011 Final Version Due
DESCRIPTION:5th European Conference on Software Architecture
URL:http://www.wikicfp.com/cfp/servlet/event.showcfp?eventid=12506&copyow
 nerid=33336
UID:cfp231215-N@wikicfp.com
END:VEVENT
BEGIN:VEVENT
DTSTAMP:20260424T071735Z
DTSTART;VALUE=DATE:20110905
DTEND;VALUE=DATE:20110906
SUMMARY:C4E 2011
DESCRIPTION:The International Workshop on Clouds for Enterprises
URL:http://www.wikicfp.com/cfp/servlet/event.showcfp?eventid=16784&copyow
 nerid=33336
UID:cfp231218-E@wikicfp.com
END:VEVENT
BEGIN:VEVENT
DTSTAMP:20260424T071735Z
DTSTART;VALUE=DATE:20110620
SUMMARY:C4E 2011 Deadline
DESCRIPTION:The International Workshop on Clouds for Enterprises
URL:http://www.wikicfp.com/cfp/servlet/event.showcfp?eventid=16784&copyow
 nerid=33336
UID:cfp231218-D@wikicfp.com
END:VEVENT
BEGIN:VEVENT
DTSTAMP:20260424T071735Z
DTSTART;VALUE=DATE:20110704
SUMMARY:C4E 2011 Notification Due
DESCRIPTION:The International Workshop on Clouds for Enterprises
URL:http://www.wikicfp.com/cfp/servlet/event.showcfp?eventid=16784&copyow
 nerid=33336
UID:cfp231218-N@wikicfp.com
END:VEVENT
BEGIN:VEVENT
DTSTAMP:20260424T071735Z
DTSTART;VALUE=DATE:20120521
DTEND;VALUE=DATE:20120526
SUMMARY:CloudFlow 2012
DESCRIPTION:First International Workshop on Workflow Models\, Systems\, S
 ervices and Applications in the Cloud
URL:http://www.wikicfp.com/cfp/servlet/event.showcfp?eventid=18852&copyow
 nerid=33336
UID:cfp231224-E@wikicfp.com
END:VEVENT
BEGIN:VEVENT
DTSTAMP:20260424T071735Z
DTSTART;VALUE=DATE:20120109
SUMMARY:CloudFlow 2012 Deadline
DESCRIPTION:First International Workshop on Workflow Models\, Systems\, S
 ervices and Applications in the Cloud
URL:http://www.wikicfp.com/cfp/servlet/event.showcfp?eventid=18852&copyow
 nerid=33336
UID:cfp231224-D@wikicfp.com
END:VEVENT
BEGIN:VEVENT
DTSTAMP:20260424T071735Z
DTSTART;VALUE=DATE:20120521
DTEND;VALUE=DATE:20120526
SUMMARY:IPDPSW 2012
DESCRIPTION:IPDPS Workshops 2012 
URL:http://www.wikicfp.com/cfp/servlet/event.showcfp?eventid=19687&copyow
 nerid=33336
UID:cfp231231-E@wikicfp.com
END:VEVENT
BEGIN:VEVENT
DTSTAMP:20260424T071735Z
DTSTART;VALUE=DATE:20120109
SUMMARY:IPDPSW 2012 Deadline
DESCRIPTION:IPDPS Workshops 2012 
URL:http://www.wikicfp.com/cfp/servlet/event.showcfp?eventid=19687&copyow
 nerid=33336
UID:cfp231231-D@wikicfp.com
END:VEVENT
BEGIN:VEVENT
DTSTAMP:20260424T071735Z
DTSTART;VALUE=DATE:20120201
SUMMARY:IPDPSW 2012 Notification Due
DESCRIPTION:IPDPS Workshops 2012 
URL:http://www.wikicfp.com/cfp/servlet/event.showcfp?eventid=19687&copyow
 nerid=33336
UID:cfp231231-N@wikicfp.com
END:VEVENT
BEGIN:VEVENT
DTSTAMP:20260424T071735Z
DTSTART;VALUE=DATE:20120221
SUMMARY:IPDPSW 2012 Final Version Due
DESCRIPTION:IPDPS Workshops 2012 
URL:http://www.wikicfp.com/cfp/servlet/event.showcfp?eventid=19687&copyow
 nerid=33336
UID:cfp231231-N@wikicfp.com
END:VEVENT
BEGIN:VEVENT
DTSTAMP:20260424T071735Z
DTSTART;VALUE=DATE:20120410
DTEND;VALUE=DATE:20120411
SUMMARY:HotCDP 2012
DESCRIPTION:First International Workshop on Hot Topics in Cloud Data Proc
 essing 
URL:http://www.wikicfp.com/cfp/servlet/event.showcfp?eventid=19556&copyow
 nerid=33336
UID:cfp231230-E@wikicfp.com
END:VEVENT
BEGIN:VEVENT
DTSTAMP:20260424T071735Z
DTSTART;VALUE=DATE:20120116
SUMMARY:HotCDP 2012 Deadline
DESCRIPTION:First International Workshop on Hot Topics in Cloud Data Proc
 essing 
URL:http://www.wikicfp.com/cfp/servlet/event.showcfp?eventid=19556&copyow
 nerid=33336
UID:cfp231230-D@wikicfp.com
END:VEVENT
BEGIN:VEVENT
DTSTAMP:20260424T071735Z
DTSTART;VALUE=DATE:20120227
SUMMARY:HotCDP 2012 Notification Due
DESCRIPTION:First International Workshop on Hot Topics in Cloud Data Proc
 essing 
URL:http://www.wikicfp.com/cfp/servlet/event.showcfp?eventid=19556&copyow
 nerid=33336
UID:cfp231230-N@wikicfp.com
END:VEVENT
BEGIN:VEVENT
DTSTAMP:20260424T071735Z
DTSTART;VALUE=DATE:20120410
SUMMARY:HotCDP 2012 Final Version Due
DESCRIPTION:First International Workshop on Hot Topics in Cloud Data Proc
 essing 
URL:http://www.wikicfp.com/cfp/servlet/event.showcfp?eventid=19556&copyow
 nerid=33336
UID:cfp231230-N@wikicfp.com
END:VEVENT
BEGIN:VEVENT
DTSTAMP:20260424T071735Z
DTSTART;VALUE=DATE:20120509
DTEND;VALUE=DATE:20120511
SUMMARY:SecureCloud 2012 2012
DESCRIPTION:SecureCloud 2012
URL:http://www.wikicfp.com/cfp/servlet/event.showcfp?eventid=20105&copyow
 nerid=33336
UID:cfp231235-E@wikicfp.com
END:VEVENT
BEGIN:VEVENT
DTSTAMP:20260424T071735Z
DTSTART;VALUE=DATE:20120120
SUMMARY:SecureCloud 2012 2012 Deadline
DESCRIPTION:SecureCloud 2012
URL:http://www.wikicfp.com/cfp/servlet/event.showcfp?eventid=20105&copyow
 nerid=33336
UID:cfp231235-D@wikicfp.com
END:VEVENT
BEGIN:VEVENT
DTSTAMP:20260424T071735Z
DTSTART;VALUE=DATE:20120201
SUMMARY:SecureCloud 2012 2012 Notification Due
DESCRIPTION:SecureCloud 2012
URL:http://www.wikicfp.com/cfp/servlet/event.showcfp?eventid=20105&copyow
 nerid=33336
UID:cfp231235-N@wikicfp.com
END:VEVENT
BEGIN:VEVENT
DTSTAMP:20260424T071735Z
DTSTART;VALUE=DATE:20120501
SUMMARY:SecureCloud 2012 2012 Final Version Due
DESCRIPTION:SecureCloud 2012
URL:http://www.wikicfp.com/cfp/servlet/event.showcfp?eventid=20105&copyow
 nerid=33336
UID:cfp231235-N@wikicfp.com
END:VEVENT
BEGIN:VEVENT
DTSTAMP:20260424T071735Z
DTSTART;VALUE=DATE:20120513
DTEND;VALUE=DATE:20120515
SUMMARY:CCOPT 2012
DESCRIPTION:Workshop on Cloud Computing Optimization (@ CCGRID 2012)
URL:http://www.wikicfp.com/cfp/servlet/event.showcfp?eventid=20000&copyow
 nerid=33336
UID:cfp231233-E@wikicfp.com
END:VEVENT
BEGIN:VEVENT
DTSTAMP:20260424T071735Z
DTSTART;VALUE=DATE:20120123
SUMMARY:CCOPT 2012 Deadline
DESCRIPTION:Workshop on Cloud Computing Optimization (@ CCGRID 2012)
URL:http://www.wikicfp.com/cfp/servlet/event.showcfp?eventid=20000&copyow
 nerid=33336
UID:cfp231233-D@wikicfp.com
END:VEVENT
BEGIN:VEVENT
DTSTAMP:20260424T071735Z
DTSTART;VALUE=DATE:20120215
SUMMARY:CCOPT 2012 Notification Due
DESCRIPTION:Workshop on Cloud Computing Optimization (@ CCGRID 2012)
URL:http://www.wikicfp.com/cfp/servlet/event.showcfp?eventid=20000&copyow
 nerid=33336
UID:cfp231233-N@wikicfp.com
END:VEVENT
BEGIN:VEVENT
DTSTAMP:20260424T071735Z
DTSTART;VALUE=DATE:20120227
SUMMARY:CCOPT 2012 Final Version Due
DESCRIPTION:Workshop on Cloud Computing Optimization (@ CCGRID 2012)
URL:http://www.wikicfp.com/cfp/servlet/event.showcfp?eventid=20000&copyow
 nerid=33336
UID:cfp231233-N@wikicfp.com
END:VEVENT
BEGIN:VEVENT
DTSTAMP:20260424T071735Z
DTSTART;VALUE=DATE:20120508
DTEND;VALUE=DATE:20120509
SUMMARY:EWDCC 2012
DESCRIPTION:1st European Workshop on Dependable Cloud Computing
URL:http://www.wikicfp.com/cfp/servlet/event.showcfp?eventid=19351&copyow
 nerid=33336
UID:cfp231225-E@wikicfp.com
END:VEVENT
BEGIN:VEVENT
DTSTAMP:20260424T071735Z
DTSTART;VALUE=DATE:20120127
SUMMARY:EWDCC 2012 Deadline
DESCRIPTION:1st European Workshop on Dependable Cloud Computing
URL:http://www.wikicfp.com/cfp/servlet/event.showcfp?eventid=19351&copyow
 nerid=33336
UID:cfp231225-D@wikicfp.com
END:VEVENT
BEGIN:VEVENT
DTSTAMP:20260424T071735Z
DTSTART;VALUE=DATE:20120314
SUMMARY:EWDCC 2012 Notification Due
DESCRIPTION:1st European Workshop on Dependable Cloud Computing
URL:http://www.wikicfp.com/cfp/servlet/event.showcfp?eventid=19351&copyow
 nerid=33336
UID:cfp231225-N@wikicfp.com
END:VEVENT
BEGIN:VEVENT
DTSTAMP:20260424T071735Z
DTSTART;VALUE=DATE:20120320
SUMMARY:EWDCC 2012 Final Version Due
DESCRIPTION:1st European Workshop on Dependable Cloud Computing
URL:http://www.wikicfp.com/cfp/servlet/event.showcfp?eventid=19351&copyow
 nerid=33336
UID:cfp231225-N@wikicfp.com
END:VEVENT
BEGIN:VEVENT
DTSTAMP:20260424T071735Z
DTSTART;VALUE=DATE:20120511
DTEND;VALUE=DATE:20120514
SUMMARY:GPC 2012
DESCRIPTION:The 7th International Conference on Grid and Pervasive Comput
 ing
URL:http://www.wikicfp.com/cfp/servlet/event.showcfp?eventid=19516&copyow
 nerid=33336
UID:cfp231229-E@wikicfp.com
END:VEVENT
BEGIN:VEVENT
DTSTAMP:20260424T071735Z
DTSTART;VALUE=DATE:20120129
SUMMARY:GPC 2012 Deadline
DESCRIPTION:The 7th International Conference on Grid and Pervasive Comput
 ing
URL:http://www.wikicfp.com/cfp/servlet/event.showcfp?eventid=19516&copyow
 nerid=33336
UID:cfp231229-D@wikicfp.com
END:VEVENT
BEGIN:VEVENT
DTSTAMP:20260424T071735Z
DTSTART;VALUE=DATE:20120219
SUMMARY:GPC 2012 Notification Due
DESCRIPTION:The 7th International Conference on Grid and Pervasive Comput
 ing
URL:http://www.wikicfp.com/cfp/servlet/event.showcfp?eventid=19516&copyow
 nerid=33336
UID:cfp231229-N@wikicfp.com
END:VEVENT
BEGIN:VEVENT
DTSTAMP:20260424T071735Z
DTSTART;VALUE=DATE:20120304
SUMMARY:GPC 2012 Final Version Due
DESCRIPTION:The 7th International Conference on Grid and Pervasive Comput
 ing
URL:http://www.wikicfp.com/cfp/servlet/event.showcfp?eventid=19516&copyow
 nerid=33336
UID:cfp231229-N@wikicfp.com
END:VEVENT
BEGIN:VEVENT
DTSTAMP:20260424T071735Z
DTSTART;VALUE=DATE:20120218
DTEND;VALUE=DATE:20120222
SUMMARY:ECCSS 2012
DESCRIPTION:1st International Workshop on Enterprise Cloud Computing: Sol
 utions and Strategies - ECCSS@ CLOSER 2012
URL:http://www.wikicfp.com/cfp/servlet/event.showcfp?eventid=19361&copyow
 nerid=33336
UID:cfp231226-E@wikicfp.com
END:VEVENT
BEGIN:VEVENT
DTSTAMP:20260424T071735Z
DTSTART;VALUE=DATE:20120201
SUMMARY:ECCSS 2012 Deadline
DESCRIPTION:1st International Workshop on Enterprise Cloud Computing: Sol
 utions and Strategies - ECCSS@ CLOSER 2012
URL:http://www.wikicfp.com/cfp/servlet/event.showcfp?eventid=19361&copyow
 nerid=33336
UID:cfp231226-D@wikicfp.com
END:VEVENT
BEGIN:VEVENT
DTSTAMP:20260424T071735Z
DTSTART;VALUE=DATE:20120224
SUMMARY:ECCSS 2012 Notification Due
DESCRIPTION:1st International Workshop on Enterprise Cloud Computing: Sol
 utions and Strategies - ECCSS@ CLOSER 2012
URL:http://www.wikicfp.com/cfp/servlet/event.showcfp?eventid=19361&copyow
 nerid=33336
UID:cfp231226-N@wikicfp.com
END:VEVENT
BEGIN:VEVENT
DTSTAMP:20260424T071735Z
DTSTART;VALUE=DATE:20120308
SUMMARY:ECCSS 2012 Final Version Due
DESCRIPTION:1st International Workshop on Enterprise Cloud Computing: Sol
 utions and Strategies - ECCSS@ CLOSER 2012
URL:http://www.wikicfp.com/cfp/servlet/event.showcfp?eventid=19361&copyow
 nerid=33336
UID:cfp231226-N@wikicfp.com
END:VEVENT
BEGIN:VEVENT
DTSTAMP:20260424T071735Z
DTSTART;VALUE=DATE:20120513
DTEND;VALUE=DATE:20120517
SUMMARY:PCOMSC  2012
DESCRIPTION:Workshop on Policies for Configuring and Operating Management
  Services in a Cloud
URL:http://www.wikicfp.com/cfp/servlet/event.showcfp?eventid=19865&copyow
 nerid=33336
UID:cfp231232-E@wikicfp.com
END:VEVENT
BEGIN:VEVENT
DTSTAMP:20260424T071735Z
DTSTART;VALUE=DATE:20120207
SUMMARY:PCOMSC  2012 Deadline
DESCRIPTION:Workshop on Policies for Configuring and Operating Management
  Services in a Cloud
URL:http://www.wikicfp.com/cfp/servlet/event.showcfp?eventid=19865&copyow
 nerid=33336
UID:cfp231232-D@wikicfp.com
END:VEVENT
BEGIN:VEVENT
DTSTAMP:20260424T071735Z
DTSTART;VALUE=DATE:20120219
SUMMARY:PCOMSC  2012 Notification Due
DESCRIPTION:Workshop on Policies for Configuring and Operating Management
  Services in a Cloud
URL:http://www.wikicfp.com/cfp/servlet/event.showcfp?eventid=19865&copyow
 nerid=33336
UID:cfp231232-N@wikicfp.com
END:VEVENT
BEGIN:VEVENT
DTSTAMP:20260424T071735Z
DTSTART;VALUE=DATE:20120304
SUMMARY:PCOMSC  2012 Final Version Due
DESCRIPTION:Workshop on Policies for Configuring and Operating Management
  Services in a Cloud
URL:http://www.wikicfp.com/cfp/servlet/event.showcfp?eventid=19865&copyow
 nerid=33336
UID:cfp231232-N@wikicfp.com
END:VEVENT
BEGIN:VEVENT
DTSTAMP:20260424T071735Z
DTSTART;VALUE=DATE:20120215
SUMMARY:FoSECLOUD 2012 Abstract Due
DESCRIPTION:JSS Special Issue on: The Future of Software Engineering FOR/
 IN the Cloud - FoSECloud
URL:http://www.wikicfp.com/cfp/servlet/event.showcfp?eventid=18763&copyow
 nerid=33336
UID:cfp231220-A@wikicfp.com
END:VEVENT
BEGIN:VEVENT
DTSTAMP:20260424T071735Z
DTSTART;VALUE=DATE:20120301
SUMMARY:FoSECLOUD 2012 Deadline
DESCRIPTION:JSS Special Issue on: The Future of Software Engineering FOR/
 IN the Cloud - FoSECloud
URL:http://www.wikicfp.com/cfp/servlet/event.showcfp?eventid=18763&copyow
 nerid=33336
UID:cfp231220-D@wikicfp.com
END:VEVENT
BEGIN:VEVENT
DTSTAMP:20260424T071735Z
DTSTART;VALUE=DATE:20120515
SUMMARY:FoSECLOUD 2012 Notification Due
DESCRIPTION:JSS Special Issue on: The Future of Software Engineering FOR/
 IN the Cloud - FoSECloud
URL:http://www.wikicfp.com/cfp/servlet/event.showcfp?eventid=18763&copyow
 nerid=33336
UID:cfp231220-N@wikicfp.com
END:VEVENT
BEGIN:VEVENT
DTSTAMP:20260424T071735Z
DTSTART;VALUE=DATE:20121015
SUMMARY:FoSECLOUD 2012 Final Version Due
DESCRIPTION:JSS Special Issue on: The Future of Software Engineering FOR/
 IN the Cloud - FoSECloud
URL:http://www.wikicfp.com/cfp/servlet/event.showcfp?eventid=18763&copyow
 nerid=33336
UID:cfp231220-N@wikicfp.com
END:VEVENT
BEGIN:VEVENT
DTSTAMP:20260424T071735Z
DTSTART;VALUE=DATE:20120302
SUMMARY:TMM 2012 Deadline
DESCRIPTION:Special Issue of IEEE Transactions on Multimedia: Cloud-Based
  Mobile Media: Infrastructure\, Services and Applications
URL:http://www.wikicfp.com/cfp/servlet/event.showcfp?eventid=17577&copyow
 nerid=33336
UID:cfp231222-D@wikicfp.com
END:VEVENT
BEGIN:VEVENT
DTSTAMP:20260424T071735Z
DTSTART;VALUE=DATE:20120801
SUMMARY:TMM 2012 Notification Due
DESCRIPTION:Special Issue of IEEE Transactions on Multimedia: Cloud-Based
  Mobile Media: Infrastructure\, Services and Applications
URL:http://www.wikicfp.com/cfp/servlet/event.showcfp?eventid=17577&copyow
 nerid=33336
UID:cfp231222-N@wikicfp.com
END:VEVENT
BEGIN:VEVENT
DTSTAMP:20260424T071735Z
DTSTART;VALUE=DATE:20121001
SUMMARY:TMM 2012 Final Version Due
DESCRIPTION:Special Issue of IEEE Transactions on Multimedia: Cloud-Based
  Mobile Media: Infrastructure\, Services and Applications
URL:http://www.wikicfp.com/cfp/servlet/event.showcfp?eventid=17577&copyow
 nerid=33336
UID:cfp231222-N@wikicfp.com
END:VEVENT
BEGIN:VEVENT
DTSTAMP:20260424T071735Z
DTSTART;VALUE=DATE:20120625
DTEND;VALUE=DATE:20120626
SUMMARY:WCOP 2012
DESCRIPTION:17th Int. Doctoral Symposium on Components and Architecture
URL:http://www.wikicfp.com/cfp/servlet/event.showcfp?eventid=19324&copyow
 nerid=33336
UID:cfp231221-E@wikicfp.com
END:VEVENT
BEGIN:VEVENT
DTSTAMP:20260424T071735Z
DTSTART;VALUE=DATE:20120305
SUMMARY:WCOP 2012 Deadline
DESCRIPTION:17th Int. Doctoral Symposium on Components and Architecture
URL:http://www.wikicfp.com/cfp/servlet/event.showcfp?eventid=19324&copyow
 nerid=33336
UID:cfp231221-D@wikicfp.com
END:VEVENT
BEGIN:VEVENT
DTSTAMP:20260424T071735Z
DTSTART;VALUE=DATE:20120412
SUMMARY:WCOP 2012 Notification Due
DESCRIPTION:17th Int. Doctoral Symposium on Components and Architecture
URL:http://www.wikicfp.com/cfp/servlet/event.showcfp?eventid=19324&copyow
 nerid=33336
UID:cfp231221-N@wikicfp.com
END:VEVENT
BEGIN:VEVENT
DTSTAMP:20260424T071735Z
DTSTART;VALUE=DATE:20120501
SUMMARY:WCOP 2012 Final Version Due
DESCRIPTION:17th Int. Doctoral Symposium on Components and Architecture
URL:http://www.wikicfp.com/cfp/servlet/event.showcfp?eventid=19324&copyow
 nerid=33336
UID:cfp231221-N@wikicfp.com
END:VEVENT
BEGIN:VEVENT
DTSTAMP:20260424T071735Z
DTSTART;VALUE=DATE:20120624
DTEND;VALUE=DATE:20120630
SUMMARY:CLOUD 2012
DESCRIPTION:5th International Conference on Cloud Computing
URL:http://www.wikicfp.com/cfp/servlet/event.showcfp?eventid=20092&copyow
 nerid=33336
UID:cfp231234-E@wikicfp.com
END:VEVENT
BEGIN:VEVENT
DTSTAMP:20260424T071735Z
DTSTART;VALUE=DATE:20120229
SUMMARY:CLOUD 2012 Abstract Due
DESCRIPTION:5th International Conference on Cloud Computing
URL:http://www.wikicfp.com/cfp/servlet/event.showcfp?eventid=20092&copyow
 nerid=33336
UID:cfp231234-A@wikicfp.com
END:VEVENT
BEGIN:VEVENT
DTSTAMP:20260424T071735Z
DTSTART;VALUE=DATE:20120308
SUMMARY:CLOUD 2012 Deadline
DESCRIPTION:5th International Conference on Cloud Computing
URL:http://www.wikicfp.com/cfp/servlet/event.showcfp?eventid=20092&copyow
 nerid=33336
UID:cfp231234-D@wikicfp.com
END:VEVENT
BEGIN:VEVENT
DTSTAMP:20260424T071735Z
DTSTART;VALUE=DATE:20120408
SUMMARY:CLOUD 2012 Notification Due
DESCRIPTION:5th International Conference on Cloud Computing
URL:http://www.wikicfp.com/cfp/servlet/event.showcfp?eventid=20092&copyow
 nerid=33336
UID:cfp231234-N@wikicfp.com
END:VEVENT
BEGIN:VEVENT
DTSTAMP:20260424T071735Z
DTSTART;VALUE=DATE:20120420
SUMMARY:CLOUD 2012 Final Version Due
DESCRIPTION:5th International Conference on Cloud Computing
URL:http://www.wikicfp.com/cfp/servlet/event.showcfp?eventid=20092&copyow
 nerid=33336
UID:cfp231234-N@wikicfp.com
END:VEVENT
BEGIN:VEVENT
DTSTAMP:20260424T071735Z
DTSTART;VALUE=DATE:20121008
DTEND;VALUE=DATE:20121012
SUMMARY:SRDS 2012
DESCRIPTION:31st International Symposium on Reliable Distributed Systems 
 
URL:http://www.wikicfp.com/cfp/servlet/event.showcfp?eventid=19489&copyow
 nerid=33336
UID:cfp231227-E@wikicfp.com
END:VEVENT
BEGIN:VEVENT
DTSTAMP:20260424T071735Z
DTSTART;VALUE=DATE:20120326
SUMMARY:SRDS 2012 Abstract Due
DESCRIPTION:31st International Symposium on Reliable Distributed Systems 
 
URL:http://www.wikicfp.com/cfp/servlet/event.showcfp?eventid=19489&copyow
 nerid=33336
UID:cfp231227-A@wikicfp.com
END:VEVENT
BEGIN:VEVENT
DTSTAMP:20260424T071735Z
DTSTART;VALUE=DATE:20120402
SUMMARY:SRDS 2012 Deadline
DESCRIPTION:31st International Symposium on Reliable Distributed Systems 
 
URL:http://www.wikicfp.com/cfp/servlet/event.showcfp?eventid=19489&copyow
 nerid=33336
UID:cfp231227-D@wikicfp.com
END:VEVENT
BEGIN:VEVENT
DTSTAMP:20260424T071735Z
DTSTART;VALUE=DATE:20120620
SUMMARY:SRDS 2012 Notification Due
DESCRIPTION:31st International Symposium on Reliable Distributed Systems 
 
URL:http://www.wikicfp.com/cfp/servlet/event.showcfp?eventid=19489&copyow
 nerid=33336
UID:cfp231227-N@wikicfp.com
END:VEVENT
BEGIN:VEVENT
DTSTAMP:20260424T071735Z
DTSTART;VALUE=DATE:20120716
SUMMARY:SRDS 2012 Final Version Due
DESCRIPTION:31st International Symposium on Reliable Distributed Systems 
 
URL:http://www.wikicfp.com/cfp/servlet/event.showcfp?eventid=19489&copyow
 nerid=33336
UID:cfp231227-N@wikicfp.com
END:VEVENT
BEGIN:VEVENT
DTSTAMP:20260424T071735Z
DTSTART;VALUE=DATE:20120430
SUMMARY:Cloud Monitoring Systems 2012 Deadline
DESCRIPTION:FGCS: Special Issue on Cloud Monitoring Systems
URL:http://www.wikicfp.com/cfp/servlet/event.showcfp?eventid=18438&copyow
 nerid=33336
UID:cfp231223-D@wikicfp.com
END:VEVENT
BEGIN:VEVENT
DTSTAMP:20260424T071735Z
DTSTART;VALUE=DATE:20120701
SUMMARY:Cloud Monitoring Systems 2012 Notification Due
DESCRIPTION:FGCS: Special Issue on Cloud Monitoring Systems
URL:http://www.wikicfp.com/cfp/servlet/event.showcfp?eventid=18438&copyow
 nerid=33336
UID:cfp231223-N@wikicfp.com
END:VEVENT
BEGIN:VEVENT
DTSTAMP:20260424T071735Z
DTSTART;VALUE=DATE:20120801
SUMMARY:Cloud Monitoring Systems 2012 Final Version Due
DESCRIPTION:FGCS: Special Issue on Cloud Monitoring Systems
URL:http://www.wikicfp.com/cfp/servlet/event.showcfp?eventid=18438&copyow
 nerid=33336
UID:cfp231223-N@wikicfp.com
END:VEVENT
BEGIN:VEVENT
DTSTAMP:20260424T071735Z
DTSTART;VALUE=DATE:20120903
DTEND;VALUE=DATE:20120906
SUMMARY:CUBE 2012
DESCRIPTION:CUBE 2012 International Information Technology Conference & E
 xhibition
URL:http://www.wikicfp.com/cfp/servlet/event.showcfp?eventid=20314&copyow
 nerid=33336
UID:cfp231236-E@wikicfp.com
END:VEVENT
BEGIN:VEVENT
DTSTAMP:20260424T071735Z
DTSTART;VALUE=DATE:20120430
SUMMARY:CUBE 2012 Abstract Due
DESCRIPTION:CUBE 2012 International Information Technology Conference & E
 xhibition
URL:http://www.wikicfp.com/cfp/servlet/event.showcfp?eventid=20314&copyow
 nerid=33336
UID:cfp231236-A@wikicfp.com
END:VEVENT
BEGIN:VEVENT
DTSTAMP:20260424T071735Z
DTSTART;VALUE=DATE:20120430
SUMMARY:CUBE 2012 Deadline
DESCRIPTION:CUBE 2012 International Information Technology Conference & E
 xhibition
URL:http://www.wikicfp.com/cfp/servlet/event.showcfp?eventid=20314&copyow
 nerid=33336
UID:cfp231236-D@wikicfp.com
END:VEVENT
BEGIN:VEVENT
DTSTAMP:20260424T071735Z
DTSTART;VALUE=DATE:20120515
SUMMARY:CUBE 2012 Notification Due
DESCRIPTION:CUBE 2012 International Information Technology Conference & E
 xhibition
URL:http://www.wikicfp.com/cfp/servlet/event.showcfp?eventid=20314&copyow
 nerid=33336
UID:cfp231236-N@wikicfp.com
END:VEVENT
BEGIN:VEVENT
DTSTAMP:20260424T071735Z
DTSTART;VALUE=DATE:20120530
SUMMARY:CUBE 2012 Final Version Due
DESCRIPTION:CUBE 2012 International Information Technology Conference & E
 xhibition
URL:http://www.wikicfp.com/cfp/servlet/event.showcfp?eventid=20314&copyow
 nerid=33336
UID:cfp231236-N@wikicfp.com
END:VEVENT
BEGIN:VEVENT
DTSTAMP:20260424T071735Z
DTSTART;VALUE=DATE:20121112
DTEND;VALUE=DATE:20121115
SUMMARY:3PGCIC 2012
DESCRIPTION:Seventh International Conference on P2P\, Parallel\, Grid\, C
 loud and Internet Computing
URL:http://www.wikicfp.com/cfp/servlet/event.showcfp?eventid=19490&copyow
 nerid=33336
UID:cfp231228-E@wikicfp.com
END:VEVENT
BEGIN:VEVENT
DTSTAMP:20260424T071735Z
DTSTART;VALUE=DATE:20120610
SUMMARY:3PGCIC 2012 Deadline
DESCRIPTION:Seventh International Conference on P2P\, Parallel\, Grid\, C
 loud and Internet Computing
URL:http://www.wikicfp.com/cfp/servlet/event.showcfp?eventid=19490&copyow
 nerid=33336
UID:cfp231228-D@wikicfp.com
END:VEVENT
BEGIN:VEVENT
DTSTAMP:20260424T071735Z
DTSTART;VALUE=DATE:20120630
SUMMARY:3PGCIC 2012 Notification Due
DESCRIPTION:Seventh International Conference on P2P\, Parallel\, Grid\, C
 loud and Internet Computing
URL:http://www.wikicfp.com/cfp/servlet/event.showcfp?eventid=19490&copyow
 nerid=33336
UID:cfp231228-N@wikicfp.com
END:VEVENT
BEGIN:VEVENT
DTSTAMP:20260424T071735Z
DTSTART;VALUE=DATE:20120803
SUMMARY:3PGCIC 2012 Final Version Due
DESCRIPTION:Seventh International Conference on P2P\, Parallel\, Grid\, C
 loud and Internet Computing
URL:http://www.wikicfp.com/cfp/servlet/event.showcfp?eventid=19490&copyow
 nerid=33336
UID:cfp231228-N@wikicfp.com
END:VEVENT
BEGIN:VEVENT
DTSTAMP:20260424T071735Z
DTSTART;VALUE=DATE:20140412
DTEND;VALUE=DATE:20140413
SUMMARY:FESCA 2014
DESCRIPTION:11th International Workshop on Formal Engineering approaches 
 to Software Components and Architectures
URL:http://www.wikicfp.com/cfp/servlet/event.showcfp?eventid=18609&copyow
 nerid=33336
UID:cfp231219-E@wikicfp.com
END:VEVENT
BEGIN:VEVENT
DTSTAMP:20260424T071735Z
DTSTART;VALUE=DATE:20131206
SUMMARY:FESCA 2014 Abstract Due
DESCRIPTION:11th International Workshop on Formal Engineering approaches 
 to Software Components and Architectures
URL:http://www.wikicfp.com/cfp/servlet/event.showcfp?eventid=18609&copyow
 nerid=33336
UID:cfp231219-A@wikicfp.com
END:VEVENT
BEGIN:VEVENT
DTSTAMP:20260424T071735Z
DTSTART;VALUE=DATE:20131213
SUMMARY:FESCA 2014 Deadline
DESCRIPTION:11th International Workshop on Formal Engineering approaches 
 to Software Components and Architectures
URL:http://www.wikicfp.com/cfp/servlet/event.showcfp?eventid=18609&copyow
 nerid=33336
UID:cfp231219-D@wikicfp.com
END:VEVENT
BEGIN:VEVENT
DTSTAMP:20260424T071735Z
DTSTART;VALUE=DATE:20140120
SUMMARY:FESCA 2014 Notification Due
DESCRIPTION:11th International Workshop on Formal Engineering approaches 
 to Software Components and Architectures
URL:http://www.wikicfp.com/cfp/servlet/event.showcfp?eventid=18609&copyow
 nerid=33336
UID:cfp231219-N@wikicfp.com
END:VEVENT
BEGIN:VEVENT
DTSTAMP:20260424T071735Z
DTSTART;VALUE=DATE:20140210
SUMMARY:FESCA 2014 Final Version Due
DESCRIPTION:11th International Workshop on Formal Engineering approaches 
 to Software Components and Architectures
URL:http://www.wikicfp.com/cfp/servlet/event.showcfp?eventid=18609&copyow
 nerid=33336
UID:cfp231219-N@wikicfp.com
END:VEVENT
END:VCALENDAR
