BEGIN:VCALENDAR
PRODID:-//WikiCFP//ICEEE 1.0//EN
VERSION:2.0
CALSCALE:GREGORIAN
BEGIN:VEVENT
DTSTAMP:20260423T130714Z
DTSTART;VALUE=DATE:20120924
DTEND;VALUE=DATE:20120927
SUMMARY:ICEEE 2012
DESCRIPTION:The International Conference on E- Learning and E-Technologie
 s in Education 
URL:http://www.wikicfp.com/cfp/servlet/event.showcfp?eventid=20297&copyow
 nerid=33296
UID:cfp230899-E@wikicfp.com
END:VEVENT
BEGIN:VEVENT
DTSTAMP:20260423T130714Z
DTSTART;VALUE=DATE:20120701
SUMMARY:ICEEE 2012 Deadline
DESCRIPTION:The International Conference on E- Learning and E-Technologie
 s in Education 
URL:http://www.wikicfp.com/cfp/servlet/event.showcfp?eventid=20297&copyow
 nerid=33296
UID:cfp230899-D@wikicfp.com
END:VEVENT
BEGIN:VEVENT
DTSTAMP:20260423T130714Z
DTSTART;VALUE=DATE:20120720
SUMMARY:ICEEE 2012 Notification Due
DESCRIPTION:The International Conference on E- Learning and E-Technologie
 s in Education 
URL:http://www.wikicfp.com/cfp/servlet/event.showcfp?eventid=20297&copyow
 nerid=33296
UID:cfp230899-N@wikicfp.com
END:VEVENT
BEGIN:VEVENT
DTSTAMP:20260423T130714Z
DTSTART;VALUE=DATE:20120805
SUMMARY:ICEEE 2012 Final Version Due
DESCRIPTION:The International Conference on E- Learning and E-Technologie
 s in Education 
URL:http://www.wikicfp.com/cfp/servlet/event.showcfp?eventid=20297&copyow
 nerid=33296
UID:cfp230899-N@wikicfp.com
END:VEVENT
BEGIN:VEVENT
DTSTAMP:20260423T130714Z
DTSTART;VALUE=DATE:20130923
DTEND;VALUE=DATE:20130926
SUMMARY:ICEEE 2013
DESCRIPTION:The Second International Conference on E- Learning and E- Tec
 hnologies in Education
URL:http://www.wikicfp.com/cfp/servlet/event.showcfp?eventid=26764&copyow
 nerid=33296
UID:cfp310960-E@wikicfp.com
END:VEVENT
BEGIN:VEVENT
DTSTAMP:20260423T130714Z
DTSTART;VALUE=DATE:20130805
SUMMARY:ICEEE 2013 Deadline
DESCRIPTION:The Second International Conference on E- Learning and E- Tec
 hnologies in Education
URL:http://www.wikicfp.com/cfp/servlet/event.showcfp?eventid=26764&copyow
 nerid=33296
UID:cfp310960-D@wikicfp.com
END:VEVENT
BEGIN:VEVENT
DTSTAMP:20260423T130714Z
DTSTART;VALUE=DATE:20130905
SUMMARY:ICEEE 2013 Notification Due
DESCRIPTION:The Second International Conference on E- Learning and E- Tec
 hnologies in Education
URL:http://www.wikicfp.com/cfp/servlet/event.showcfp?eventid=26764&copyow
 nerid=33296
UID:cfp310960-N@wikicfp.com
END:VEVENT
BEGIN:VEVENT
DTSTAMP:20260423T130714Z
DTSTART;VALUE=DATE:20130915
SUMMARY:ICEEE 2013 Final Version Due
DESCRIPTION:The Second International Conference on E- Learning and E- Tec
 hnologies in Education
URL:http://www.wikicfp.com/cfp/servlet/event.showcfp?eventid=26764&copyow
 nerid=33296
UID:cfp310960-N@wikicfp.com
END:VEVENT
END:VCALENDAR
