BEGIN:VCALENDAR
PRODID:-//WikiCFP//ymlee 1.0//EN
VERSION:2.0
CALSCALE:GREGORIAN
BEGIN:VEVENT
DTSTAMP:20260422T083455Z
DTSTART;VALUE=DATE:20100519
DTEND;VALUE=DATE:20100522
SUMMARY:EXMATEC 2010
DESCRIPTION:10th Expert Evaluation & Control of Compound Semiconductor Ma
 terials & Technologies
URL:http://www.wikicfp.com/cfp/servlet/event.showcfp?eventid=8858&copyown
 erid=32920
UID:cfp227513-E@wikicfp.com
END:VEVENT
BEGIN:VEVENT
DTSTAMP:20260422T083455Z
DTSTART;VALUE=DATE:20100312
SUMMARY:EXMATEC 2010 Deadline
DESCRIPTION:10th Expert Evaluation & Control of Compound Semiconductor Ma
 terials & Technologies
URL:http://www.wikicfp.com/cfp/servlet/event.showcfp?eventid=8858&copyown
 erid=32920
UID:cfp227513-D@wikicfp.com
END:VEVENT
BEGIN:VEVENT
DTSTAMP:20260422T083455Z
DTSTART;VALUE=DATE:20100323
SUMMARY:EXMATEC 2010 Notification Due
DESCRIPTION:10th Expert Evaluation & Control of Compound Semiconductor Ma
 terials & Technologies
URL:http://www.wikicfp.com/cfp/servlet/event.showcfp?eventid=8858&copyown
 erid=32920
UID:cfp227513-N@wikicfp.com
END:VEVENT
BEGIN:VEVENT
DTSTAMP:20260422T083455Z
DTSTART;VALUE=DATE:20100406
SUMMARY:EXMATEC 2010 Final Version Due
DESCRIPTION:10th Expert Evaluation & Control of Compound Semiconductor Ma
 terials & Technologies
URL:http://www.wikicfp.com/cfp/servlet/event.showcfp?eventid=8858&copyown
 erid=32920
UID:cfp227513-N@wikicfp.com
END:VEVENT
BEGIN:VEVENT
DTSTAMP:20260422T083455Z
DTSTART;VALUE=DATE:20100903
DTEND;VALUE=DATE:20100905
SUMMARY:ASQED 2010
DESCRIPTION:Asia Symposium on Quality Electronic Design
URL:http://www.wikicfp.com/cfp/servlet/event.showcfp?eventid=7981&copyown
 erid=32920
UID:cfp227511-E@wikicfp.com
END:VEVENT
BEGIN:VEVENT
DTSTAMP:20260422T083455Z
DTSTART;VALUE=DATE:20100316
SUMMARY:ASQED 2010 Deadline
DESCRIPTION:Asia Symposium on Quality Electronic Design
URL:http://www.wikicfp.com/cfp/servlet/event.showcfp?eventid=7981&copyown
 erid=32920
UID:cfp227511-D@wikicfp.com
END:VEVENT
BEGIN:VEVENT
DTSTAMP:20260422T083455Z
DTSTART;VALUE=DATE:20100424
SUMMARY:ASQED 2010 Notification Due
DESCRIPTION:Asia Symposium on Quality Electronic Design
URL:http://www.wikicfp.com/cfp/servlet/event.showcfp?eventid=7981&copyown
 erid=32920
UID:cfp227511-N@wikicfp.com
END:VEVENT
BEGIN:VEVENT
DTSTAMP:20260422T083455Z
DTSTART;VALUE=DATE:20100602
SUMMARY:ASQED 2010 Final Version Due
DESCRIPTION:Asia Symposium on Quality Electronic Design
URL:http://www.wikicfp.com/cfp/servlet/event.showcfp?eventid=7981&copyown
 erid=32920
UID:cfp227511-N@wikicfp.com
END:VEVENT
BEGIN:VEVENT
DTSTAMP:20260422T083455Z
DTSTART;VALUE=DATE:20101025
DTEND;VALUE=DATE:20101028
SUMMARY:ASDAM 2010
DESCRIPTION:8th International Conference on Advanced Semiconductor Device
 s & Microsystems
URL:http://www.wikicfp.com/cfp/servlet/event.showcfp?eventid=8840&copyown
 erid=32920
UID:cfp227512-E@wikicfp.com
END:VEVENT
BEGIN:VEVENT
DTSTAMP:20260422T083455Z
DTSTART;VALUE=DATE:20100515
SUMMARY:ASDAM 2010 Deadline
DESCRIPTION:8th International Conference on Advanced Semiconductor Device
 s & Microsystems
URL:http://www.wikicfp.com/cfp/servlet/event.showcfp?eventid=8840&copyown
 erid=32920
UID:cfp227512-D@wikicfp.com
END:VEVENT
BEGIN:VEVENT
DTSTAMP:20260422T083455Z
DTSTART;VALUE=DATE:20100630
SUMMARY:ASDAM 2010 Notification Due
DESCRIPTION:8th International Conference on Advanced Semiconductor Device
 s & Microsystems
URL:http://www.wikicfp.com/cfp/servlet/event.showcfp?eventid=8840&copyown
 erid=32920
UID:cfp227512-N@wikicfp.com
END:VEVENT
BEGIN:VEVENT
DTSTAMP:20260422T083455Z
DTSTART;VALUE=DATE:20100915
SUMMARY:ASDAM 2010 Final Version Due
DESCRIPTION:8th International Conference on Advanced Semiconductor Device
 s & Microsystems
URL:http://www.wikicfp.com/cfp/servlet/event.showcfp?eventid=8840&copyown
 erid=32920
UID:cfp227512-N@wikicfp.com
END:VEVENT
BEGIN:VEVENT
DTSTAMP:20260422T083455Z
DTSTART;VALUE=DATE:20110515
DTEND;VALUE=DATE:20110519
SUMMARY:ASMC 2011
DESCRIPTION:IEEE/SEMI Advanced Semiconductor Manufacturing Conference
URL:http://www.wikicfp.com/cfp/servlet/event.showcfp?eventid=10672&copyow
 nerid=32920
UID:cfp227514-E@wikicfp.com
END:VEVENT
BEGIN:VEVENT
DTSTAMP:20260422T083455Z
DTSTART;VALUE=DATE:20101213
SUMMARY:ASMC 2011 Abstract Due
DESCRIPTION:IEEE/SEMI Advanced Semiconductor Manufacturing Conference
URL:http://www.wikicfp.com/cfp/servlet/event.showcfp?eventid=10672&copyow
 nerid=32920
UID:cfp227514-A@wikicfp.com
END:VEVENT
BEGIN:VEVENT
DTSTAMP:20260422T083455Z
DTSTART;VALUE=DATE:20110307
SUMMARY:ASMC 2011 Deadline
DESCRIPTION:IEEE/SEMI Advanced Semiconductor Manufacturing Conference
URL:http://www.wikicfp.com/cfp/servlet/event.showcfp?eventid=10672&copyow
 nerid=32920
UID:cfp227514-D@wikicfp.com
END:VEVENT
BEGIN:VEVENT
DTSTAMP:20260422T083455Z
DTSTART;VALUE=DATE:20110114
SUMMARY:ASMC 2011 Notification Due
DESCRIPTION:IEEE/SEMI Advanced Semiconductor Manufacturing Conference
URL:http://www.wikicfp.com/cfp/servlet/event.showcfp?eventid=10672&copyow
 nerid=32920
UID:cfp227514-N@wikicfp.com
END:VEVENT
BEGIN:VEVENT
DTSTAMP:20260422T083455Z
DTSTART;VALUE=DATE:20110411
SUMMARY:ASMC 2011 Final Version Due
DESCRIPTION:IEEE/SEMI Advanced Semiconductor Manufacturing Conference
URL:http://www.wikicfp.com/cfp/servlet/event.showcfp?eventid=10672&copyow
 nerid=32920
UID:cfp227514-N@wikicfp.com
END:VEVENT
BEGIN:VEVENT
DTSTAMP:20260422T083455Z
DTSTART;VALUE=DATE:20110830
DTEND;VALUE=DATE:20110903
SUMMARY:SBMicro 2011
DESCRIPTION:26th SYMPOSIUM ON MICROELECTRONICS TECHNOLOGY AND DEVICES 
URL:http://www.wikicfp.com/cfp/servlet/event.showcfp?eventid=15271&copyow
 nerid=32920
UID:cfp227515-E@wikicfp.com
END:VEVENT
BEGIN:VEVENT
DTSTAMP:20260422T083455Z
DTSTART;VALUE=DATE:20110329
SUMMARY:SBMicro 2011 Deadline
DESCRIPTION:26th SYMPOSIUM ON MICROELECTRONICS TECHNOLOGY AND DEVICES 
URL:http://www.wikicfp.com/cfp/servlet/event.showcfp?eventid=15271&copyow
 nerid=32920
UID:cfp227515-D@wikicfp.com
END:VEVENT
BEGIN:VEVENT
DTSTAMP:20260422T083455Z
DTSTART;VALUE=DATE:20120205
SUMMARY:SBMicro 2011 Notification Due
DESCRIPTION:26th SYMPOSIUM ON MICROELECTRONICS TECHNOLOGY AND DEVICES 
URL:http://www.wikicfp.com/cfp/servlet/event.showcfp?eventid=15271&copyow
 nerid=32920
UID:cfp227515-N@wikicfp.com
END:VEVENT
BEGIN:VEVENT
DTSTAMP:20260422T083455Z
DTSTART;VALUE=DATE:20110521
SUMMARY:SBMicro 2011 Final Version Due
DESCRIPTION:26th SYMPOSIUM ON MICROELECTRONICS TECHNOLOGY AND DEVICES 
URL:http://www.wikicfp.com/cfp/servlet/event.showcfp?eventid=15271&copyow
 nerid=32920
UID:cfp227515-N@wikicfp.com
END:VEVENT
BEGIN:VEVENT
DTSTAMP:20260422T083455Z
DTSTART;VALUE=DATE:20120515
DTEND;VALUE=DATE:20120518
SUMMARY:ASMC 2012
DESCRIPTION:2012 SEMI Advanced Semiconductor Manufacturing Conference
URL:http://www.wikicfp.com/cfp/servlet/event.showcfp?eventid=18005&copyow
 nerid=32920
UID:cfp227516-E@wikicfp.com
END:VEVENT
BEGIN:VEVENT
DTSTAMP:20260422T083455Z
DTSTART;VALUE=DATE:20111024
SUMMARY:ASMC 2012 Abstract Due
DESCRIPTION:2012 SEMI Advanced Semiconductor Manufacturing Conference
URL:http://www.wikicfp.com/cfp/servlet/event.showcfp?eventid=18005&copyow
 nerid=32920
UID:cfp227516-A@wikicfp.com
END:VEVENT
BEGIN:VEVENT
DTSTAMP:20260422T083455Z
DTSTART;VALUE=DATE:20120307
SUMMARY:ASMC 2012 Deadline
DESCRIPTION:2012 SEMI Advanced Semiconductor Manufacturing Conference
URL:http://www.wikicfp.com/cfp/servlet/event.showcfp?eventid=18005&copyow
 nerid=32920
UID:cfp227516-D@wikicfp.com
END:VEVENT
BEGIN:VEVENT
DTSTAMP:20260422T083455Z
DTSTART;VALUE=DATE:20111216
SUMMARY:ASMC 2012 Notification Due
DESCRIPTION:2012 SEMI Advanced Semiconductor Manufacturing Conference
URL:http://www.wikicfp.com/cfp/servlet/event.showcfp?eventid=18005&copyow
 nerid=32920
UID:cfp227516-N@wikicfp.com
END:VEVENT
BEGIN:VEVENT
DTSTAMP:20260422T083455Z
DTSTART;VALUE=DATE:20120425
SUMMARY:ASMC 2012 Final Version Due
DESCRIPTION:2012 SEMI Advanced Semiconductor Manufacturing Conference
URL:http://www.wikicfp.com/cfp/servlet/event.showcfp?eventid=18005&copyow
 nerid=32920
UID:cfp227516-N@wikicfp.com
END:VEVENT
END:VCALENDAR
