BEGIN:VCALENDAR
PRODID:-//WikiCFP//cuongpm 1.0//EN
VERSION:2.0
CALSCALE:GREGORIAN
BEGIN:VEVENT
DTSTAMP:20260422T021815Z
DTSTART;VALUE=DATE:20120615
DTEND;VALUE=DATE:20120619
SUMMARY:DSN 2012
DESCRIPTION:The 42nd Annual IEEE/IFIP International Conference on Dependa
 ble Systems and Networks
URL:http://www.wikicfp.com/cfp/servlet/event.showcfp?eventid=18677&copyow
 nerid=32864
UID:cfp227250-E@wikicfp.com
END:VEVENT
BEGIN:VEVENT
DTSTAMP:20260422T021815Z
DTSTART;VALUE=DATE:20111130
SUMMARY:DSN 2012 Abstract Due
DESCRIPTION:The 42nd Annual IEEE/IFIP International Conference on Dependa
 ble Systems and Networks
URL:http://www.wikicfp.com/cfp/servlet/event.showcfp?eventid=18677&copyow
 nerid=32864
UID:cfp227250-A@wikicfp.com
END:VEVENT
BEGIN:VEVENT
DTSTAMP:20260422T021815Z
DTSTART;VALUE=DATE:20111207
SUMMARY:DSN 2012 Deadline
DESCRIPTION:The 42nd Annual IEEE/IFIP International Conference on Dependa
 ble Systems and Networks
URL:http://www.wikicfp.com/cfp/servlet/event.showcfp?eventid=18677&copyow
 nerid=32864
UID:cfp227250-D@wikicfp.com
END:VEVENT
BEGIN:VEVENT
DTSTAMP:20260422T021815Z
DTSTART;VALUE=DATE:20120229
SUMMARY:DSN 2012 Notification Due
DESCRIPTION:The 42nd Annual IEEE/IFIP International Conference on Dependa
 ble Systems and Networks
URL:http://www.wikicfp.com/cfp/servlet/event.showcfp?eventid=18677&copyow
 nerid=32864
UID:cfp227250-N@wikicfp.com
END:VEVENT
BEGIN:VEVENT
DTSTAMP:20260422T021815Z
DTSTART;VALUE=DATE:20120215
SUMMARY:FoSECLOUD 2012 Abstract Due
DESCRIPTION:JSS Special Issue on: The Future of Software Engineering FOR/
 IN the Cloud - FoSECloud
URL:http://www.wikicfp.com/cfp/servlet/event.showcfp?eventid=18763&copyow
 nerid=32864
UID:cfp227251-A@wikicfp.com
END:VEVENT
BEGIN:VEVENT
DTSTAMP:20260422T021815Z
DTSTART;VALUE=DATE:20120301
SUMMARY:FoSECLOUD 2012 Deadline
DESCRIPTION:JSS Special Issue on: The Future of Software Engineering FOR/
 IN the Cloud - FoSECloud
URL:http://www.wikicfp.com/cfp/servlet/event.showcfp?eventid=18763&copyow
 nerid=32864
UID:cfp227251-D@wikicfp.com
END:VEVENT
BEGIN:VEVENT
DTSTAMP:20260422T021815Z
DTSTART;VALUE=DATE:20120515
SUMMARY:FoSECLOUD 2012 Notification Due
DESCRIPTION:JSS Special Issue on: The Future of Software Engineering FOR/
 IN the Cloud - FoSECloud
URL:http://www.wikicfp.com/cfp/servlet/event.showcfp?eventid=18763&copyow
 nerid=32864
UID:cfp227251-N@wikicfp.com
END:VEVENT
BEGIN:VEVENT
DTSTAMP:20260422T021815Z
DTSTART;VALUE=DATE:20121015
SUMMARY:FoSECLOUD 2012 Final Version Due
DESCRIPTION:JSS Special Issue on: The Future of Software Engineering FOR/
 IN the Cloud - FoSECloud
URL:http://www.wikicfp.com/cfp/servlet/event.showcfp?eventid=18763&copyow
 nerid=32864
UID:cfp227251-N@wikicfp.com
END:VEVENT
BEGIN:VEVENT
DTSTAMP:20260422T021815Z
DTSTART;VALUE=DATE:20120901
DTEND;VALUE=DATE:20121202
SUMMARY:Cloud Computing and Web Services 2012
DESCRIPTION:IJCSE Special Issue on Cloud Computing and Web Services
URL:http://www.wikicfp.com/cfp/servlet/event.showcfp?eventid=24067&copyow
 nerid=32864
UID:cfp292241-E@wikicfp.com
END:VEVENT
BEGIN:VEVENT
DTSTAMP:20260422T021815Z
DTSTART;VALUE=DATE:20120901
SUMMARY:Cloud Computing and Web Services 2012 Deadline
DESCRIPTION:IJCSE Special Issue on Cloud Computing and Web Services
URL:http://www.wikicfp.com/cfp/servlet/event.showcfp?eventid=24067&copyow
 nerid=32864
UID:cfp292241-D@wikicfp.com
END:VEVENT
BEGIN:VEVENT
DTSTAMP:20260422T021815Z
DTSTART;VALUE=DATE:20121101
SUMMARY:Cloud Computing and Web Services 2012 Notification Due
DESCRIPTION:IJCSE Special Issue on Cloud Computing and Web Services
URL:http://www.wikicfp.com/cfp/servlet/event.showcfp?eventid=24067&copyow
 nerid=32864
UID:cfp292241-N@wikicfp.com
END:VEVENT
BEGIN:VEVENT
DTSTAMP:20260422T021815Z
DTSTART;VALUE=DATE:20121201
SUMMARY:Cloud Computing and Web Services 2012 Final Version Due
DESCRIPTION:IJCSE Special Issue on Cloud Computing and Web Services
URL:http://www.wikicfp.com/cfp/servlet/event.showcfp?eventid=24067&copyow
 nerid=32864
UID:cfp292241-N@wikicfp.com
END:VEVENT
BEGIN:VEVENT
DTSTAMP:20260422T021815Z
DTSTART;VALUE=DATE:20130325
DTEND;VALUE=DATE:20130328
SUMMARY:IC2E 2013
DESCRIPTION:IEEE Conference on Cloud Engineering
URL:http://www.wikicfp.com/cfp/servlet/event.showcfp?eventid=23265&copyow
 nerid=32864
UID:cfp292240-E@wikicfp.com
END:VEVENT
BEGIN:VEVENT
DTSTAMP:20260422T021815Z
DTSTART;VALUE=DATE:20120907
SUMMARY:IC2E 2013 Abstract Due
DESCRIPTION:IEEE Conference on Cloud Engineering
URL:http://www.wikicfp.com/cfp/servlet/event.showcfp?eventid=23265&copyow
 nerid=32864
UID:cfp292240-A@wikicfp.com
END:VEVENT
BEGIN:VEVENT
DTSTAMP:20260422T021815Z
DTSTART;VALUE=DATE:20120914
SUMMARY:IC2E 2013 Deadline
DESCRIPTION:IEEE Conference on Cloud Engineering
URL:http://www.wikicfp.com/cfp/servlet/event.showcfp?eventid=23265&copyow
 nerid=32864
UID:cfp292240-D@wikicfp.com
END:VEVENT
BEGIN:VEVENT
DTSTAMP:20260422T021815Z
DTSTART;VALUE=DATE:20121031
SUMMARY:TSNM 2012 Deadline
DESCRIPTION:IEEE Transactions on Network and Service Management\, Special
  Issue on Management of Cloud Services
URL:http://www.wikicfp.com/cfp/servlet/event.showcfp?eventid=24386&copyow
 nerid=32864
UID:cfp292242-D@wikicfp.com
END:VEVENT
BEGIN:VEVENT
DTSTAMP:20260422T021815Z
DTSTART;VALUE=DATE:20130331
SUMMARY:TSNM 2012 Notification Due
DESCRIPTION:IEEE Transactions on Network and Service Management\, Special
  Issue on Management of Cloud Services
URL:http://www.wikicfp.com/cfp/servlet/event.showcfp?eventid=24386&copyow
 nerid=32864
UID:cfp292242-N@wikicfp.com
END:VEVENT
BEGIN:VEVENT
DTSTAMP:20260422T021815Z
DTSTART;VALUE=DATE:20130615
SUMMARY:TSNM 2012 Final Version Due
DESCRIPTION:IEEE Transactions on Network and Service Management\, Special
  Issue on Management of Cloud Services
URL:http://www.wikicfp.com/cfp/servlet/event.showcfp?eventid=24386&copyow
 nerid=32864
UID:cfp292242-N@wikicfp.com
END:VEVENT
END:VCALENDAR
