BEGIN:VCALENDAR
PRODID:-//WikiCFP//m_aboibrahim 1.0//EN
VERSION:2.0
CALSCALE:GREGORIAN
BEGIN:VEVENT
DTSTAMP:20260420T034926Z
DTSTART;VALUE=DATE:20120628
DTEND;VALUE=DATE:20120702
SUMMARY:ENASE 2012
DESCRIPTION:7th International Conference on Evaluation of Novel Approache
 s to Software Engineering
URL:http://www.wikicfp.com/cfp/servlet/event.showcfp?eventid=18554&copyow
 nerid=32824
UID:cfp231284-E@wikicfp.com
END:VEVENT
BEGIN:VEVENT
DTSTAMP:20260420T034926Z
DTSTART;VALUE=DATE:20120214
SUMMARY:ENASE 2012 Deadline
DESCRIPTION:7th International Conference on Evaluation of Novel Approache
 s to Software Engineering
URL:http://www.wikicfp.com/cfp/servlet/event.showcfp?eventid=18554&copyow
 nerid=32824
UID:cfp231284-D@wikicfp.com
END:VEVENT
BEGIN:VEVENT
DTSTAMP:20260420T034926Z
DTSTART;VALUE=DATE:20120326
SUMMARY:ENASE 2012 Notification Due
DESCRIPTION:7th International Conference on Evaluation of Novel Approache
 s to Software Engineering
URL:http://www.wikicfp.com/cfp/servlet/event.showcfp?eventid=18554&copyow
 nerid=32824
UID:cfp231284-N@wikicfp.com
END:VEVENT
BEGIN:VEVENT
DTSTAMP:20260420T034926Z
DTSTART;VALUE=DATE:20120420
SUMMARY:ENASE 2012 Final Version Due
DESCRIPTION:7th International Conference on Evaluation of Novel Approache
 s to Software Engineering
URL:http://www.wikicfp.com/cfp/servlet/event.showcfp?eventid=18554&copyow
 nerid=32824
UID:cfp231284-N@wikicfp.com
END:VEVENT
BEGIN:VEVENT
DTSTAMP:20260420T034926Z
DTSTART;VALUE=DATE:20120622
DTEND;VALUE=DATE:20120625
SUMMARY:WebSci 2012
DESCRIPTION:4th ACM Web Science Conference
URL:http://www.wikicfp.com/cfp/servlet/event.showcfp?eventid=19722&copyow
 nerid=32824
UID:cfp231320-E@wikicfp.com
END:VEVENT
BEGIN:VEVENT
DTSTAMP:20260420T034926Z
DTSTART;VALUE=DATE:20120212
SUMMARY:WebSci 2012 Abstract Due
DESCRIPTION:4th ACM Web Science Conference
URL:http://www.wikicfp.com/cfp/servlet/event.showcfp?eventid=19722&copyow
 nerid=32824
UID:cfp231320-A@wikicfp.com
END:VEVENT
BEGIN:VEVENT
DTSTAMP:20260420T034926Z
DTSTART;VALUE=DATE:20120226
SUMMARY:WebSci 2012 Deadline
DESCRIPTION:4th ACM Web Science Conference
URL:http://www.wikicfp.com/cfp/servlet/event.showcfp?eventid=19722&copyow
 nerid=32824
UID:cfp231320-D@wikicfp.com
END:VEVENT
BEGIN:VEVENT
DTSTAMP:20260420T034926Z
DTSTART;VALUE=DATE:20120331
SUMMARY:WebSci 2012 Notification Due
DESCRIPTION:4th ACM Web Science Conference
URL:http://www.wikicfp.com/cfp/servlet/event.showcfp?eventid=19722&copyow
 nerid=32824
UID:cfp231320-N@wikicfp.com
END:VEVENT
BEGIN:VEVENT
DTSTAMP:20260420T034926Z
DTSTART;VALUE=DATE:20120429
SUMMARY:WebSci 2012 Final Version Due
DESCRIPTION:4th ACM Web Science Conference
URL:http://www.wikicfp.com/cfp/servlet/event.showcfp?eventid=19722&copyow
 nerid=32824
UID:cfp231320-N@wikicfp.com
END:VEVENT
END:VCALENDAR
