BEGIN:VCALENDAR
PRODID:-//WikiCFP//rasped 1.0//EN
VERSION:2.0
CALSCALE:GREGORIAN
BEGIN:VEVENT
DTSTAMP:20260422T151705Z
DTSTART;VALUE=DATE:20101025
DTEND;VALUE=DATE:20101031
SUMMARY:UBICOMM  2010
DESCRIPTION:The Fourth International Conference on Mobile Ubiquitous Comp
 uting\, Systems\, Services and Technologies
URL:http://www.wikicfp.com/cfp/servlet/event.showcfp?eventid=8807&copyown
 erid=32372
UID:cfp223556-E@wikicfp.com
END:VEVENT
BEGIN:VEVENT
DTSTAMP:20260422T151705Z
DTSTART;VALUE=DATE:20100603
SUMMARY:UBICOMM  2010 Deadline
DESCRIPTION:The Fourth International Conference on Mobile Ubiquitous Comp
 uting\, Systems\, Services and Technologies
URL:http://www.wikicfp.com/cfp/servlet/event.showcfp?eventid=8807&copyown
 erid=32372
UID:cfp223556-D@wikicfp.com
END:VEVENT
BEGIN:VEVENT
DTSTAMP:20260422T151705Z
DTSTART;VALUE=DATE:20100630
SUMMARY:UBICOMM  2010 Notification Due
DESCRIPTION:The Fourth International Conference on Mobile Ubiquitous Comp
 uting\, Systems\, Services and Technologies
URL:http://www.wikicfp.com/cfp/servlet/event.showcfp?eventid=8807&copyown
 erid=32372
UID:cfp223556-N@wikicfp.com
END:VEVENT
BEGIN:VEVENT
DTSTAMP:20260422T151705Z
DTSTART;VALUE=DATE:20100715
SUMMARY:UBICOMM  2010 Final Version Due
DESCRIPTION:The Fourth International Conference on Mobile Ubiquitous Comp
 uting\, Systems\, Services and Technologies
URL:http://www.wikicfp.com/cfp/servlet/event.showcfp?eventid=8807&copyown
 erid=32372
UID:cfp223556-N@wikicfp.com
END:VEVENT
BEGIN:VEVENT
DTSTAMP:20260422T151705Z
DTSTART;VALUE=DATE:20110917
DTEND;VALUE=DATE:20110922
SUMMARY:UbiComp 2011
DESCRIPTION:13th ACM International Conference on Ubiquitous Computing
URL:http://www.wikicfp.com/cfp/servlet/event.showcfp?eventid=11742&copyow
 nerid=32372
UID:cfp223557-E@wikicfp.com
END:VEVENT
BEGIN:VEVENT
DTSTAMP:20260422T151705Z
DTSTART;VALUE=DATE:20110415
SUMMARY:UbiComp 2011 Deadline
DESCRIPTION:13th ACM International Conference on Ubiquitous Computing
URL:http://www.wikicfp.com/cfp/servlet/event.showcfp?eventid=11742&copyow
 nerid=32372
UID:cfp223557-D@wikicfp.com
END:VEVENT
BEGIN:VEVENT
DTSTAMP:20260422T151705Z
DTSTART;VALUE=DATE:20110618
SUMMARY:UbiComp 2011 Notification Due
DESCRIPTION:13th ACM International Conference on Ubiquitous Computing
URL:http://www.wikicfp.com/cfp/servlet/event.showcfp?eventid=11742&copyow
 nerid=32372
UID:cfp223557-N@wikicfp.com
END:VEVENT
BEGIN:VEVENT
DTSTAMP:20260422T151705Z
DTSTART;VALUE=DATE:20110905
DTEND;VALUE=DATE:20110910
SUMMARY:ECML PKDD  2011
DESCRIPTION:The European Conference on Machine Learning and Principles an
 d Practice of Knowledge Discovery in Databases 
URL:http://www.wikicfp.com/cfp/servlet/event.showcfp?eventid=12611&copyow
 nerid=32372
UID:cfp223545-E@wikicfp.com
END:VEVENT
BEGIN:VEVENT
DTSTAMP:20260422T151705Z
DTSTART;VALUE=DATE:20110412
SUMMARY:ECML PKDD  2011 Abstract Due
DESCRIPTION:The European Conference on Machine Learning and Principles an
 d Practice of Knowledge Discovery in Databases 
URL:http://www.wikicfp.com/cfp/servlet/event.showcfp?eventid=12611&copyow
 nerid=32372
UID:cfp223545-A@wikicfp.com
END:VEVENT
BEGIN:VEVENT
DTSTAMP:20260422T151705Z
DTSTART;VALUE=DATE:20110419
SUMMARY:ECML PKDD  2011 Deadline
DESCRIPTION:The European Conference on Machine Learning and Principles an
 d Practice of Knowledge Discovery in Databases 
URL:http://www.wikicfp.com/cfp/servlet/event.showcfp?eventid=12611&copyow
 nerid=32372
UID:cfp223545-D@wikicfp.com
END:VEVENT
BEGIN:VEVENT
DTSTAMP:20260422T151705Z
DTSTART;VALUE=DATE:20110603
SUMMARY:ECML PKDD  2011 Notification Due
DESCRIPTION:The European Conference on Machine Learning and Principles an
 d Practice of Knowledge Discovery in Databases 
URL:http://www.wikicfp.com/cfp/servlet/event.showcfp?eventid=12611&copyow
 nerid=32372
UID:cfp223545-N@wikicfp.com
END:VEVENT
BEGIN:VEVENT
DTSTAMP:20260422T151705Z
DTSTART;VALUE=DATE:20110612
SUMMARY:ECML PKDD  2011 Final Version Due
DESCRIPTION:The European Conference on Machine Learning and Principles an
 d Practice of Knowledge Discovery in Databases 
URL:http://www.wikicfp.com/cfp/servlet/event.showcfp?eventid=12611&copyow
 nerid=32372
UID:cfp223545-N@wikicfp.com
END:VEVENT
BEGIN:VEVENT
DTSTAMP:20260422T151705Z
DTSTART;VALUE=DATE:20111204
DTEND;VALUE=DATE:20111208
SUMMARY:ICIS 2011
DESCRIPTION:International Conference on Information Systems
URL:http://www.wikicfp.com/cfp/servlet/event.showcfp?eventid=15309&copyow
 nerid=32372
UID:cfp223540-E@wikicfp.com
END:VEVENT
BEGIN:VEVENT
DTSTAMP:20260422T151705Z
DTSTART;VALUE=DATE:20110503
SUMMARY:ICIS 2011 Deadline
DESCRIPTION:International Conference on Information Systems
URL:http://www.wikicfp.com/cfp/servlet/event.showcfp?eventid=15309&copyow
 nerid=32372
UID:cfp223540-D@wikicfp.com
END:VEVENT
BEGIN:VEVENT
DTSTAMP:20260422T151705Z
DTSTART;VALUE=DATE:20110730
SUMMARY:ICIS 2011 Notification Due
DESCRIPTION:International Conference on Information Systems
URL:http://www.wikicfp.com/cfp/servlet/event.showcfp?eventid=15309&copyow
 nerid=32372
UID:cfp223540-N@wikicfp.com
END:VEVENT
BEGIN:VEVENT
DTSTAMP:20260422T151705Z
DTSTART;VALUE=DATE:20110908
SUMMARY:ICIS 2011 Final Version Due
DESCRIPTION:International Conference on Information Systems
URL:http://www.wikicfp.com/cfp/servlet/event.showcfp?eventid=15309&copyow
 nerid=32372
UID:cfp223540-N@wikicfp.com
END:VEVENT
BEGIN:VEVENT
DTSTAMP:20260422T151705Z
DTSTART;VALUE=DATE:20110801
DTEND;VALUE=DATE:20111001
SUMMARY:IJSWIS special issue 2012
DESCRIPTION:IJSWIS special issue on Sensor Networks\, Internet of Things 
 and Smart Devices
URL:http://www.wikicfp.com/cfp/servlet/event.showcfp?eventid=18205&copyow
 nerid=32372
UID:cfp223554-E@wikicfp.com
END:VEVENT
BEGIN:VEVENT
DTSTAMP:20260422T151705Z
DTSTART;VALUE=DATE:20110915
SUMMARY:IJSWIS special issue 2012 Deadline
DESCRIPTION:IJSWIS special issue on Sensor Networks\, Internet of Things 
 and Smart Devices
URL:http://www.wikicfp.com/cfp/servlet/event.showcfp?eventid=18205&copyow
 nerid=32372
UID:cfp223554-D@wikicfp.com
END:VEVENT
BEGIN:VEVENT
DTSTAMP:20260422T151705Z
DTSTART;VALUE=DATE:20111114
SUMMARY:IJSWIS special issue 2012 Notification Due
DESCRIPTION:IJSWIS special issue on Sensor Networks\, Internet of Things 
 and Smart Devices
URL:http://www.wikicfp.com/cfp/servlet/event.showcfp?eventid=18205&copyow
 nerid=32372
UID:cfp223554-N@wikicfp.com
END:VEVENT
BEGIN:VEVENT
DTSTAMP:20260422T151705Z
DTSTART;VALUE=DATE:20120215
DTEND;VALUE=DATE:20120218
SUMMARY:EWSN 2012
DESCRIPTION:9th European Conference on Wireless Sensor Networks
URL:http://www.wikicfp.com/cfp/servlet/event.showcfp?eventid=16751&copyow
 nerid=32372
UID:cfp223550-E@wikicfp.com
END:VEVENT
BEGIN:VEVENT
DTSTAMP:20260422T151705Z
DTSTART;VALUE=DATE:20110916
SUMMARY:EWSN 2012 Abstract Due
DESCRIPTION:9th European Conference on Wireless Sensor Networks
URL:http://www.wikicfp.com/cfp/servlet/event.showcfp?eventid=16751&copyow
 nerid=32372
UID:cfp223550-A@wikicfp.com
END:VEVENT
BEGIN:VEVENT
DTSTAMP:20260422T151705Z
DTSTART;VALUE=DATE:20110923
SUMMARY:EWSN 2012 Deadline
DESCRIPTION:9th European Conference on Wireless Sensor Networks
URL:http://www.wikicfp.com/cfp/servlet/event.showcfp?eventid=16751&copyow
 nerid=32372
UID:cfp223550-D@wikicfp.com
END:VEVENT
BEGIN:VEVENT
DTSTAMP:20260422T151705Z
DTSTART;VALUE=DATE:20111121
SUMMARY:EWSN 2012 Notification Due
DESCRIPTION:9th European Conference on Wireless Sensor Networks
URL:http://www.wikicfp.com/cfp/servlet/event.showcfp?eventid=16751&copyow
 nerid=32372
UID:cfp223550-N@wikicfp.com
END:VEVENT
BEGIN:VEVENT
DTSTAMP:20260422T151705Z
DTSTART;VALUE=DATE:20120224
DTEND;VALUE=DATE:20120227
SUMMARY:SENSORNETS 2012
DESCRIPTION:1st International Conference on Sensor Networks(SENSORNETS)
URL:http://www.wikicfp.com/cfp/servlet/event.showcfp?eventid=17985&copyow
 nerid=32372
UID:cfp223552-E@wikicfp.com
END:VEVENT
BEGIN:VEVENT
DTSTAMP:20260422T151705Z
DTSTART;VALUE=DATE:20111013
SUMMARY:SENSORNETS 2012 Deadline
DESCRIPTION:1st International Conference on Sensor Networks(SENSORNETS)
URL:http://www.wikicfp.com/cfp/servlet/event.showcfp?eventid=17985&copyow
 nerid=32372
UID:cfp223552-D@wikicfp.com
END:VEVENT
BEGIN:VEVENT
DTSTAMP:20260422T151705Z
DTSTART;VALUE=DATE:20111121
SUMMARY:SENSORNETS 2012 Notification Due
DESCRIPTION:1st International Conference on Sensor Networks(SENSORNETS)
URL:http://www.wikicfp.com/cfp/servlet/event.showcfp?eventid=17985&copyow
 nerid=32372
UID:cfp223552-N@wikicfp.com
END:VEVENT
BEGIN:VEVENT
DTSTAMP:20260422T151705Z
DTSTART;VALUE=DATE:20111205
SUMMARY:SENSORNETS 2012 Final Version Due
DESCRIPTION:1st International Conference on Sensor Networks(SENSORNETS)
URL:http://www.wikicfp.com/cfp/servlet/event.showcfp?eventid=17985&copyow
 nerid=32372
UID:cfp223552-N@wikicfp.com
END:VEVENT
BEGIN:VEVENT
DTSTAMP:20260422T151705Z
DTSTART;VALUE=DATE:20111014
SUMMARY:RTAS 2012 Deadline
DESCRIPTION:The 18th IEEE Real-Time and Embedded Technology and Applicati
 ons Symposium
URL:http://www.wikicfp.com/cfp/servlet/event.showcfp?eventid=10786&copyow
 nerid=32372
UID:cfp223551-D@wikicfp.com
END:VEVENT
BEGIN:VEVENT
DTSTAMP:20260422T151705Z
DTSTART;VALUE=DATE:20111210
SUMMARY:RTAS 2012 Notification Due
DESCRIPTION:The 18th IEEE Real-Time and Embedded Technology and Applicati
 ons Symposium
URL:http://www.wikicfp.com/cfp/servlet/event.showcfp?eventid=10786&copyow
 nerid=32372
UID:cfp223551-N@wikicfp.com
END:VEVENT
BEGIN:VEVENT
DTSTAMP:20260422T151705Z
DTSTART;VALUE=DATE:20120416
DTEND;VALUE=DATE:20120420
SUMMARY:IPSN 2012
DESCRIPTION:The 11th ACM/IEEE Conference on Information Processing in Sen
 sor Networks
URL:http://www.wikicfp.com/cfp/servlet/event.showcfp?eventid=17512&copyow
 nerid=32372
UID:cfp223549-E@wikicfp.com
END:VEVENT
BEGIN:VEVENT
DTSTAMP:20260422T151705Z
DTSTART;VALUE=DATE:20111007
SUMMARY:IPSN 2012 Abstract Due
DESCRIPTION:The 11th ACM/IEEE Conference on Information Processing in Sen
 sor Networks
URL:http://www.wikicfp.com/cfp/servlet/event.showcfp?eventid=17512&copyow
 nerid=32372
UID:cfp223549-A@wikicfp.com
END:VEVENT
BEGIN:VEVENT
DTSTAMP:20260422T151705Z
DTSTART;VALUE=DATE:20111014
SUMMARY:IPSN 2012 Deadline
DESCRIPTION:The 11th ACM/IEEE Conference on Information Processing in Sen
 sor Networks
URL:http://www.wikicfp.com/cfp/servlet/event.showcfp?eventid=17512&copyow
 nerid=32372
UID:cfp223549-D@wikicfp.com
END:VEVENT
BEGIN:VEVENT
DTSTAMP:20260422T151705Z
DTSTART;VALUE=DATE:20120120
SUMMARY:IPSN 2012 Notification Due
DESCRIPTION:The 11th ACM/IEEE Conference on Information Processing in Sen
 sor Networks
URL:http://www.wikicfp.com/cfp/servlet/event.showcfp?eventid=17512&copyow
 nerid=32372
UID:cfp223549-N@wikicfp.com
END:VEVENT
BEGIN:VEVENT
DTSTAMP:20260422T151705Z
DTSTART;VALUE=DATE:20120301
SUMMARY:IPSN 2012 Final Version Due
DESCRIPTION:The 11th ACM/IEEE Conference on Information Processing in Sen
 sor Networks
URL:http://www.wikicfp.com/cfp/servlet/event.showcfp?eventid=17512&copyow
 nerid=32372
UID:cfp223549-N@wikicfp.com
END:VEVENT
BEGIN:VEVENT
DTSTAMP:20260422T151705Z
DTSTART;VALUE=DATE:20120319
DTEND;VALUE=DATE:20120324
SUMMARY:SeNAmI 2012
DESCRIPTION:4rd International Workshop on Sensor Networks and Ambient Int
 elligence
URL:http://www.wikicfp.com/cfp/servlet/event.showcfp?eventid=18207&copyow
 nerid=32372
UID:cfp223553-E@wikicfp.com
END:VEVENT
BEGIN:VEVENT
DTSTAMP:20260422T151705Z
DTSTART;VALUE=DATE:20111030
SUMMARY:SeNAmI 2012 Deadline
DESCRIPTION:4rd International Workshop on Sensor Networks and Ambient Int
 elligence
URL:http://www.wikicfp.com/cfp/servlet/event.showcfp?eventid=18207&copyow
 nerid=32372
UID:cfp223553-D@wikicfp.com
END:VEVENT
BEGIN:VEVENT
DTSTAMP:20260422T151705Z
DTSTART;VALUE=DATE:20111220
SUMMARY:SeNAmI 2012 Notification Due
DESCRIPTION:4rd International Workshop on Sensor Networks and Ambient Int
 elligence
URL:http://www.wikicfp.com/cfp/servlet/event.showcfp?eventid=18207&copyow
 nerid=32372
UID:cfp223553-N@wikicfp.com
END:VEVENT
BEGIN:VEVENT
DTSTAMP:20260422T151705Z
DTSTART;VALUE=DATE:20120127
SUMMARY:SeNAmI 2012 Final Version Due
DESCRIPTION:4rd International Workshop on Sensor Networks and Ambient Int
 elligence
URL:http://www.wikicfp.com/cfp/servlet/event.showcfp?eventid=18207&copyow
 nerid=32372
UID:cfp223553-N@wikicfp.com
END:VEVENT
BEGIN:VEVENT
DTSTAMP:20260422T151705Z
DTSTART;VALUE=DATE:20120319
DTEND;VALUE=DATE:20120324
SUMMARY:PerSeNS  2012
DESCRIPTION:The Eighth IEEE PerCom International Workshop on  Sensor Netw
 orks and Systems for Pervasive Computing 
URL:http://www.wikicfp.com/cfp/servlet/event.showcfp?eventid=18842&copyow
 nerid=32372
UID:cfp223555-E@wikicfp.com
END:VEVENT
BEGIN:VEVENT
DTSTAMP:20260422T151705Z
DTSTART;VALUE=DATE:20111107
SUMMARY:PerSeNS  2012 Deadline
DESCRIPTION:The Eighth IEEE PerCom International Workshop on  Sensor Netw
 orks and Systems for Pervasive Computing 
URL:http://www.wikicfp.com/cfp/servlet/event.showcfp?eventid=18842&copyow
 nerid=32372
UID:cfp223555-D@wikicfp.com
END:VEVENT
BEGIN:VEVENT
DTSTAMP:20260422T151705Z
DTSTART;VALUE=DATE:20111220
SUMMARY:PerSeNS  2012 Notification Due
DESCRIPTION:The Eighth IEEE PerCom International Workshop on  Sensor Netw
 orks and Systems for Pervasive Computing 
URL:http://www.wikicfp.com/cfp/servlet/event.showcfp?eventid=18842&copyow
 nerid=32372
UID:cfp223555-N@wikicfp.com
END:VEVENT
BEGIN:VEVENT
DTSTAMP:20260422T151705Z
DTSTART;VALUE=DATE:20120127
SUMMARY:PerSeNS  2012 Final Version Due
DESCRIPTION:The Eighth IEEE PerCom International Workshop on  Sensor Netw
 orks and Systems for Pervasive Computing 
URL:http://www.wikicfp.com/cfp/servlet/event.showcfp?eventid=18842&copyow
 nerid=32372
UID:cfp223555-N@wikicfp.com
END:VEVENT
BEGIN:VEVENT
DTSTAMP:20260422T151705Z
DTSTART;VALUE=DATE:20120418
DTEND;VALUE=DATE:20120421
SUMMARY:Collective Intelligence 2012
DESCRIPTION:Collective Intelligence 2012
URL:http://www.wikicfp.com/cfp/servlet/event.showcfp?eventid=16796&copyow
 nerid=32372
UID:cfp223558-E@wikicfp.com
END:VEVENT
BEGIN:VEVENT
DTSTAMP:20260422T151705Z
DTSTART;VALUE=DATE:20111118
SUMMARY:Collective Intelligence 2012 Deadline
DESCRIPTION:Collective Intelligence 2012
URL:http://www.wikicfp.com/cfp/servlet/event.showcfp?eventid=16796&copyow
 nerid=32372
UID:cfp223558-D@wikicfp.com
END:VEVENT
BEGIN:VEVENT
DTSTAMP:20260422T151705Z
DTSTART;VALUE=DATE:20120115
SUMMARY:Collective Intelligence 2012 Notification Due
DESCRIPTION:Collective Intelligence 2012
URL:http://www.wikicfp.com/cfp/servlet/event.showcfp?eventid=16796&copyow
 nerid=32372
UID:cfp223558-N@wikicfp.com
END:VEVENT
BEGIN:VEVENT
DTSTAMP:20260422T151705Z
DTSTART;VALUE=DATE:20120215
SUMMARY:Collective Intelligence 2012 Final Version Due
DESCRIPTION:Collective Intelligence 2012
URL:http://www.wikicfp.com/cfp/servlet/event.showcfp?eventid=16796&copyow
 nerid=32372
UID:cfp223558-N@wikicfp.com
END:VEVENT
BEGIN:VEVENT
DTSTAMP:20260422T151705Z
DTSTART;VALUE=DATE:20120610
DTEND;VALUE=DATE:20120614
SUMMARY:ESIS 2012
DESCRIPTION:European Conference on Information Systems\, 2012
URL:http://www.wikicfp.com/cfp/servlet/event.showcfp?eventid=18966&copyow
 nerid=32372
UID:cfp223541-E@wikicfp.com
END:VEVENT
BEGIN:VEVENT
DTSTAMP:20260422T151705Z
DTSTART;VALUE=DATE:20111201
SUMMARY:ESIS 2012 Deadline
DESCRIPTION:European Conference on Information Systems\, 2012
URL:http://www.wikicfp.com/cfp/servlet/event.showcfp?eventid=18966&copyow
 nerid=32372
UID:cfp223541-D@wikicfp.com
END:VEVENT
BEGIN:VEVENT
DTSTAMP:20260422T151705Z
DTSTART;VALUE=DATE:20120618
DTEND;VALUE=DATE:20120622
SUMMARY:SECON 2012
DESCRIPTION:IEEE Communications Society Conference on Sensor\, Mesh and A
 d Hoc Communications and Networks
URL:http://www.wikicfp.com/cfp/servlet/event.showcfp?eventid=17935&copyow
 nerid=32372
UID:cfp223548-E@wikicfp.com
END:VEVENT
BEGIN:VEVENT
DTSTAMP:20260422T151705Z
DTSTART;VALUE=DATE:20111201
SUMMARY:SECON 2012 Abstract Due
DESCRIPTION:IEEE Communications Society Conference on Sensor\, Mesh and A
 d Hoc Communications and Networks
URL:http://www.wikicfp.com/cfp/servlet/event.showcfp?eventid=17935&copyow
 nerid=32372
UID:cfp223548-A@wikicfp.com
END:VEVENT
BEGIN:VEVENT
DTSTAMP:20260422T151705Z
DTSTART;VALUE=DATE:20111208
SUMMARY:SECON 2012 Deadline
DESCRIPTION:IEEE Communications Society Conference on Sensor\, Mesh and A
 d Hoc Communications and Networks
URL:http://www.wikicfp.com/cfp/servlet/event.showcfp?eventid=17935&copyow
 nerid=32372
UID:cfp223548-D@wikicfp.com
END:VEVENT
BEGIN:VEVENT
DTSTAMP:20260422T151705Z
DTSTART;VALUE=DATE:20120319
SUMMARY:SECON 2012 Notification Due
DESCRIPTION:IEEE Communications Society Conference on Sensor\, Mesh and A
 d Hoc Communications and Networks
URL:http://www.wikicfp.com/cfp/servlet/event.showcfp?eventid=17935&copyow
 nerid=32372
UID:cfp223548-N@wikicfp.com
END:VEVENT
BEGIN:VEVENT
DTSTAMP:20260422T151705Z
DTSTART;VALUE=DATE:20120416
SUMMARY:SECON 2012 Final Version Due
DESCRIPTION:IEEE Communications Society Conference on Sensor\, Mesh and A
 d Hoc Communications and Networks
URL:http://www.wikicfp.com/cfp/servlet/event.showcfp?eventid=17935&copyow
 nerid=32372
UID:cfp223548-N@wikicfp.com
END:VEVENT
BEGIN:VEVENT
DTSTAMP:20260422T151705Z
DTSTART;VALUE=DATE:20120626
DTEND;VALUE=DATE:20120629
SUMMARY:FutureTech 2012
DESCRIPTION:The 7th International Conference on Future Information Techno
 logy
URL:http://www.wikicfp.com/cfp/servlet/event.showcfp?eventid=16721&copyow
 nerid=32372
UID:cfp223543-E@wikicfp.com
END:VEVENT
BEGIN:VEVENT
DTSTAMP:20260422T151705Z
DTSTART;VALUE=DATE:20111215
SUMMARY:FutureTech 2012 Deadline
DESCRIPTION:The 7th International Conference on Future Information Techno
 logy
URL:http://www.wikicfp.com/cfp/servlet/event.showcfp?eventid=16721&copyow
 nerid=32372
UID:cfp223543-D@wikicfp.com
END:VEVENT
BEGIN:VEVENT
DTSTAMP:20260422T151705Z
DTSTART;VALUE=DATE:20120228
SUMMARY:FutureTech 2012 Notification Due
DESCRIPTION:The 7th International Conference on Future Information Techno
 logy
URL:http://www.wikicfp.com/cfp/servlet/event.showcfp?eventid=16721&copyow
 nerid=32372
UID:cfp223543-N@wikicfp.com
END:VEVENT
BEGIN:VEVENT
DTSTAMP:20260422T151705Z
DTSTART;VALUE=DATE:20120315
SUMMARY:FutureTech 2012 Final Version Due
DESCRIPTION:The 7th International Conference on Future Information Techno
 logy
URL:http://www.wikicfp.com/cfp/servlet/event.showcfp?eventid=16721&copyow
 nerid=32372
UID:cfp223543-N@wikicfp.com
END:VEVENT
BEGIN:VEVENT
DTSTAMP:20260422T151705Z
DTSTART;VALUE=DATE:20120627
DTEND;VALUE=DATE:20120630
SUMMARY:ICML 2012
DESCRIPTION:29th International Conference on Machine Learning
URL:http://www.wikicfp.com/cfp/servlet/event.showcfp?eventid=16247&copyow
 nerid=32372
UID:cfp223546-E@wikicfp.com
END:VEVENT
BEGIN:VEVENT
DTSTAMP:20260422T151705Z
DTSTART;VALUE=DATE:20120224
SUMMARY:ICML 2012 Deadline
DESCRIPTION:29th International Conference on Machine Learning
URL:http://www.wikicfp.com/cfp/servlet/event.showcfp?eventid=16247&copyow
 nerid=32372
UID:cfp223546-D@wikicfp.com
END:VEVENT
BEGIN:VEVENT
DTSTAMP:20260422T151705Z
DTSTART;VALUE=DATE:20120430
SUMMARY:ICML 2012 Notification Due
DESCRIPTION:29th International Conference on Machine Learning
URL:http://www.wikicfp.com/cfp/servlet/event.showcfp?eventid=16247&copyow
 nerid=32372
UID:cfp223546-N@wikicfp.com
END:VEVENT
BEGIN:VEVENT
DTSTAMP:20260422T151705Z
DTSTART;VALUE=DATE:20120815
DTEND;VALUE=DATE:20120818
SUMMARY:UAI 2012
DESCRIPTION:28th Conference on Uncertainty in Artificial Intelligence
URL:http://www.wikicfp.com/cfp/servlet/event.showcfp?eventid=18114&copyow
 nerid=32372
UID:cfp223547-E@wikicfp.com
END:VEVENT
BEGIN:VEVENT
DTSTAMP:20260422T151705Z
DTSTART;VALUE=DATE:20120330
SUMMARY:UAI 2012 Deadline
DESCRIPTION:28th Conference on Uncertainty in Artificial Intelligence
URL:http://www.wikicfp.com/cfp/servlet/event.showcfp?eventid=18114&copyow
 nerid=32372
UID:cfp223547-D@wikicfp.com
END:VEVENT
BEGIN:VEVENT
DTSTAMP:20260422T151705Z
DTSTART;VALUE=DATE:20120601
SUMMARY:UAI 2012 Notification Due
DESCRIPTION:28th Conference on Uncertainty in Artificial Intelligence
URL:http://www.wikicfp.com/cfp/servlet/event.showcfp?eventid=18114&copyow
 nerid=32372
UID:cfp223547-N@wikicfp.com
END:VEVENT
BEGIN:VEVENT
DTSTAMP:20260422T151705Z
DTSTART;VALUE=DATE:20120628
DTEND;VALUE=DATE:20120702
SUMMARY:ICEIS 2012
DESCRIPTION:14th International Conference on Enterprise Information Syste
 ms
URL:http://www.wikicfp.com/cfp/servlet/event.showcfp?eventid=17192&copyow
 nerid=32372
UID:cfp223542-E@wikicfp.com
END:VEVENT
BEGIN:VEVENT
DTSTAMP:20260422T151705Z
DTSTART;VALUE=DATE:20120409
SUMMARY:ICEIS 2012 Deadline
DESCRIPTION:14th International Conference on Enterprise Information Syste
 ms
URL:http://www.wikicfp.com/cfp/servlet/event.showcfp?eventid=17192&copyow
 nerid=32372
UID:cfp223542-D@wikicfp.com
END:VEVENT
BEGIN:VEVENT
DTSTAMP:20260422T151705Z
DTSTART;VALUE=DATE:20120427
SUMMARY:ICEIS 2012 Notification Due
DESCRIPTION:14th International Conference on Enterprise Information Syste
 ms
URL:http://www.wikicfp.com/cfp/servlet/event.showcfp?eventid=17192&copyow
 nerid=32372
UID:cfp223542-N@wikicfp.com
END:VEVENT
BEGIN:VEVENT
DTSTAMP:20260422T151705Z
DTSTART;VALUE=DATE:20120511
SUMMARY:ICEIS 2012 Final Version Due
DESCRIPTION:14th International Conference on Enterprise Information Syste
 ms
URL:http://www.wikicfp.com/cfp/servlet/event.showcfp?eventid=17192&copyow
 nerid=32372
UID:cfp223542-N@wikicfp.com
END:VEVENT
END:VCALENDAR
