BEGIN:VCALENDAR
PRODID:-//WikiCFP//kundan67 1.0//EN
VERSION:2.0
CALSCALE:GREGORIAN
BEGIN:VEVENT
DTSTAMP:20260420T150148Z
DTSTART;VALUE=DATE:20130109
DTEND;VALUE=DATE:20130112
SUMMARY:AICWIC 2013
DESCRIPTION:Second Edition of Amrita International Conference of Women in
  Computing
URL:http://www.wikicfp.com/cfp/servlet/event.showcfp?eventid=20830&copyow
 nerid=32332
UID:cfp276253-E@wikicfp.com
END:VEVENT
BEGIN:VEVENT
DTSTAMP:20260420T150148Z
DTSTART;VALUE=DATE:20120901
SUMMARY:AICWIC 2013 Deadline
DESCRIPTION:Second Edition of Amrita International Conference of Women in
  Computing
URL:http://www.wikicfp.com/cfp/servlet/event.showcfp?eventid=20830&copyow
 nerid=32332
UID:cfp276253-D@wikicfp.com
END:VEVENT
BEGIN:VEVENT
DTSTAMP:20260420T150148Z
DTSTART;VALUE=DATE:20121115
SUMMARY:AICWIC 2013 Notification Due
DESCRIPTION:Second Edition of Amrita International Conference of Women in
  Computing
URL:http://www.wikicfp.com/cfp/servlet/event.showcfp?eventid=20830&copyow
 nerid=32332
UID:cfp276253-N@wikicfp.com
END:VEVENT
BEGIN:VEVENT
DTSTAMP:20260420T150148Z
DTSTART;VALUE=DATE:20121130
SUMMARY:AICWIC 2013 Final Version Due
DESCRIPTION:Second Edition of Amrita International Conference of Women in
  Computing
URL:http://www.wikicfp.com/cfp/servlet/event.showcfp?eventid=20830&copyow
 nerid=32332
UID:cfp276253-N@wikicfp.com
END:VEVENT
BEGIN:VEVENT
DTSTAMP:20260420T150148Z
DTSTART;VALUE=DATE:20130325
DTEND;VALUE=DATE:20130319
SUMMARY:SOSE 2013
DESCRIPTION:IEEE International Symposium on Service Oriented System Engin
 eering
URL:http://www.wikicfp.com/cfp/servlet/event.showcfp?eventid=23378&copyow
 nerid=32332
UID:cfp276246-E@wikicfp.com
END:VEVENT
BEGIN:VEVENT
DTSTAMP:20260420T150148Z
DTSTART;VALUE=DATE:20121015
SUMMARY:SOSE 2013 Deadline
DESCRIPTION:IEEE International Symposium on Service Oriented System Engin
 eering
URL:http://www.wikicfp.com/cfp/servlet/event.showcfp?eventid=23378&copyow
 nerid=32332
UID:cfp276246-D@wikicfp.com
END:VEVENT
BEGIN:VEVENT
DTSTAMP:20260420T150148Z
DTSTART;VALUE=DATE:20121231
SUMMARY:SOSE 2013 Notification Due
DESCRIPTION:IEEE International Symposium on Service Oriented System Engin
 eering
URL:http://www.wikicfp.com/cfp/servlet/event.showcfp?eventid=23378&copyow
 nerid=32332
UID:cfp276246-N@wikicfp.com
END:VEVENT
BEGIN:VEVENT
DTSTAMP:20260420T150148Z
DTSTART;VALUE=DATE:20130115
SUMMARY:SOSE 2013 Final Version Due
DESCRIPTION:IEEE International Symposium on Service Oriented System Engin
 eering
URL:http://www.wikicfp.com/cfp/servlet/event.showcfp?eventid=23378&copyow
 nerid=32332
UID:cfp276246-N@wikicfp.com
END:VEVENT
BEGIN:VEVENT
DTSTAMP:20260420T150148Z
DTSTART;VALUE=DATE:20121101
SUMMARY:CSed Games 2013 Deadline
DESCRIPTION:Computer Science Education Special Issue on Games in Computer
  Science Education
URL:http://www.wikicfp.com/cfp/servlet/event.showcfp?eventid=23586&copyow
 nerid=32332
UID:cfp276261-D@wikicfp.com
END:VEVENT
BEGIN:VEVENT
DTSTAMP:20260420T150148Z
DTSTART;VALUE=DATE:20130115
SUMMARY:CSed Games 2013 Notification Due
DESCRIPTION:Computer Science Education Special Issue on Games in Computer
  Science Education
URL:http://www.wikicfp.com/cfp/servlet/event.showcfp?eventid=23586&copyow
 nerid=32332
UID:cfp276261-N@wikicfp.com
END:VEVENT
BEGIN:VEVENT
DTSTAMP:20260420T150148Z
DTSTART;VALUE=DATE:20130301
SUMMARY:CSed Games 2013 Final Version Due
DESCRIPTION:Computer Science Education Special Issue on Games in Computer
  Science Education
URL:http://www.wikicfp.com/cfp/servlet/event.showcfp?eventid=23586&copyow
 nerid=32332
UID:cfp276261-N@wikicfp.com
END:VEVENT
BEGIN:VEVENT
DTSTAMP:20260420T150148Z
DTSTART;VALUE=DATE:20130410
DTEND;VALUE=DATE:20130413
SUMMARY:ACS 2013
DESCRIPTION:Advances in Computer Science 
URL:http://www.wikicfp.com/cfp/servlet/event.showcfp?eventid=23510&copyow
 nerid=32332
UID:cfp276262-E@wikicfp.com
END:VEVENT
BEGIN:VEVENT
DTSTAMP:20260420T150148Z
DTSTART;VALUE=DATE:20121126
SUMMARY:ACS 2013 Deadline
DESCRIPTION:Advances in Computer Science 
URL:http://www.wikicfp.com/cfp/servlet/event.showcfp?eventid=23510&copyow
 nerid=32332
UID:cfp276262-D@wikicfp.com
END:VEVENT
BEGIN:VEVENT
DTSTAMP:20260420T150148Z
DTSTART;VALUE=DATE:20121231
SUMMARY:Trans. on MLDM 2012 Deadline
DESCRIPTION:International Journal Transactions on Machine Learning and Da
 ta Mining
URL:http://www.wikicfp.com/cfp/servlet/event.showcfp?eventid=19733&copyow
 nerid=32332
UID:cfp276263-D@wikicfp.com
END:VEVENT
END:VCALENDAR
