BEGIN:VCALENDAR
PRODID:-//WikiCFP//justinzh 1.0//EN
VERSION:2.0
CALSCALE:GREGORIAN
BEGIN:VEVENT
DTSTAMP:20260424T231429Z
DTSTART;VALUE=DATE:20090829
DTEND;VALUE=DATE:20090901
SUMMARY:SocialCom 2009
DESCRIPTION:The 2009 IEEE International Conference on Social Computing 
URL:http://www.wikicfp.com/cfp/servlet/event.showcfp?eventid=4645&copyown
 erid=3232
UID:cfp26756-E@wikicfp.com
END:VEVENT
BEGIN:VEVENT
DTSTAMP:20260424T231429Z
DTSTART;VALUE=DATE:20090401
SUMMARY:SocialCom 2009 Deadline
DESCRIPTION:The 2009 IEEE International Conference on Social Computing 
URL:http://www.wikicfp.com/cfp/servlet/event.showcfp?eventid=4645&copyown
 erid=3232
UID:cfp26756-D@wikicfp.com
END:VEVENT
BEGIN:VEVENT
DTSTAMP:20260424T231429Z
DTSTART;VALUE=DATE:20090601
SUMMARY:SocialCom 2009 Notification Due
DESCRIPTION:The 2009 IEEE International Conference on Social Computing 
URL:http://www.wikicfp.com/cfp/servlet/event.showcfp?eventid=4645&copyown
 erid=3232
UID:cfp26756-N@wikicfp.com
END:VEVENT
BEGIN:VEVENT
DTSTAMP:20260424T231429Z
DTSTART;VALUE=DATE:20090615
SUMMARY:SocialCom 2009 Final Version Due
DESCRIPTION:The 2009 IEEE International Conference on Social Computing 
URL:http://www.wikicfp.com/cfp/servlet/event.showcfp?eventid=4645&copyown
 erid=3232
UID:cfp26756-N@wikicfp.com
END:VEVENT
BEGIN:VEVENT
DTSTAMP:20260424T231429Z
DTSTART;VALUE=DATE:20090829
DTEND;VALUE=DATE:20090901
SUMMARY:PASSAT 2009
DESCRIPTION:IEEE International Conference on Privacy\, Security\, Risk\, 
 and Trust  
URL:http://www.wikicfp.com/cfp/servlet/event.showcfp?eventid=4647&copyown
 erid=3232
UID:cfp26800-E@wikicfp.com
END:VEVENT
BEGIN:VEVENT
DTSTAMP:20260424T231429Z
DTSTART;VALUE=DATE:20090401
SUMMARY:PASSAT 2009 Deadline
DESCRIPTION:IEEE International Conference on Privacy\, Security\, Risk\, 
 and Trust  
URL:http://www.wikicfp.com/cfp/servlet/event.showcfp?eventid=4647&copyown
 erid=3232
UID:cfp26800-D@wikicfp.com
END:VEVENT
BEGIN:VEVENT
DTSTAMP:20260424T231429Z
DTSTART;VALUE=DATE:20090601
SUMMARY:PASSAT 2009 Notification Due
DESCRIPTION:IEEE International Conference on Privacy\, Security\, Risk\, 
 and Trust  
URL:http://www.wikicfp.com/cfp/servlet/event.showcfp?eventid=4647&copyown
 erid=3232
UID:cfp26800-N@wikicfp.com
END:VEVENT
BEGIN:VEVENT
DTSTAMP:20260424T231429Z
DTSTART;VALUE=DATE:20090829
DTEND;VALUE=DATE:20090901
SUMMARY:PASSAT 2009
DESCRIPTION:IEEE International Conference on Privacy\, Security\, Risk an
 d Trust (PASSAT-09)
URL:http://www.wikicfp.com/cfp/servlet/event.showcfp?eventid=5294&copyown
 erid=3232
UID:cfp34294-E@wikicfp.com
END:VEVENT
BEGIN:VEVENT
DTSTAMP:20260424T231429Z
DTSTART;VALUE=DATE:20090430
SUMMARY:PASSAT 2009 Deadline
DESCRIPTION:IEEE International Conference on Privacy\, Security\, Risk an
 d Trust (PASSAT-09)
URL:http://www.wikicfp.com/cfp/servlet/event.showcfp?eventid=5294&copyown
 erid=3232
UID:cfp34294-D@wikicfp.com
END:VEVENT
BEGIN:VEVENT
DTSTAMP:20260424T231429Z
DTSTART;VALUE=DATE:20090829
DTEND;VALUE=DATE:20090901
SUMMARY:SocialCom 2009
DESCRIPTION:IEEE International Conference on Social Computing 2009
URL:http://www.wikicfp.com/cfp/servlet/event.showcfp?eventid=5295&copyown
 erid=3232
UID:cfp34295-E@wikicfp.com
END:VEVENT
BEGIN:VEVENT
DTSTAMP:20260424T231429Z
DTSTART;VALUE=DATE:20090430
SUMMARY:SocialCom 2009 Deadline
DESCRIPTION:IEEE International Conference on Social Computing 2009
URL:http://www.wikicfp.com/cfp/servlet/event.showcfp?eventid=5295&copyown
 erid=3232
UID:cfp34295-D@wikicfp.com
END:VEVENT
END:VCALENDAR
