BEGIN:VCALENDAR
PRODID:-//WikiCFP//Mehul 1.0//EN
VERSION:2.0
CALSCALE:GREGORIAN
BEGIN:VEVENT
DTSTAMP:20260422T014749Z
DTSTART;VALUE=DATE:20090711
DTEND;VALUE=DATE:20090718
SUMMARY:IJCAI 2009
DESCRIPTION:TWENTY FIRST INTERNATIONAL JOINT CONFERENCE ON ARTIFICIAL INT
 ELLIGENCE
URL:http://www.wikicfp.com/cfp/servlet/event.showcfp?eventid=3554&copyown
 erid=3225
UID:cfp26515-E@wikicfp.com
END:VEVENT
BEGIN:VEVENT
DTSTAMP:20260422T014749Z
DTSTART;VALUE=DATE:20090107
SUMMARY:IJCAI 2009 Abstract Due
DESCRIPTION:TWENTY FIRST INTERNATIONAL JOINT CONFERENCE ON ARTIFICIAL INT
 ELLIGENCE
URL:http://www.wikicfp.com/cfp/servlet/event.showcfp?eventid=3554&copyown
 erid=3225
UID:cfp26515-A@wikicfp.com
END:VEVENT
BEGIN:VEVENT
DTSTAMP:20260422T014749Z
DTSTART;VALUE=DATE:20090112
SUMMARY:IJCAI 2009 Deadline
DESCRIPTION:TWENTY FIRST INTERNATIONAL JOINT CONFERENCE ON ARTIFICIAL INT
 ELLIGENCE
URL:http://www.wikicfp.com/cfp/servlet/event.showcfp?eventid=3554&copyown
 erid=3225
UID:cfp26515-D@wikicfp.com
END:VEVENT
BEGIN:VEVENT
DTSTAMP:20260422T014749Z
DTSTART;VALUE=DATE:20090317
SUMMARY:IJCAI 2009 Notification Due
DESCRIPTION:TWENTY FIRST INTERNATIONAL JOINT CONFERENCE ON ARTIFICIAL INT
 ELLIGENCE
URL:http://www.wikicfp.com/cfp/servlet/event.showcfp?eventid=3554&copyown
 erid=3225
UID:cfp26515-N@wikicfp.com
END:VEVENT
BEGIN:VEVENT
DTSTAMP:20260422T014749Z
DTSTART;VALUE=DATE:20090414
SUMMARY:IJCAI 2009 Final Version Due
DESCRIPTION:TWENTY FIRST INTERNATIONAL JOINT CONFERENCE ON ARTIFICIAL INT
 ELLIGENCE
URL:http://www.wikicfp.com/cfp/servlet/event.showcfp?eventid=3554&copyown
 erid=3225
UID:cfp26515-N@wikicfp.com
END:VEVENT
BEGIN:VEVENT
DTSTAMP:20260422T014749Z
DTSTART;VALUE=DATE:20090712
DTEND;VALUE=DATE:20090713
SUMMARY:IJCAI-SpaceTime 2009
DESCRIPTION:IJCAI Workshop on Spatial and Temporal Reasoning
URL:http://www.wikicfp.com/cfp/servlet/event.showcfp?eventid=4510&copyown
 erid=3225
UID:cfp26514-E@wikicfp.com
END:VEVENT
BEGIN:VEVENT
DTSTAMP:20260422T014749Z
DTSTART;VALUE=DATE:20090306
SUMMARY:IJCAI-SpaceTime 2009 Deadline
DESCRIPTION:IJCAI Workshop on Spatial and Temporal Reasoning
URL:http://www.wikicfp.com/cfp/servlet/event.showcfp?eventid=4510&copyown
 erid=3225
UID:cfp26514-D@wikicfp.com
END:VEVENT
BEGIN:VEVENT
DTSTAMP:20260422T014749Z
DTSTART;VALUE=DATE:20090417
SUMMARY:IJCAI-SpaceTime 2009 Notification Due
DESCRIPTION:IJCAI Workshop on Spatial and Temporal Reasoning
URL:http://www.wikicfp.com/cfp/servlet/event.showcfp?eventid=4510&copyown
 erid=3225
UID:cfp26514-N@wikicfp.com
END:VEVENT
BEGIN:VEVENT
DTSTAMP:20260422T014749Z
DTSTART;VALUE=DATE:20090508
SUMMARY:IJCAI-SpaceTime 2009 Final Version Due
DESCRIPTION:IJCAI Workshop on Spatial and Temporal Reasoning
URL:http://www.wikicfp.com/cfp/servlet/event.showcfp?eventid=4510&copyown
 erid=3225
UID:cfp26514-N@wikicfp.com
END:VEVENT
BEGIN:VEVENT
DTSTAMP:20260422T014749Z
DTSTART;VALUE=DATE:20090921
DTEND;VALUE=DATE:20090926
SUMMARY:COSIT AMI 2009
DESCRIPTION:Workshop on Spatial and Temporal Reasoning for Ambient Intell
 igence Systems
URL:http://www.wikicfp.com/cfp/servlet/event.showcfp?eventid=4629&copyown
 erid=3225
UID:cfp26516-E@wikicfp.com
END:VEVENT
BEGIN:VEVENT
DTSTAMP:20260422T014749Z
DTSTART;VALUE=DATE:20090520
SUMMARY:COSIT AMI 2009 Deadline
DESCRIPTION:Workshop on Spatial and Temporal Reasoning for Ambient Intell
 igence Systems
URL:http://www.wikicfp.com/cfp/servlet/event.showcfp?eventid=4629&copyown
 erid=3225
UID:cfp26516-D@wikicfp.com
END:VEVENT
BEGIN:VEVENT
DTSTAMP:20260422T014749Z
DTSTART;VALUE=DATE:20090630
SUMMARY:COSIT AMI 2009 Notification Due
DESCRIPTION:Workshop on Spatial and Temporal Reasoning for Ambient Intell
 igence Systems
URL:http://www.wikicfp.com/cfp/servlet/event.showcfp?eventid=4629&copyown
 erid=3225
UID:cfp26516-N@wikicfp.com
END:VEVENT
BEGIN:VEVENT
DTSTAMP:20260422T014749Z
DTSTART;VALUE=DATE:20090715
SUMMARY:COSIT AMI 2009 Final Version Due
DESCRIPTION:Workshop on Spatial and Temporal Reasoning for Ambient Intell
 igence Systems
URL:http://www.wikicfp.com/cfp/servlet/event.showcfp?eventid=4629&copyown
 erid=3225
UID:cfp26516-N@wikicfp.com
END:VEVENT
BEGIN:VEVENT
DTSTAMP:20260422T014749Z
DTSTART;VALUE=DATE:20091216
DTEND;VALUE=DATE:20091219
SUMMARY:IICAI Spatial Temporal 2009
DESCRIPTION:Special Session on Spatial and Temporal Reasoning
URL:http://www.wikicfp.com/cfp/servlet/event.showcfp?eventid=4630&copyown
 erid=3225
UID:cfp26517-E@wikicfp.com
END:VEVENT
BEGIN:VEVENT
DTSTAMP:20260422T014749Z
DTSTART;VALUE=DATE:20090520
SUMMARY:IICAI Spatial Temporal 2009 Deadline
DESCRIPTION:Special Session on Spatial and Temporal Reasoning
URL:http://www.wikicfp.com/cfp/servlet/event.showcfp?eventid=4630&copyown
 erid=3225
UID:cfp26517-D@wikicfp.com
END:VEVENT
BEGIN:VEVENT
DTSTAMP:20260422T014749Z
DTSTART;VALUE=DATE:20090625
SUMMARY:IICAI Spatial Temporal 2009 Notification Due
DESCRIPTION:Special Session on Spatial and Temporal Reasoning
URL:http://www.wikicfp.com/cfp/servlet/event.showcfp?eventid=4630&copyown
 erid=3225
UID:cfp26517-N@wikicfp.com
END:VEVENT
BEGIN:VEVENT
DTSTAMP:20260422T014749Z
DTSTART;VALUE=DATE:20090706
SUMMARY:IICAI Spatial Temporal 2009 Final Version Due
DESCRIPTION:Special Session on Spatial and Temporal Reasoning
URL:http://www.wikicfp.com/cfp/servlet/event.showcfp?eventid=4630&copyown
 erid=3225
UID:cfp26517-N@wikicfp.com
END:VEVENT
BEGIN:VEVENT
DTSTAMP:20260422T014749Z
DTSTART;VALUE=DATE:20110716
DTEND;VALUE=DATE:20110717
SUMMARY:STAMI 2011
DESCRIPTION:Space\, Time and Ambient Intelligence
URL:http://www.wikicfp.com/cfp/servlet/event.showcfp?eventid=13552&copyow
 nerid=3225
UID:cfp132402-E@wikicfp.com
END:VEVENT
BEGIN:VEVENT
DTSTAMP:20260422T014749Z
DTSTART;VALUE=DATE:20110418
SUMMARY:STAMI 2011 Deadline
DESCRIPTION:Space\, Time and Ambient Intelligence
URL:http://www.wikicfp.com/cfp/servlet/event.showcfp?eventid=13552&copyow
 nerid=3225
UID:cfp132402-D@wikicfp.com
END:VEVENT
BEGIN:VEVENT
DTSTAMP:20260422T014749Z
DTSTART;VALUE=DATE:20110509
SUMMARY:STAMI 2011 Notification Due
DESCRIPTION:Space\, Time and Ambient Intelligence
URL:http://www.wikicfp.com/cfp/servlet/event.showcfp?eventid=13552&copyow
 nerid=3225
UID:cfp132402-N@wikicfp.com
END:VEVENT
BEGIN:VEVENT
DTSTAMP:20260422T014749Z
DTSTART;VALUE=DATE:20110518
SUMMARY:STAMI 2011 Final Version Due
DESCRIPTION:Space\, Time and Ambient Intelligence
URL:http://www.wikicfp.com/cfp/servlet/event.showcfp?eventid=13552&copyow
 nerid=3225
UID:cfp132402-N@wikicfp.com
END:VEVENT
BEGIN:VEVENT
DTSTAMP:20260422T014749Z
DTSTART;VALUE=DATE:20110301
DTEND;VALUE=DATE:20111202
SUMMARY:SA-Assist-Techs (AISE \, IOS Press) 2011
DESCRIPTION:Situational Awareness for Assistive Technologies
URL:http://www.wikicfp.com/cfp/servlet/event.showcfp?eventid=14053&copyow
 nerid=3225
UID:cfp139805-E@wikicfp.com
END:VEVENT
BEGIN:VEVENT
DTSTAMP:20260422T014749Z
DTSTART;VALUE=DATE:20110425
SUMMARY:SA-Assist-Techs (AISE \, IOS Press) 2011 Abstract Due
DESCRIPTION:Situational Awareness for Assistive Technologies
URL:http://www.wikicfp.com/cfp/servlet/event.showcfp?eventid=14053&copyow
 nerid=3225
UID:cfp139805-A@wikicfp.com
END:VEVENT
BEGIN:VEVENT
DTSTAMP:20260422T014749Z
DTSTART;VALUE=DATE:20110614
SUMMARY:SA-Assist-Techs (AISE \, IOS Press) 2011 Deadline
DESCRIPTION:Situational Awareness for Assistive Technologies
URL:http://www.wikicfp.com/cfp/servlet/event.showcfp?eventid=14053&copyow
 nerid=3225
UID:cfp139805-D@wikicfp.com
END:VEVENT
BEGIN:VEVENT
DTSTAMP:20260422T014749Z
DTSTART;VALUE=DATE:20110914
SUMMARY:SA-Assist-Techs (AISE \, IOS Press) 2011 Notification Due
DESCRIPTION:Situational Awareness for Assistive Technologies
URL:http://www.wikicfp.com/cfp/servlet/event.showcfp?eventid=14053&copyow
 nerid=3225
UID:cfp139805-N@wikicfp.com
END:VEVENT
BEGIN:VEVENT
DTSTAMP:20260422T014749Z
DTSTART;VALUE=DATE:20120827
DTEND;VALUE=DATE:20120829
SUMMARY:STeDy 2012
DESCRIPTION:Workshop: Spatio-Temporal Dynamics\, at European Conference o
 n Artificial Intelligence 2012
URL:http://www.wikicfp.com/cfp/servlet/event.showcfp?eventid=22017&copyow
 nerid=3225
UID:cfp252014-E@wikicfp.com
END:VEVENT
BEGIN:VEVENT
DTSTAMP:20260422T014749Z
DTSTART;VALUE=DATE:20120601
SUMMARY:STeDy 2012 Abstract Due
DESCRIPTION:Workshop: Spatio-Temporal Dynamics\, at European Conference o
 n Artificial Intelligence 2012
URL:http://www.wikicfp.com/cfp/servlet/event.showcfp?eventid=22017&copyow
 nerid=3225
UID:cfp252014-A@wikicfp.com
END:VEVENT
BEGIN:VEVENT
DTSTAMP:20260422T014749Z
DTSTART;VALUE=DATE:20120615
SUMMARY:STeDy 2012 Deadline
DESCRIPTION:Workshop: Spatio-Temporal Dynamics\, at European Conference o
 n Artificial Intelligence 2012
URL:http://www.wikicfp.com/cfp/servlet/event.showcfp?eventid=22017&copyow
 nerid=3225
UID:cfp252014-D@wikicfp.com
END:VEVENT
BEGIN:VEVENT
DTSTAMP:20260422T014749Z
DTSTART;VALUE=DATE:20120710
SUMMARY:STeDy 2012 Notification Due
DESCRIPTION:Workshop: Spatio-Temporal Dynamics\, at European Conference o
 n Artificial Intelligence 2012
URL:http://www.wikicfp.com/cfp/servlet/event.showcfp?eventid=22017&copyow
 nerid=3225
UID:cfp252014-N@wikicfp.com
END:VEVENT
BEGIN:VEVENT
DTSTAMP:20260422T014749Z
DTSTART;VALUE=DATE:20120718
SUMMARY:STeDy 2012 Final Version Due
DESCRIPTION:Workshop: Spatio-Temporal Dynamics\, at European Conference o
 n Artificial Intelligence 2012
URL:http://www.wikicfp.com/cfp/servlet/event.showcfp?eventid=22017&copyow
 nerid=3225
UID:cfp252014-N@wikicfp.com
END:VEVENT
BEGIN:VEVENT
DTSTAMP:20260422T014749Z
DTSTART;VALUE=DATE:20130714
DTEND;VALUE=DATE:20130716
SUMMARY:STAMI 2013
DESCRIPTION:Space\, Time\, and Ambient Intelligence
URL:http://www.wikicfp.com/cfp/servlet/event.showcfp?eventid=29181&copyow
 nerid=3225
UID:cfp338887-E@wikicfp.com
END:VEVENT
BEGIN:VEVENT
DTSTAMP:20260422T014749Z
DTSTART;VALUE=DATE:20130328
SUMMARY:STAMI 2013 Deadline
DESCRIPTION:Space\, Time\, and Ambient Intelligence
URL:http://www.wikicfp.com/cfp/servlet/event.showcfp?eventid=29181&copyow
 nerid=3225
UID:cfp338887-D@wikicfp.com
END:VEVENT
BEGIN:VEVENT
DTSTAMP:20260422T014749Z
DTSTART;VALUE=DATE:20130419
SUMMARY:STAMI 2013 Notification Due
DESCRIPTION:Space\, Time\, and Ambient Intelligence
URL:http://www.wikicfp.com/cfp/servlet/event.showcfp?eventid=29181&copyow
 nerid=3225
UID:cfp338887-N@wikicfp.com
END:VEVENT
BEGIN:VEVENT
DTSTAMP:20260422T014749Z
DTSTART;VALUE=DATE:20130509
SUMMARY:STAMI 2013 Final Version Due
DESCRIPTION:Space\, Time\, and Ambient Intelligence
URL:http://www.wikicfp.com/cfp/servlet/event.showcfp?eventid=29181&copyow
 nerid=3225
UID:cfp338887-N@wikicfp.com
END:VEVENT
END:VCALENDAR
