BEGIN:VCALENDAR
PRODID:-//WikiCFP//ter 1.0//EN
VERSION:2.0
CALSCALE:GREGORIAN
BEGIN:VEVENT
DTSTAMP:20260420T154553Z
DTSTART;VALUE=DATE:20090711
DTEND;VALUE=DATE:20090718
SUMMARY:IJCAI 2009
DESCRIPTION:TWENTY FIRST INTERNATIONAL JOINT CONFERENCE ON ARTIFICIAL INT
 ELLIGENCE
URL:http://www.wikicfp.com/cfp/servlet/event.showcfp?eventid=3554&copyown
 erid=3209
UID:cfp26403-E@wikicfp.com
END:VEVENT
BEGIN:VEVENT
DTSTAMP:20260420T154553Z
DTSTART;VALUE=DATE:20090107
SUMMARY:IJCAI 2009 Abstract Due
DESCRIPTION:TWENTY FIRST INTERNATIONAL JOINT CONFERENCE ON ARTIFICIAL INT
 ELLIGENCE
URL:http://www.wikicfp.com/cfp/servlet/event.showcfp?eventid=3554&copyown
 erid=3209
UID:cfp26403-A@wikicfp.com
END:VEVENT
BEGIN:VEVENT
DTSTAMP:20260420T154553Z
DTSTART;VALUE=DATE:20090112
SUMMARY:IJCAI 2009 Deadline
DESCRIPTION:TWENTY FIRST INTERNATIONAL JOINT CONFERENCE ON ARTIFICIAL INT
 ELLIGENCE
URL:http://www.wikicfp.com/cfp/servlet/event.showcfp?eventid=3554&copyown
 erid=3209
UID:cfp26403-D@wikicfp.com
END:VEVENT
BEGIN:VEVENT
DTSTAMP:20260420T154553Z
DTSTART;VALUE=DATE:20090317
SUMMARY:IJCAI 2009 Notification Due
DESCRIPTION:TWENTY FIRST INTERNATIONAL JOINT CONFERENCE ON ARTIFICIAL INT
 ELLIGENCE
URL:http://www.wikicfp.com/cfp/servlet/event.showcfp?eventid=3554&copyown
 erid=3209
UID:cfp26403-N@wikicfp.com
END:VEVENT
BEGIN:VEVENT
DTSTAMP:20260420T154553Z
DTSTART;VALUE=DATE:20090414
SUMMARY:IJCAI 2009 Final Version Due
DESCRIPTION:TWENTY FIRST INTERNATIONAL JOINT CONFERENCE ON ARTIFICIAL INT
 ELLIGENCE
URL:http://www.wikicfp.com/cfp/servlet/event.showcfp?eventid=3554&copyown
 erid=3209
UID:cfp26403-N@wikicfp.com
END:VEVENT
BEGIN:VEVENT
DTSTAMP:20260420T154553Z
DTSTART;VALUE=DATE:20090702
DTEND;VALUE=DATE:20090706
SUMMARY:ECAI 2009
DESCRIPTION:Electronics\, Computers and Artificial Intelligence
URL:http://www.wikicfp.com/cfp/servlet/event.showcfp?eventid=4048&copyown
 erid=3209
UID:cfp26405-E@wikicfp.com
END:VEVENT
BEGIN:VEVENT
DTSTAMP:20260420T154553Z
DTSTART;VALUE=DATE:20090215
SUMMARY:ECAI 2009 Abstract Due
DESCRIPTION:Electronics\, Computers and Artificial Intelligence
URL:http://www.wikicfp.com/cfp/servlet/event.showcfp?eventid=4048&copyown
 erid=3209
UID:cfp26405-A@wikicfp.com
END:VEVENT
BEGIN:VEVENT
DTSTAMP:20260420T154553Z
DTSTART;VALUE=DATE:20090315
SUMMARY:ECAI 2009 Deadline
DESCRIPTION:Electronics\, Computers and Artificial Intelligence
URL:http://www.wikicfp.com/cfp/servlet/event.showcfp?eventid=4048&copyown
 erid=3209
UID:cfp26405-D@wikicfp.com
END:VEVENT
BEGIN:VEVENT
DTSTAMP:20260420T154553Z
DTSTART;VALUE=DATE:20090415
SUMMARY:ECAI 2009 Notification Due
DESCRIPTION:Electronics\, Computers and Artificial Intelligence
URL:http://www.wikicfp.com/cfp/servlet/event.showcfp?eventid=4048&copyown
 erid=3209
UID:cfp26405-N@wikicfp.com
END:VEVENT
BEGIN:VEVENT
DTSTAMP:20260420T154553Z
DTSTART;VALUE=DATE:20090515
SUMMARY:ECAI 2009 Final Version Due
DESCRIPTION:Electronics\, Computers and Artificial Intelligence
URL:http://www.wikicfp.com/cfp/servlet/event.showcfp?eventid=4048&copyown
 erid=3209
UID:cfp26405-N@wikicfp.com
END:VEVENT
BEGIN:VEVENT
DTSTAMP:20260420T154553Z
DTSTART;VALUE=DATE:20091210
DTEND;VALUE=DATE:20091213
SUMMARY:DTA 2009
DESCRIPTION:The 2009 International Symposium on Database Theory and Appli
 cation
URL:http://www.wikicfp.com/cfp/servlet/event.showcfp?eventid=4135&copyown
 erid=3209
UID:cfp26404-E@wikicfp.com
END:VEVENT
BEGIN:VEVENT
DTSTAMP:20260420T154553Z
DTSTART;VALUE=DATE:20090530
SUMMARY:DTA 2009 Deadline
DESCRIPTION:The 2009 International Symposium on Database Theory and Appli
 cation
URL:http://www.wikicfp.com/cfp/servlet/event.showcfp?eventid=4135&copyown
 erid=3209
UID:cfp26404-D@wikicfp.com
END:VEVENT
BEGIN:VEVENT
DTSTAMP:20260420T154553Z
DTSTART;VALUE=DATE:20090731
SUMMARY:DTA 2009 Notification Due
DESCRIPTION:The 2009 International Symposium on Database Theory and Appli
 cation
URL:http://www.wikicfp.com/cfp/servlet/event.showcfp?eventid=4135&copyown
 erid=3209
UID:cfp26404-N@wikicfp.com
END:VEVENT
BEGIN:VEVENT
DTSTAMP:20260420T154553Z
DTSTART;VALUE=DATE:20090831
SUMMARY:DTA 2009 Final Version Due
DESCRIPTION:The 2009 International Symposium on Database Theory and Appli
 cation
URL:http://www.wikicfp.com/cfp/servlet/event.showcfp?eventid=4135&copyown
 erid=3209
UID:cfp26404-N@wikicfp.com
END:VEVENT
END:VCALENDAR
