BEGIN:VCALENDAR
PRODID:-//WikiCFP//amitmanekar24 1.0//EN
VERSION:2.0
CALSCALE:GREGORIAN
BEGIN:VEVENT
DTSTAMP:20260422T052340Z
DTSTART;VALUE=DATE:20120618
DTEND;VALUE=DATE:20120621
SUMMARY:ICE 2012
DESCRIPTION:18th International Conference on Concurrent Enterprising
URL:http://www.wikicfp.com/cfp/servlet/event.showcfp?eventid=19537&copyow
 nerid=32069
UID:cfp222010-E@wikicfp.com
END:VEVENT
BEGIN:VEVENT
DTSTAMP:20260422T052340Z
DTSTART;VALUE=DATE:20120217
DTEND;VALUE=DATE:20120220
SUMMARY:AgileIndia 2012
DESCRIPTION:Call for Participation (Registrations Open!)
URL:http://www.wikicfp.com/cfp/servlet/event.showcfp?eventid=19541&copyow
 nerid=32069
UID:cfp222014-E@wikicfp.com
END:VEVENT
BEGIN:VEVENT
DTSTAMP:20260422T052340Z
DTSTART;VALUE=DATE:20120510
DTEND;VALUE=DATE:20120513
SUMMARY:EEM 2012
DESCRIPTION:9th International Conference on the European Energy Market
URL:http://www.wikicfp.com/cfp/servlet/event.showcfp?eventid=19538&copyow
 nerid=32069
UID:cfp222011-E@wikicfp.com
END:VEVENT
BEGIN:VEVENT
DTSTAMP:20260422T052340Z
DTSTART;VALUE=DATE:20111115
SUMMARY:EEM 2012 Deadline
DESCRIPTION:9th International Conference on the European Energy Market
URL:http://www.wikicfp.com/cfp/servlet/event.showcfp?eventid=19538&copyow
 nerid=32069
UID:cfp222011-D@wikicfp.com
END:VEVENT
BEGIN:VEVENT
DTSTAMP:20260422T052340Z
DTSTART;VALUE=DATE:20111201
SUMMARY:EEM 2012 Notification Due
DESCRIPTION:9th International Conference on the European Energy Market
URL:http://www.wikicfp.com/cfp/servlet/event.showcfp?eventid=19538&copyow
 nerid=32069
UID:cfp222011-N@wikicfp.com
END:VEVENT
BEGIN:VEVENT
DTSTAMP:20260422T052340Z
DTSTART;VALUE=DATE:20120201
SUMMARY:EEM 2012 Final Version Due
DESCRIPTION:9th International Conference on the European Energy Market
URL:http://www.wikicfp.com/cfp/servlet/event.showcfp?eventid=19538&copyow
 nerid=32069
UID:cfp222011-N@wikicfp.com
END:VEVENT
BEGIN:VEVENT
DTSTAMP:20260422T052340Z
DTSTART;VALUE=DATE:20120304
DTEND;VALUE=DATE:20120308
SUMMARY:ICREGA 2012
DESCRIPTION:The 2nd International Conference on Renewable Energy: Generat
 ion and Applications
URL:http://www.wikicfp.com/cfp/servlet/event.showcfp?eventid=19531&copyow
 nerid=32069
UID:cfp222005-E@wikicfp.com
END:VEVENT
BEGIN:VEVENT
DTSTAMP:20260422T052340Z
DTSTART;VALUE=DATE:20111120
SUMMARY:ICREGA 2012 Deadline
DESCRIPTION:The 2nd International Conference on Renewable Energy: Generat
 ion and Applications
URL:http://www.wikicfp.com/cfp/servlet/event.showcfp?eventid=19531&copyow
 nerid=32069
UID:cfp222005-D@wikicfp.com
END:VEVENT
BEGIN:VEVENT
DTSTAMP:20260422T052340Z
DTSTART;VALUE=DATE:20120131
SUMMARY:ICREGA 2012 Final Version Due
DESCRIPTION:The 2nd International Conference on Renewable Energy: Generat
 ion and Applications
URL:http://www.wikicfp.com/cfp/servlet/event.showcfp?eventid=19531&copyow
 nerid=32069
UID:cfp222005-N@wikicfp.com
END:VEVENT
BEGIN:VEVENT
DTSTAMP:20260422T052340Z
DTSTART;VALUE=DATE:20120401
DTEND;VALUE=DATE:20120402
SUMMARY:Spatial Computing 2012
DESCRIPTION:The Computer Journal Special Issue on Spatial Computing
URL:http://www.wikicfp.com/cfp/servlet/event.showcfp?eventid=19539&copyow
 nerid=32069
UID:cfp222012-E@wikicfp.com
END:VEVENT
BEGIN:VEVENT
DTSTAMP:20260422T052340Z
DTSTART;VALUE=DATE:20111215
SUMMARY:Spatial Computing 2012 Deadline
DESCRIPTION:The Computer Journal Special Issue on Spatial Computing
URL:http://www.wikicfp.com/cfp/servlet/event.showcfp?eventid=19539&copyow
 nerid=32069
UID:cfp222012-D@wikicfp.com
END:VEVENT
BEGIN:VEVENT
DTSTAMP:20260422T052340Z
DTSTART;VALUE=DATE:20120301
SUMMARY:Spatial Computing 2012 Notification Due
DESCRIPTION:The Computer Journal Special Issue on Spatial Computing
URL:http://www.wikicfp.com/cfp/servlet/event.showcfp?eventid=19539&copyow
 nerid=32069
UID:cfp222012-N@wikicfp.com
END:VEVENT
BEGIN:VEVENT
DTSTAMP:20260422T052340Z
DTSTART;VALUE=DATE:20120401
SUMMARY:Spatial Computing 2012 Final Version Due
DESCRIPTION:The Computer Journal Special Issue on Spatial Computing
URL:http://www.wikicfp.com/cfp/servlet/event.showcfp?eventid=19539&copyow
 nerid=32069
UID:cfp222012-N@wikicfp.com
END:VEVENT
BEGIN:VEVENT
DTSTAMP:20260422T052340Z
DTSTART;VALUE=DATE:20101215
SUMMARY:ISERP 2011 Abstract Due
DESCRIPTION:International Journals on All Engineering Sciences\, Business
  Administration Management and Medical Sciences
URL:http://www.wikicfp.com/cfp/servlet/event.showcfp?eventid=12329&copyow
 nerid=32069
UID:cfp221993-A@wikicfp.com
END:VEVENT
BEGIN:VEVENT
DTSTAMP:20260422T052340Z
DTSTART;VALUE=DATE:20111231
SUMMARY:ISERP 2011 Deadline
DESCRIPTION:International Journals on All Engineering Sciences\, Business
  Administration Management and Medical Sciences
URL:http://www.wikicfp.com/cfp/servlet/event.showcfp?eventid=12329&copyow
 nerid=32069
UID:cfp221993-D@wikicfp.com
END:VEVENT
BEGIN:VEVENT
DTSTAMP:20260422T052340Z
DTSTART;VALUE=DATE:20120303
DTEND;VALUE=DATE:20120304
SUMMARY:EXADAPT 2012
DESCRIPTION:2nd International Workshop on Adaptive Self-tuning Computing 
 Systems for Exaflop Era
URL:http://www.wikicfp.com/cfp/servlet/event.showcfp?eventid=19522&copyow
 nerid=32069
UID:cfp221996-E@wikicfp.com
END:VEVENT
BEGIN:VEVENT
DTSTAMP:20260422T052340Z
DTSTART;VALUE=DATE:20120106
SUMMARY:EXADAPT 2012 Deadline
DESCRIPTION:2nd International Workshop on Adaptive Self-tuning Computing 
 Systems for Exaflop Era
URL:http://www.wikicfp.com/cfp/servlet/event.showcfp?eventid=19522&copyow
 nerid=32069
UID:cfp221996-D@wikicfp.com
END:VEVENT
BEGIN:VEVENT
DTSTAMP:20260422T052340Z
DTSTART;VALUE=DATE:20120120
SUMMARY:EXADAPT 2012 Notification Due
DESCRIPTION:2nd International Workshop on Adaptive Self-tuning Computing 
 Systems for Exaflop Era
URL:http://www.wikicfp.com/cfp/servlet/event.showcfp?eventid=19522&copyow
 nerid=32069
UID:cfp221996-N@wikicfp.com
END:VEVENT
BEGIN:VEVENT
DTSTAMP:20260422T052340Z
DTSTART;VALUE=DATE:20120210
SUMMARY:EXADAPT 2012 Final Version Due
DESCRIPTION:2nd International Workshop on Adaptive Self-tuning Computing 
 Systems for Exaflop Era
URL:http://www.wikicfp.com/cfp/servlet/event.showcfp?eventid=19522&copyow
 nerid=32069
UID:cfp221996-N@wikicfp.com
END:VEVENT
BEGIN:VEVENT
DTSTAMP:20260422T052340Z
DTSTART;VALUE=DATE:20120315
DTEND;VALUE=DATE:20120318
SUMMARY:ICACCCT 2012
DESCRIPTION:IEEE International Conference on Advanced Communication Contr
 ol and Computing Technologies
URL:http://www.wikicfp.com/cfp/servlet/event.showcfp?eventid=19524&copyow
 nerid=32069
UID:cfp221998-E@wikicfp.com
END:VEVENT
BEGIN:VEVENT
DTSTAMP:20260422T052340Z
DTSTART;VALUE=DATE:20120107
SUMMARY:ICACCCT 2012 Deadline
DESCRIPTION:IEEE International Conference on Advanced Communication Contr
 ol and Computing Technologies
URL:http://www.wikicfp.com/cfp/servlet/event.showcfp?eventid=19524&copyow
 nerid=32069
UID:cfp221998-D@wikicfp.com
END:VEVENT
BEGIN:VEVENT
DTSTAMP:20260422T052340Z
DTSTART;VALUE=DATE:20120207
SUMMARY:ICACCCT 2012 Notification Due
DESCRIPTION:IEEE International Conference on Advanced Communication Contr
 ol and Computing Technologies
URL:http://www.wikicfp.com/cfp/servlet/event.showcfp?eventid=19524&copyow
 nerid=32069
UID:cfp221998-N@wikicfp.com
END:VEVENT
BEGIN:VEVENT
DTSTAMP:20260422T052340Z
DTSTART;VALUE=DATE:20120222
SUMMARY:ICACCCT 2012 Final Version Due
DESCRIPTION:IEEE International Conference on Advanced Communication Contr
 ol and Computing Technologies
URL:http://www.wikicfp.com/cfp/servlet/event.showcfp?eventid=19524&copyow
 nerid=32069
UID:cfp221998-N@wikicfp.com
END:VEVENT
BEGIN:VEVENT
DTSTAMP:20260422T052340Z
DTSTART;VALUE=DATE:20120412
DTEND;VALUE=DATE:20120414
SUMMARY:SEE Conference  2012
DESCRIPTION:Sustainability\, Ethics\, and Entrepreneurship
URL:http://www.wikicfp.com/cfp/servlet/event.showcfp?eventid=19540&copyow
 nerid=32069
UID:cfp222013-E@wikicfp.com
END:VEVENT
BEGIN:VEVENT
DTSTAMP:20260422T052340Z
DTSTART;VALUE=DATE:20120120
SUMMARY:SEE Conference  2012 Deadline
DESCRIPTION:Sustainability\, Ethics\, and Entrepreneurship
URL:http://www.wikicfp.com/cfp/servlet/event.showcfp?eventid=19540&copyow
 nerid=32069
UID:cfp222013-D@wikicfp.com
END:VEVENT
BEGIN:VEVENT
DTSTAMP:20260422T052340Z
DTSTART;VALUE=DATE:20120220
SUMMARY:SEE Conference  2012 Notification Due
DESCRIPTION:Sustainability\, Ethics\, and Entrepreneurship
URL:http://www.wikicfp.com/cfp/servlet/event.showcfp?eventid=19540&copyow
 nerid=32069
UID:cfp222013-N@wikicfp.com
END:VEVENT
BEGIN:VEVENT
DTSTAMP:20260422T052340Z
DTSTART;VALUE=DATE:20120605
DTEND;VALUE=DATE:20120609
SUMMARY:CYCON 2012
DESCRIPTION:4th International Conference on Cyber Conflict
URL:http://www.wikicfp.com/cfp/servlet/event.showcfp?eventid=19526&copyow
 nerid=32069
UID:cfp222000-E@wikicfp.com
END:VEVENT
BEGIN:VEVENT
DTSTAMP:20260422T052340Z
DTSTART;VALUE=DATE:20111212
SUMMARY:CYCON 2012 Abstract Due
DESCRIPTION:4th International Conference on Cyber Conflict
URL:http://www.wikicfp.com/cfp/servlet/event.showcfp?eventid=19526&copyow
 nerid=32069
UID:cfp222000-A@wikicfp.com
END:VEVENT
BEGIN:VEVENT
DTSTAMP:20260422T052340Z
DTSTART;VALUE=DATE:20120212
SUMMARY:CYCON 2012 Deadline
DESCRIPTION:4th International Conference on Cyber Conflict
URL:http://www.wikicfp.com/cfp/servlet/event.showcfp?eventid=19526&copyow
 nerid=32069
UID:cfp222000-D@wikicfp.com
END:VEVENT
BEGIN:VEVENT
DTSTAMP:20260422T052340Z
DTSTART;VALUE=DATE:20120328
SUMMARY:CYCON 2012 Notification Due
DESCRIPTION:4th International Conference on Cyber Conflict
URL:http://www.wikicfp.com/cfp/servlet/event.showcfp?eventid=19526&copyow
 nerid=32069
UID:cfp222000-N@wikicfp.com
END:VEVENT
BEGIN:VEVENT
DTSTAMP:20260422T052340Z
DTSTART;VALUE=DATE:20120412
SUMMARY:CYCON 2012 Final Version Due
DESCRIPTION:4th International Conference on Cyber Conflict
URL:http://www.wikicfp.com/cfp/servlet/event.showcfp?eventid=19526&copyow
 nerid=32069
UID:cfp222000-N@wikicfp.com
END:VEVENT
BEGIN:VEVENT
DTSTAMP:20260422T052340Z
DTSTART;VALUE=DATE:20120520
DTEND;VALUE=DATE:20120521
SUMMARY:SWEET 2012
DESCRIPTION:SIGMOD Workshop on Scalable Workflow Enactment Engines and Te
 chnologies
URL:http://www.wikicfp.com/cfp/servlet/event.showcfp?eventid=19529&copyow
 nerid=32069
UID:cfp222003-E@wikicfp.com
END:VEVENT
BEGIN:VEVENT
DTSTAMP:20260422T052340Z
DTSTART;VALUE=DATE:20120219
SUMMARY:SWEET 2012 Deadline
DESCRIPTION:SIGMOD Workshop on Scalable Workflow Enactment Engines and Te
 chnologies
URL:http://www.wikicfp.com/cfp/servlet/event.showcfp?eventid=19529&copyow
 nerid=32069
UID:cfp222003-D@wikicfp.com
END:VEVENT
BEGIN:VEVENT
DTSTAMP:20260422T052340Z
DTSTART;VALUE=DATE:20120630
DTEND;VALUE=DATE:20120703
SUMMARY:SIROCCO 2012
DESCRIPTION:19th International Colloquium on Structural Information and C
 ommunication Complexity
URL:http://www.wikicfp.com/cfp/servlet/event.showcfp?eventid=19532&copyow
 nerid=32069
UID:cfp222006-E@wikicfp.com
END:VEVENT
BEGIN:VEVENT
DTSTAMP:20260422T052340Z
DTSTART;VALUE=DATE:20120227
SUMMARY:SIROCCO 2012 Deadline
DESCRIPTION:19th International Colloquium on Structural Information and C
 ommunication Complexity
URL:http://www.wikicfp.com/cfp/servlet/event.showcfp?eventid=19532&copyow
 nerid=32069
UID:cfp222006-D@wikicfp.com
END:VEVENT
BEGIN:VEVENT
DTSTAMP:20260422T052340Z
DTSTART;VALUE=DATE:20120331
SUMMARY:SIROCCO 2012 Notification Due
DESCRIPTION:19th International Colloquium on Structural Information and C
 ommunication Complexity
URL:http://www.wikicfp.com/cfp/servlet/event.showcfp?eventid=19532&copyow
 nerid=32069
UID:cfp222006-N@wikicfp.com
END:VEVENT
BEGIN:VEVENT
DTSTAMP:20260422T052340Z
DTSTART;VALUE=DATE:20120421
SUMMARY:SIROCCO 2012 Final Version Due
DESCRIPTION:19th International Colloquium on Structural Information and C
 ommunication Complexity
URL:http://www.wikicfp.com/cfp/servlet/event.showcfp?eventid=19532&copyow
 nerid=32069
UID:cfp222006-N@wikicfp.com
END:VEVENT
BEGIN:VEVENT
DTSTAMP:20260422T052340Z
DTSTART;VALUE=DATE:20120912
DTEND;VALUE=DATE:20120915
SUMMARY:ELMAR 2012
DESCRIPTION:54th International Symposium ELMAR
URL:http://www.wikicfp.com/cfp/servlet/event.showcfp?eventid=19536&copyow
 nerid=32069
UID:cfp222009-E@wikicfp.com
END:VEVENT
BEGIN:VEVENT
DTSTAMP:20260422T052340Z
DTSTART;VALUE=DATE:20120319
SUMMARY:ELMAR 2012 Deadline
DESCRIPTION:54th International Symposium ELMAR
URL:http://www.wikicfp.com/cfp/servlet/event.showcfp?eventid=19536&copyow
 nerid=32069
UID:cfp222009-D@wikicfp.com
END:VEVENT
BEGIN:VEVENT
DTSTAMP:20260422T052340Z
DTSTART;VALUE=DATE:20120521
SUMMARY:ELMAR 2012 Notification Due
DESCRIPTION:54th International Symposium ELMAR
URL:http://www.wikicfp.com/cfp/servlet/event.showcfp?eventid=19536&copyow
 nerid=32069
UID:cfp222009-N@wikicfp.com
END:VEVENT
BEGIN:VEVENT
DTSTAMP:20260422T052340Z
DTSTART;VALUE=DATE:20120529
SUMMARY:ELMAR 2012 Final Version Due
DESCRIPTION:54th International Symposium ELMAR
URL:http://www.wikicfp.com/cfp/servlet/event.showcfp?eventid=19536&copyow
 nerid=32069
UID:cfp222009-N@wikicfp.com
END:VEVENT
BEGIN:VEVENT
DTSTAMP:20260422T052340Z
DTSTART;VALUE=DATE:20120910
DTEND;VALUE=DATE:20120913
SUMMARY:COMMA 2012
DESCRIPTION:The International Conference on Computational Models of Argum
 ent
URL:http://www.wikicfp.com/cfp/servlet/event.showcfp?eventid=19530&copyow
 nerid=32069
UID:cfp222004-E@wikicfp.com
END:VEVENT
BEGIN:VEVENT
DTSTAMP:20260422T052340Z
DTSTART;VALUE=DATE:20120326
SUMMARY:COMMA 2012 Deadline
DESCRIPTION:The International Conference on Computational Models of Argum
 ent
URL:http://www.wikicfp.com/cfp/servlet/event.showcfp?eventid=19530&copyow
 nerid=32069
UID:cfp222004-D@wikicfp.com
END:VEVENT
BEGIN:VEVENT
DTSTAMP:20260422T052340Z
DTSTART;VALUE=DATE:20120723
DTEND;VALUE=DATE:20120726
SUMMARY:DCFS 2012
DESCRIPTION:14th International Workshop on Descriptional Complexity of Fo
 rmal Systems
URL:http://www.wikicfp.com/cfp/servlet/event.showcfp?eventid=19521&copyow
 nerid=32069
UID:cfp221995-E@wikicfp.com
END:VEVENT
BEGIN:VEVENT
DTSTAMP:20260422T052340Z
DTSTART;VALUE=DATE:20120401
SUMMARY:DCFS 2012 Deadline
DESCRIPTION:14th International Workshop on Descriptional Complexity of Fo
 rmal Systems
URL:http://www.wikicfp.com/cfp/servlet/event.showcfp?eventid=19521&copyow
 nerid=32069
UID:cfp221995-D@wikicfp.com
END:VEVENT
BEGIN:VEVENT
DTSTAMP:20260422T052340Z
DTSTART;VALUE=DATE:20120502
SUMMARY:DCFS 2012 Notification Due
DESCRIPTION:14th International Workshop on Descriptional Complexity of Fo
 rmal Systems
URL:http://www.wikicfp.com/cfp/servlet/event.showcfp?eventid=19521&copyow
 nerid=32069
UID:cfp221995-N@wikicfp.com
END:VEVENT
BEGIN:VEVENT
DTSTAMP:20260422T052340Z
DTSTART;VALUE=DATE:20120515
SUMMARY:DCFS 2012 Final Version Due
DESCRIPTION:14th International Workshop on Descriptional Complexity of Fo
 rmal Systems
URL:http://www.wikicfp.com/cfp/servlet/event.showcfp?eventid=19521&copyow
 nerid=32069
UID:cfp221995-N@wikicfp.com
END:VEVENT
BEGIN:VEVENT
DTSTAMP:20260422T052340Z
DTSTART;VALUE=DATE:20121111
DTEND;VALUE=DATE:20121115
SUMMARY:ICRERA 2012
DESCRIPTION:International Conference on Renewable Energy Research and App
 lications
URL:http://www.wikicfp.com/cfp/servlet/event.showcfp?eventid=19525&copyow
 nerid=32069
UID:cfp221999-E@wikicfp.com
END:VEVENT
BEGIN:VEVENT
DTSTAMP:20260422T052340Z
DTSTART;VALUE=DATE:20120401
SUMMARY:ICRERA 2012 Deadline
DESCRIPTION:International Conference on Renewable Energy Research and App
 lications
URL:http://www.wikicfp.com/cfp/servlet/event.showcfp?eventid=19525&copyow
 nerid=32069
UID:cfp221999-D@wikicfp.com
END:VEVENT
BEGIN:VEVENT
DTSTAMP:20260422T052340Z
DTSTART;VALUE=DATE:20120801
SUMMARY:ICRERA 2012 Notification Due
DESCRIPTION:International Conference on Renewable Energy Research and App
 lications
URL:http://www.wikicfp.com/cfp/servlet/event.showcfp?eventid=19525&copyow
 nerid=32069
UID:cfp221999-N@wikicfp.com
END:VEVENT
BEGIN:VEVENT
DTSTAMP:20260422T052340Z
DTSTART;VALUE=DATE:20120901
SUMMARY:ICRERA 2012 Final Version Due
DESCRIPTION:International Conference on Renewable Energy Research and App
 lications
URL:http://www.wikicfp.com/cfp/servlet/event.showcfp?eventid=19525&copyow
 nerid=32069
UID:cfp221999-N@wikicfp.com
END:VEVENT
BEGIN:VEVENT
DTSTAMP:20260422T052340Z
DTSTART;VALUE=DATE:20120829
DTEND;VALUE=DATE:20120901
SUMMARY:DAGM-OAGM 2012
DESCRIPTION:Third joint pattern recognition symposium\, German and Austri
 an Associations for Pattern Recognition
URL:http://www.wikicfp.com/cfp/servlet/event.showcfp?eventid=19523&copyow
 nerid=32069
UID:cfp221997-E@wikicfp.com
END:VEVENT
BEGIN:VEVENT
DTSTAMP:20260422T052340Z
DTSTART;VALUE=DATE:20120415
SUMMARY:DAGM-OAGM 2012 Deadline
DESCRIPTION:Third joint pattern recognition symposium\, German and Austri
 an Associations for Pattern Recognition
URL:http://www.wikicfp.com/cfp/servlet/event.showcfp?eventid=19523&copyow
 nerid=32069
UID:cfp221997-D@wikicfp.com
END:VEVENT
BEGIN:VEVENT
DTSTAMP:20260422T052340Z
DTSTART;VALUE=DATE:20120903
DTEND;VALUE=DATE:20120907
SUMMARY:WoLLIC 2012
DESCRIPTION:19th Workshop on Logic\, Language\, Information and Computati
 on
URL:http://www.wikicfp.com/cfp/servlet/event.showcfp?eventid=19535&copyow
 nerid=32069
UID:cfp222008-E@wikicfp.com
END:VEVENT
BEGIN:VEVENT
DTSTAMP:20260422T052340Z
DTSTART;VALUE=DATE:20120427
SUMMARY:WoLLIC 2012 Abstract Due
DESCRIPTION:19th Workshop on Logic\, Language\, Information and Computati
 on
URL:http://www.wikicfp.com/cfp/servlet/event.showcfp?eventid=19535&copyow
 nerid=32069
UID:cfp222008-A@wikicfp.com
END:VEVENT
BEGIN:VEVENT
DTSTAMP:20260422T052340Z
DTSTART;VALUE=DATE:20120504
SUMMARY:WoLLIC 2012 Deadline
DESCRIPTION:19th Workshop on Logic\, Language\, Information and Computati
 on
URL:http://www.wikicfp.com/cfp/servlet/event.showcfp?eventid=19535&copyow
 nerid=32069
UID:cfp222008-D@wikicfp.com
END:VEVENT
BEGIN:VEVENT
DTSTAMP:20260422T052340Z
DTSTART;VALUE=DATE:20120608
SUMMARY:WoLLIC 2012 Notification Due
DESCRIPTION:19th Workshop on Logic\, Language\, Information and Computati
 on
URL:http://www.wikicfp.com/cfp/servlet/event.showcfp?eventid=19535&copyow
 nerid=32069
UID:cfp222008-N@wikicfp.com
END:VEVENT
BEGIN:VEVENT
DTSTAMP:20260422T052340Z
DTSTART;VALUE=DATE:20120615
SUMMARY:WoLLIC 2012 Final Version Due
DESCRIPTION:19th Workshop on Logic\, Language\, Information and Computati
 on
URL:http://www.wikicfp.com/cfp/servlet/event.showcfp?eventid=19535&copyow
 nerid=32069
UID:cfp222008-N@wikicfp.com
END:VEVENT
BEGIN:VEVENT
DTSTAMP:20260422T052340Z
DTSTART;VALUE=DATE:20121105
DTEND;VALUE=DATE:20121109
SUMMARY:SmartGridComm 2012
DESCRIPTION:IEEE Third International Conference on Smart Grid Communicati
 ons
URL:http://www.wikicfp.com/cfp/servlet/event.showcfp?eventid=19527&copyow
 nerid=32069
UID:cfp222001-E@wikicfp.com
END:VEVENT
BEGIN:VEVENT
DTSTAMP:20260422T052340Z
DTSTART;VALUE=DATE:20120506
SUMMARY:SmartGridComm 2012 Deadline
DESCRIPTION:IEEE Third International Conference on Smart Grid Communicati
 ons
URL:http://www.wikicfp.com/cfp/servlet/event.showcfp?eventid=19527&copyow
 nerid=32069
UID:cfp222001-D@wikicfp.com
END:VEVENT
BEGIN:VEVENT
DTSTAMP:20260422T052340Z
DTSTART;VALUE=DATE:20120718
SUMMARY:SmartGridComm 2012 Notification Due
DESCRIPTION:IEEE Third International Conference on Smart Grid Communicati
 ons
URL:http://www.wikicfp.com/cfp/servlet/event.showcfp?eventid=19527&copyow
 nerid=32069
UID:cfp222001-N@wikicfp.com
END:VEVENT
BEGIN:VEVENT
DTSTAMP:20260422T052340Z
DTSTART;VALUE=DATE:20120801
SUMMARY:SmartGridComm 2012 Final Version Due
DESCRIPTION:IEEE Third International Conference on Smart Grid Communicati
 ons
URL:http://www.wikicfp.com/cfp/servlet/event.showcfp?eventid=19527&copyow
 nerid=32069
UID:cfp222001-N@wikicfp.com
END:VEVENT
BEGIN:VEVENT
DTSTAMP:20260422T052340Z
DTSTART;VALUE=DATE:20121003
DTEND;VALUE=DATE:20121005
SUMMARY:UPINLBS 2012
DESCRIPTION:Ubiquitous Positioning Indoor Navigation and Location Based S
 ervice
URL:http://www.wikicfp.com/cfp/servlet/event.showcfp?eventid=19528&copyow
 nerid=32069
UID:cfp222002-E@wikicfp.com
END:VEVENT
BEGIN:VEVENT
DTSTAMP:20260422T052340Z
DTSTART;VALUE=DATE:20120617
SUMMARY:UPINLBS 2012 Deadline
DESCRIPTION:Ubiquitous Positioning Indoor Navigation and Location Based S
 ervice
URL:http://www.wikicfp.com/cfp/servlet/event.showcfp?eventid=19528&copyow
 nerid=32069
UID:cfp222002-D@wikicfp.com
END:VEVENT
BEGIN:VEVENT
DTSTAMP:20260422T052340Z
DTSTART;VALUE=DATE:20120723
SUMMARY:UPINLBS 2012 Notification Due
DESCRIPTION:Ubiquitous Positioning Indoor Navigation and Location Based S
 ervice
URL:http://www.wikicfp.com/cfp/servlet/event.showcfp?eventid=19528&copyow
 nerid=32069
UID:cfp222002-N@wikicfp.com
END:VEVENT
BEGIN:VEVENT
DTSTAMP:20260422T052340Z
DTSTART;VALUE=DATE:20121007
SUMMARY:UPINLBS 2012 Final Version Due
DESCRIPTION:Ubiquitous Positioning Indoor Navigation and Location Based S
 ervice
URL:http://www.wikicfp.com/cfp/servlet/event.showcfp?eventid=19528&copyow
 nerid=32069
UID:cfp222002-N@wikicfp.com
END:VEVENT
BEGIN:VEVENT
DTSTAMP:20260422T052340Z
DTSTART;VALUE=DATE:20120715
SUMMARY:IJWMN 2012 Deadline
DESCRIPTION:International Journal of Wireless & Mobile Networks (IJWMN)
URL:http://www.wikicfp.com/cfp/servlet/event.showcfp?eventid=19236&copyow
 nerid=32069
UID:cfp221994-D@wikicfp.com
END:VEVENT
BEGIN:VEVENT
DTSTAMP:20260422T052340Z
DTSTART;VALUE=DATE:20120815
SUMMARY:IJWMN 2012 Notification Due
DESCRIPTION:International Journal of Wireless & Mobile Networks (IJWMN)
URL:http://www.wikicfp.com/cfp/servlet/event.showcfp?eventid=19236&copyow
 nerid=32069
UID:cfp221994-N@wikicfp.com
END:VEVENT
BEGIN:VEVENT
DTSTAMP:20260422T052340Z
DTSTART;VALUE=DATE:20120820
SUMMARY:IJWMN 2012 Final Version Due
DESCRIPTION:International Journal of Wireless & Mobile Networks (IJWMN)
URL:http://www.wikicfp.com/cfp/servlet/event.showcfp?eventid=19236&copyow
 nerid=32069
UID:cfp221994-N@wikicfp.com
END:VEVENT
BEGIN:VEVENT
DTSTAMP:20260422T052340Z
DTSTART;VALUE=DATE:20130111
DTEND;VALUE=DATE:20130114
SUMMARY:INCON  VIII 2013
DESCRIPTION: International Conference on OngoingResearch in Management an
 d IT
URL:http://www.wikicfp.com/cfp/servlet/event.showcfp?eventid=19534&copyow
 nerid=32069
UID:cfp222007-E@wikicfp.com
END:VEVENT
BEGIN:VEVENT
DTSTAMP:20260422T052340Z
DTSTART;VALUE=DATE:20121210
SUMMARY:INCON  VIII 2013 Deadline
DESCRIPTION: International Conference on OngoingResearch in Management an
 d IT
URL:http://www.wikicfp.com/cfp/servlet/event.showcfp?eventid=19534&copyow
 nerid=32069
UID:cfp222007-D@wikicfp.com
END:VEVENT
BEGIN:VEVENT
DTSTAMP:20260422T052340Z
DTSTART;VALUE=DATE:20121215
SUMMARY:INCON  VIII 2013 Notification Due
DESCRIPTION: International Conference on OngoingResearch in Management an
 d IT
URL:http://www.wikicfp.com/cfp/servlet/event.showcfp?eventid=19534&copyow
 nerid=32069
UID:cfp222007-N@wikicfp.com
END:VEVENT
BEGIN:VEVENT
DTSTAMP:20260422T052340Z
DTSTART;VALUE=DATE:20130105
SUMMARY:INCON  VIII 2013 Final Version Due
DESCRIPTION: International Conference on OngoingResearch in Management an
 d IT
URL:http://www.wikicfp.com/cfp/servlet/event.showcfp?eventid=19534&copyow
 nerid=32069
UID:cfp222007-N@wikicfp.com
END:VEVENT
END:VCALENDAR
