BEGIN:VCALENDAR
PRODID:-//WikiCFP//lpshka 1.0//EN
VERSION:2.0
CALSCALE:GREGORIAN
BEGIN:VEVENT
DTSTAMP:20260420T221741Z
DTSTART;VALUE=DATE:20080225
DTEND;VALUE=DATE:20080301
SUMMARY:ICFCA 2008
DESCRIPTION:6th International Conference Formal Concept Analysis (ICFCA8)
 
URL:http://www.wikicfp.com/cfp/servlet/event.showcfp?eventid=914&copyowne
 rid=32050
UID:cfp221865-E@wikicfp.com
END:VEVENT
BEGIN:VEVENT
DTSTAMP:20260420T221741Z
DTSTART;VALUE=DATE:20070914
SUMMARY:ICFCA 2008 Deadline
DESCRIPTION:6th International Conference Formal Concept Analysis (ICFCA8)
 
URL:http://www.wikicfp.com/cfp/servlet/event.showcfp?eventid=914&copyowne
 rid=32050
UID:cfp221865-D@wikicfp.com
END:VEVENT
BEGIN:VEVENT
DTSTAMP:20260420T221741Z
DTSTART;VALUE=DATE:20110502
DTEND;VALUE=DATE:20110507
SUMMARY:ICFCA 2011
DESCRIPTION:9th International Conference on Formal Concept Analysis
URL:http://www.wikicfp.com/cfp/servlet/event.showcfp?eventid=11690&copyow
 nerid=32050
UID:cfp221866-E@wikicfp.com
END:VEVENT
BEGIN:VEVENT
DTSTAMP:20260420T221741Z
DTSTART;VALUE=DATE:20101215
SUMMARY:ICFCA 2011 Abstract Due
DESCRIPTION:9th International Conference on Formal Concept Analysis
URL:http://www.wikicfp.com/cfp/servlet/event.showcfp?eventid=11690&copyow
 nerid=32050
UID:cfp221866-A@wikicfp.com
END:VEVENT
BEGIN:VEVENT
DTSTAMP:20260420T221741Z
DTSTART;VALUE=DATE:20101222
SUMMARY:ICFCA 2011 Deadline
DESCRIPTION:9th International Conference on Formal Concept Analysis
URL:http://www.wikicfp.com/cfp/servlet/event.showcfp?eventid=11690&copyow
 nerid=32050
UID:cfp221866-D@wikicfp.com
END:VEVENT
BEGIN:VEVENT
DTSTAMP:20260420T221741Z
DTSTART;VALUE=DATE:20110206
SUMMARY:ICFCA 2011 Notification Due
DESCRIPTION:9th International Conference on Formal Concept Analysis
URL:http://www.wikicfp.com/cfp/servlet/event.showcfp?eventid=11690&copyow
 nerid=32050
UID:cfp221866-N@wikicfp.com
END:VEVENT
BEGIN:VEVENT
DTSTAMP:20260420T221741Z
DTSTART;VALUE=DATE:20110221
SUMMARY:ICFCA 2011 Final Version Due
DESCRIPTION:9th International Conference on Formal Concept Analysis
URL:http://www.wikicfp.com/cfp/servlet/event.showcfp?eventid=11690&copyow
 nerid=32050
UID:cfp221866-N@wikicfp.com
END:VEVENT
BEGIN:VEVENT
DTSTAMP:20260420T221741Z
DTSTART;VALUE=DATE:20111017
DTEND;VALUE=DATE:20111022
SUMMARY:CLA 2011
DESCRIPTION:The 8th International Conference on Concept Lattices and Thei
 r Applications 
URL:http://www.wikicfp.com/cfp/servlet/event.showcfp?eventid=16002&copyow
 nerid=32050
UID:cfp221867-E@wikicfp.com
END:VEVENT
BEGIN:VEVENT
DTSTAMP:20260420T221741Z
DTSTART;VALUE=DATE:20110620
SUMMARY:CLA 2011 Abstract Due
DESCRIPTION:The 8th International Conference on Concept Lattices and Thei
 r Applications 
URL:http://www.wikicfp.com/cfp/servlet/event.showcfp?eventid=16002&copyow
 nerid=32050
UID:cfp221867-A@wikicfp.com
END:VEVENT
BEGIN:VEVENT
DTSTAMP:20260420T221741Z
DTSTART;VALUE=DATE:20110627
SUMMARY:CLA 2011 Deadline
DESCRIPTION:The 8th International Conference on Concept Lattices and Thei
 r Applications 
URL:http://www.wikicfp.com/cfp/servlet/event.showcfp?eventid=16002&copyow
 nerid=32050
UID:cfp221867-D@wikicfp.com
END:VEVENT
BEGIN:VEVENT
DTSTAMP:20260420T221741Z
DTSTART;VALUE=DATE:20110829
SUMMARY:CLA 2011 Notification Due
DESCRIPTION:The 8th International Conference on Concept Lattices and Thei
 r Applications 
URL:http://www.wikicfp.com/cfp/servlet/event.showcfp?eventid=16002&copyow
 nerid=32050
UID:cfp221867-N@wikicfp.com
END:VEVENT
BEGIN:VEVENT
DTSTAMP:20260420T221741Z
DTSTART;VALUE=DATE:20110915
SUMMARY:CLA 2011 Final Version Due
DESCRIPTION:The 8th International Conference on Concept Lattices and Thei
 r Applications 
URL:http://www.wikicfp.com/cfp/servlet/event.showcfp?eventid=16002&copyow
 nerid=32050
UID:cfp221867-N@wikicfp.com
END:VEVENT
BEGIN:VEVENT
DTSTAMP:20260420T221741Z
DTSTART;VALUE=DATE:20120506
DTEND;VALUE=DATE:20120511
SUMMARY:ICFCA 2012
DESCRIPTION:10th International Conference on Formal Concept Analysis
URL:http://www.wikicfp.com/cfp/servlet/event.showcfp?eventid=18610&copyow
 nerid=32050
UID:cfp221868-E@wikicfp.com
END:VEVENT
BEGIN:VEVENT
DTSTAMP:20260420T221741Z
DTSTART;VALUE=DATE:20111214
SUMMARY:ICFCA 2012 Abstract Due
DESCRIPTION:10th International Conference on Formal Concept Analysis
URL:http://www.wikicfp.com/cfp/servlet/event.showcfp?eventid=18610&copyow
 nerid=32050
UID:cfp221868-A@wikicfp.com
END:VEVENT
BEGIN:VEVENT
DTSTAMP:20260420T221741Z
DTSTART;VALUE=DATE:20111230
SUMMARY:ICFCA 2012 Deadline
DESCRIPTION:10th International Conference on Formal Concept Analysis
URL:http://www.wikicfp.com/cfp/servlet/event.showcfp?eventid=18610&copyow
 nerid=32050
UID:cfp221868-D@wikicfp.com
END:VEVENT
BEGIN:VEVENT
DTSTAMP:20260420T221741Z
DTSTART;VALUE=DATE:20120201
SUMMARY:ICFCA 2012 Notification Due
DESCRIPTION:10th International Conference on Formal Concept Analysis
URL:http://www.wikicfp.com/cfp/servlet/event.showcfp?eventid=18610&copyow
 nerid=32050
UID:cfp221868-N@wikicfp.com
END:VEVENT
BEGIN:VEVENT
DTSTAMP:20260420T221741Z
DTSTART;VALUE=DATE:20120227
SUMMARY:ICFCA 2012 Final Version Due
DESCRIPTION:10th International Conference on Formal Concept Analysis
URL:http://www.wikicfp.com/cfp/servlet/event.showcfp?eventid=18610&copyow
 nerid=32050
UID:cfp221868-N@wikicfp.com
END:VEVENT
END:VCALENDAR
