BEGIN:VCALENDAR
PRODID:-//WikiCFP//bugzbunny 1.0//EN
VERSION:2.0
CALSCALE:GREGORIAN
BEGIN:VEVENT
DTSTAMP:20260423T004315Z
DTSTART;VALUE=DATE:20120704
DTEND;VALUE=DATE:20120707
SUMMARY:ICALT 2012
DESCRIPTION:12th IEEE International Conference on Advanced Learning Techn
 ologies
URL:http://www.wikicfp.com/cfp/servlet/event.showcfp?eventid=17462&copyow
 nerid=31844
UID:cfp220549-E@wikicfp.com
END:VEVENT
BEGIN:VEVENT
DTSTAMP:20260423T004315Z
DTSTART;VALUE=DATE:20111230
SUMMARY:ICALT 2012 Deadline
DESCRIPTION:12th IEEE International Conference on Advanced Learning Techn
 ologies
URL:http://www.wikicfp.com/cfp/servlet/event.showcfp?eventid=17462&copyow
 nerid=31844
UID:cfp220549-D@wikicfp.com
END:VEVENT
BEGIN:VEVENT
DTSTAMP:20260423T004315Z
DTSTART;VALUE=DATE:20120201
SUMMARY:ICALT 2012 Notification Due
DESCRIPTION:12th IEEE International Conference on Advanced Learning Techn
 ologies
URL:http://www.wikicfp.com/cfp/servlet/event.showcfp?eventid=17462&copyow
 nerid=31844
UID:cfp220549-N@wikicfp.com
END:VEVENT
BEGIN:VEVENT
DTSTAMP:20260423T004315Z
DTSTART;VALUE=DATE:20120401
SUMMARY:ICALT 2012 Final Version Due
DESCRIPTION:12th IEEE International Conference on Advanced Learning Techn
 ologies
URL:http://www.wikicfp.com/cfp/servlet/event.showcfp?eventid=17462&copyow
 nerid=31844
UID:cfp220549-N@wikicfp.com
END:VEVENT
BEGIN:VEVENT
DTSTAMP:20260423T004315Z
DTSTART;VALUE=DATE:20120101
SUMMARY:BSPC SI Biomedical Image Restoration 2012 Deadline
DESCRIPTION:SI on Biomedical Image Restoration and Enhancement (Biomedica
 l Signal Processing and Control\, Elsevier) 
URL:http://www.wikicfp.com/cfp/servlet/event.showcfp?eventid=17698&copyow
 nerid=31844
UID:cfp220547-D@wikicfp.com
END:VEVENT
BEGIN:VEVENT
DTSTAMP:20260423T004315Z
DTSTART;VALUE=DATE:20120401
SUMMARY:BSPC SI Biomedical Image Restoration 2012 Notification Due
DESCRIPTION:SI on Biomedical Image Restoration and Enhancement (Biomedica
 l Signal Processing and Control\, Elsevier) 
URL:http://www.wikicfp.com/cfp/servlet/event.showcfp?eventid=17698&copyow
 nerid=31844
UID:cfp220547-N@wikicfp.com
END:VEVENT
BEGIN:VEVENT
DTSTAMP:20260423T004315Z
DTSTART;VALUE=DATE:20120701
SUMMARY:BSPC SI Biomedical Image Restoration 2012 Final Version Due
DESCRIPTION:SI on Biomedical Image Restoration and Enhancement (Biomedica
 l Signal Processing and Control\, Elsevier) 
URL:http://www.wikicfp.com/cfp/servlet/event.showcfp?eventid=17698&copyow
 nerid=31844
UID:cfp220547-N@wikicfp.com
END:VEVENT
BEGIN:VEVENT
DTSTAMP:20260423T004315Z
DTSTART;VALUE=DATE:20120930
DTEND;VALUE=DATE:20121004
SUMMARY:ICIP 2012
DESCRIPTION:2012 IEEE International Conference on Image Processing
URL:http://www.wikicfp.com/cfp/servlet/event.showcfp?eventid=17002&copyow
 nerid=31844
UID:cfp220548-E@wikicfp.com
END:VEVENT
BEGIN:VEVENT
DTSTAMP:20260423T004315Z
DTSTART;VALUE=DATE:20120112
SUMMARY:ICIP 2012 Deadline
DESCRIPTION:2012 IEEE International Conference on Image Processing
URL:http://www.wikicfp.com/cfp/servlet/event.showcfp?eventid=17002&copyow
 nerid=31844
UID:cfp220548-D@wikicfp.com
END:VEVENT
BEGIN:VEVENT
DTSTAMP:20260423T004315Z
DTSTART;VALUE=DATE:20120413
SUMMARY:ICIP 2012 Notification Due
DESCRIPTION:2012 IEEE International Conference on Image Processing
URL:http://www.wikicfp.com/cfp/servlet/event.showcfp?eventid=17002&copyow
 nerid=31844
UID:cfp220548-N@wikicfp.com
END:VEVENT
BEGIN:VEVENT
DTSTAMP:20260423T004315Z
DTSTART;VALUE=DATE:20120518
SUMMARY:ICIP 2012 Final Version Due
DESCRIPTION:2012 IEEE International Conference on Image Processing
URL:http://www.wikicfp.com/cfp/servlet/event.showcfp?eventid=17002&copyow
 nerid=31844
UID:cfp220548-N@wikicfp.com
END:VEVENT
END:VCALENDAR
