BEGIN:VCALENDAR
PRODID:-//WikiCFP//rodream 1.0//EN
VERSION:2.0
CALSCALE:GREGORIAN
BEGIN:VEVENT
DTSTAMP:20260421T231624Z
DTSTART;VALUE=DATE:20120409
DTEND;VALUE=DATE:20120413
SUMMARY:ISPEC 2012
DESCRIPTION:The 8th Information Security Practice and Experience Conferen
 ce 
URL:http://www.wikicfp.com/cfp/servlet/event.showcfp?eventid=18370&copyow
 nerid=31789
UID:cfp219098-E@wikicfp.com
END:VEVENT
BEGIN:VEVENT
DTSTAMP:20260421T231624Z
DTSTART;VALUE=DATE:20111110
SUMMARY:ISPEC 2012 Deadline
DESCRIPTION:The 8th Information Security Practice and Experience Conferen
 ce 
URL:http://www.wikicfp.com/cfp/servlet/event.showcfp?eventid=18370&copyow
 nerid=31789
UID:cfp219098-D@wikicfp.com
END:VEVENT
BEGIN:VEVENT
DTSTAMP:20260421T231624Z
DTSTART;VALUE=DATE:20120110
SUMMARY:ISPEC 2012 Notification Due
DESCRIPTION:The 8th Information Security Practice and Experience Conferen
 ce 
URL:http://www.wikicfp.com/cfp/servlet/event.showcfp?eventid=18370&copyow
 nerid=31789
UID:cfp219098-N@wikicfp.com
END:VEVENT
BEGIN:VEVENT
DTSTAMP:20260421T231624Z
DTSTART;VALUE=DATE:20120130
SUMMARY:ISPEC 2012 Final Version Due
DESCRIPTION:The 8th Information Security Practice and Experience Conferen
 ce 
URL:http://www.wikicfp.com/cfp/servlet/event.showcfp?eventid=18370&copyow
 nerid=31789
UID:cfp219098-N@wikicfp.com
END:VEVENT
BEGIN:VEVENT
DTSTAMP:20260421T231624Z
DTSTART;VALUE=DATE:20111115
SUMMARY:JOPT 2011 Deadline
DESCRIPTION:Journal of Pervasive Technology
URL:http://www.wikicfp.com/cfp/servlet/event.showcfp?eventid=19218&copyow
 nerid=31789
UID:cfp219099-D@wikicfp.com
END:VEVENT
BEGIN:VEVENT
DTSTAMP:20260421T231624Z
DTSTART;VALUE=DATE:20111203
SUMMARY:JOPT 2011 Notification Due
DESCRIPTION:Journal of Pervasive Technology
URL:http://www.wikicfp.com/cfp/servlet/event.showcfp?eventid=19218&copyow
 nerid=31789
UID:cfp219099-N@wikicfp.com
END:VEVENT
BEGIN:VEVENT
DTSTAMP:20260421T231624Z
DTSTART;VALUE=DATE:20111210
SUMMARY:JOPT 2011 Final Version Due
DESCRIPTION:Journal of Pervasive Technology
URL:http://www.wikicfp.com/cfp/servlet/event.showcfp?eventid=19218&copyow
 nerid=31789
UID:cfp219099-N@wikicfp.com
END:VEVENT
BEGIN:VEVENT
DTSTAMP:20260421T231624Z
DTSTART;VALUE=DATE:20120520
DTEND;VALUE=DATE:20120524
SUMMARY:S&P 2012
DESCRIPTION:IEEE Symposium on Security and Privacy
URL:http://www.wikicfp.com/cfp/servlet/event.showcfp?eventid=18162&copyow
 nerid=31789
UID:cfp219101-E@wikicfp.com
END:VEVENT
BEGIN:VEVENT
DTSTAMP:20260421T231624Z
DTSTART;VALUE=DATE:20111116
SUMMARY:S&P 2012 Deadline
DESCRIPTION:IEEE Symposium on Security and Privacy
URL:http://www.wikicfp.com/cfp/servlet/event.showcfp?eventid=18162&copyow
 nerid=31789
UID:cfp219101-D@wikicfp.com
END:VEVENT
BEGIN:VEVENT
DTSTAMP:20260421T231624Z
DTSTART;VALUE=DATE:20120201
SUMMARY:S&P 2012 Notification Due
DESCRIPTION:IEEE Symposium on Security and Privacy
URL:http://www.wikicfp.com/cfp/servlet/event.showcfp?eventid=18162&copyow
 nerid=31789
UID:cfp219101-N@wikicfp.com
END:VEVENT
BEGIN:VEVENT
DTSTAMP:20260421T231624Z
DTSTART;VALUE=DATE:20120305
SUMMARY:S&P 2012 Final Version Due
DESCRIPTION:IEEE Symposium on Security and Privacy
URL:http://www.wikicfp.com/cfp/servlet/event.showcfp?eventid=18162&copyow
 nerid=31789
UID:cfp219101-N@wikicfp.com
END:VEVENT
BEGIN:VEVENT
DTSTAMP:20260421T231624Z
DTSTART;VALUE=DATE:20120711
DTEND;VALUE=DATE:20120714
SUMMARY:DBSEC 2012
DESCRIPTION:26th Annual WG 11.3 Conference on Data and Applications Secur
 ity and Privacy
URL:http://www.wikicfp.com/cfp/servlet/event.showcfp?eventid=19304&copyow
 nerid=31789
UID:cfp219102-E@wikicfp.com
END:VEVENT
BEGIN:VEVENT
DTSTAMP:20260421T231624Z
DTSTART;VALUE=DATE:20120226
SUMMARY:DBSEC 2012 Deadline
DESCRIPTION:26th Annual WG 11.3 Conference on Data and Applications Secur
 ity and Privacy
URL:http://www.wikicfp.com/cfp/servlet/event.showcfp?eventid=19304&copyow
 nerid=31789
UID:cfp219102-D@wikicfp.com
END:VEVENT
BEGIN:VEVENT
DTSTAMP:20260421T231624Z
DTSTART;VALUE=DATE:20120418
SUMMARY:DBSEC 2012 Notification Due
DESCRIPTION:26th Annual WG 11.3 Conference on Data and Applications Secur
 ity and Privacy
URL:http://www.wikicfp.com/cfp/servlet/event.showcfp?eventid=19304&copyow
 nerid=31789
UID:cfp219102-N@wikicfp.com
END:VEVENT
BEGIN:VEVENT
DTSTAMP:20260421T231624Z
DTSTART;VALUE=DATE:20120502
SUMMARY:DBSEC 2012 Final Version Due
DESCRIPTION:26th Annual WG 11.3 Conference on Data and Applications Secur
 ity and Privacy
URL:http://www.wikicfp.com/cfp/servlet/event.showcfp?eventid=19304&copyow
 nerid=31789
UID:cfp219102-N@wikicfp.com
END:VEVENT
BEGIN:VEVENT
DTSTAMP:20260421T231624Z
DTSTART;VALUE=DATE:20120330
SUMMARY:IJTMCC 2012 Deadline
DESCRIPTION:International Journal of Trust Management in Computing and Co
 mmunications (IJTMCC)
URL:http://www.wikicfp.com/cfp/servlet/event.showcfp?eventid=18938&copyow
 nerid=31789
UID:cfp219103-D@wikicfp.com
END:VEVENT
BEGIN:VEVENT
DTSTAMP:20260421T231624Z
DTSTART;VALUE=DATE:20120601
SUMMARY:IJTMCC 2012 Notification Due
DESCRIPTION:International Journal of Trust Management in Computing and Co
 mmunications (IJTMCC)
URL:http://www.wikicfp.com/cfp/servlet/event.showcfp?eventid=18938&copyow
 nerid=31789
UID:cfp219103-N@wikicfp.com
END:VEVENT
BEGIN:VEVENT
DTSTAMP:20260421T231624Z
DTSTART;VALUE=DATE:20110820
SUMMARY:IJTMCC 2012 Final Version Due
DESCRIPTION:International Journal of Trust Management in Computing and Co
 mmunications (IJTMCC)
URL:http://www.wikicfp.com/cfp/servlet/event.showcfp?eventid=18938&copyow
 nerid=31789
UID:cfp219103-N@wikicfp.com
END:VEVENT
BEGIN:VEVENT
DTSTAMP:20260421T231624Z
DTSTART;VALUE=DATE:20131230
SUMMARY:CCS 2013 Deadline
DESCRIPTION:Communications and Computer Security Journal
URL:http://www.wikicfp.com/cfp/servlet/event.showcfp?eventid=15941&copyow
 nerid=31789
UID:cfp219100-D@wikicfp.com
END:VEVENT
END:VCALENDAR
