BEGIN:VCALENDAR
PRODID:-//WikiCFP//ivanad 1.0//EN
VERSION:2.0
CALSCALE:GREGORIAN
BEGIN:VEVENT
DTSTAMP:20260425T184240Z
DTSTART;VALUE=DATE:20120613
DTEND;VALUE=DATE:20120617
SUMMARY:DisCoTec  2012
DESCRIPTION:Deadline Extended: DisCoTec 2012\, Stockholm\, Sweden (COORDI
 NATION + DAIS + FMOODS/FORTE)
URL:http://www.wikicfp.com/cfp/servlet/event.showcfp?eventid=19315&copyow
 nerid=31717
UID:cfp218603-E@wikicfp.com
END:VEVENT
BEGIN:VEVENT
DTSTAMP:20260425T184240Z
DTSTART;VALUE=DATE:20120220
SUMMARY:DisCoTec  2012 Abstract Due
DESCRIPTION:Deadline Extended: DisCoTec 2012\, Stockholm\, Sweden (COORDI
 NATION + DAIS + FMOODS/FORTE)
URL:http://www.wikicfp.com/cfp/servlet/event.showcfp?eventid=19315&copyow
 nerid=31717
UID:cfp218603-A@wikicfp.com
END:VEVENT
BEGIN:VEVENT
DTSTAMP:20260425T184240Z
DTSTART;VALUE=DATE:20120227
SUMMARY:DisCoTec  2012 Deadline
DESCRIPTION:Deadline Extended: DisCoTec 2012\, Stockholm\, Sweden (COORDI
 NATION + DAIS + FMOODS/FORTE)
URL:http://www.wikicfp.com/cfp/servlet/event.showcfp?eventid=19315&copyow
 nerid=31717
UID:cfp218603-D@wikicfp.com
END:VEVENT
BEGIN:VEVENT
DTSTAMP:20260425T184240Z
DTSTART;VALUE=DATE:20120326
SUMMARY:DisCoTec  2012 Notification Due
DESCRIPTION:Deadline Extended: DisCoTec 2012\, Stockholm\, Sweden (COORDI
 NATION + DAIS + FMOODS/FORTE)
URL:http://www.wikicfp.com/cfp/servlet/event.showcfp?eventid=19315&copyow
 nerid=31717
UID:cfp218603-N@wikicfp.com
END:VEVENT
BEGIN:VEVENT
DTSTAMP:20260425T184240Z
DTSTART;VALUE=DATE:20120409
SUMMARY:DisCoTec  2012 Final Version Due
DESCRIPTION:Deadline Extended: DisCoTec 2012\, Stockholm\, Sweden (COORDI
 NATION + DAIS + FMOODS/FORTE)
URL:http://www.wikicfp.com/cfp/servlet/event.showcfp?eventid=19315&copyow
 nerid=31717
UID:cfp218603-N@wikicfp.com
END:VEVENT
END:VCALENDAR
