BEGIN:VCALENDAR
PRODID:-//WikiCFP//fsivrikaya 1.0//EN
VERSION:2.0
CALSCALE:GREGORIAN
BEGIN:VEVENT
DTSTAMP:20260424T234431Z
DTSTART;VALUE=DATE:20090923
DTEND;VALUE=DATE:20090926
SUMMARY:ADHOCNETS 2009
DESCRIPTION:First International Conference on Ad Hoc Networks 
URL:http://www.wikicfp.com/cfp/servlet/event.showcfp?eventid=4585&copyown
 erid=3146
UID:cfp26049-E@wikicfp.com
END:VEVENT
BEGIN:VEVENT
DTSTAMP:20260424T234431Z
DTSTART;VALUE=DATE:20090325
SUMMARY:ADHOCNETS 2009 Abstract Due
DESCRIPTION:First International Conference on Ad Hoc Networks 
URL:http://www.wikicfp.com/cfp/servlet/event.showcfp?eventid=4585&copyown
 erid=3146
UID:cfp26049-A@wikicfp.com
END:VEVENT
BEGIN:VEVENT
DTSTAMP:20260424T234431Z
DTSTART;VALUE=DATE:20090401
SUMMARY:ADHOCNETS 2009 Deadline
DESCRIPTION:First International Conference on Ad Hoc Networks 
URL:http://www.wikicfp.com/cfp/servlet/event.showcfp?eventid=4585&copyown
 erid=3146
UID:cfp26049-D@wikicfp.com
END:VEVENT
BEGIN:VEVENT
DTSTAMP:20260424T234431Z
DTSTART;VALUE=DATE:20090630
SUMMARY:ADHOCNETS 2009 Notification Due
DESCRIPTION:First International Conference on Ad Hoc Networks 
URL:http://www.wikicfp.com/cfp/servlet/event.showcfp?eventid=4585&copyown
 erid=3146
UID:cfp26049-N@wikicfp.com
END:VEVENT
BEGIN:VEVENT
DTSTAMP:20260424T234431Z
DTSTART;VALUE=DATE:20090715
SUMMARY:ADHOCNETS 2009 Final Version Due
DESCRIPTION:First International Conference on Ad Hoc Networks 
URL:http://www.wikicfp.com/cfp/servlet/event.showcfp?eventid=4585&copyown
 erid=3146
UID:cfp26049-N@wikicfp.com
END:VEVENT
BEGIN:VEVENT
DTSTAMP:20260424T234431Z
DTSTART;VALUE=DATE:20191103
DTEND;VALUE=DATE:20191108
SUMMARY:MoST-Rec 2019
DESCRIPTION:Workshop on Model Selection and Parameter Tuning in Recommend
 er Systems
URL:http://www.wikicfp.com/cfp/servlet/event.showcfp?eventid=91800&copyow
 nerid=3146
UID:cfp796399-E@wikicfp.com
END:VEVENT
BEGIN:VEVENT
DTSTAMP:20260424T234431Z
DTSTART;VALUE=DATE:20190814
SUMMARY:MoST-Rec 2019 Deadline
DESCRIPTION:Workshop on Model Selection and Parameter Tuning in Recommend
 er Systems
URL:http://www.wikicfp.com/cfp/servlet/event.showcfp?eventid=91800&copyow
 nerid=3146
UID:cfp796399-D@wikicfp.com
END:VEVENT
BEGIN:VEVENT
DTSTAMP:20260424T234431Z
DTSTART;VALUE=DATE:20190828
SUMMARY:MoST-Rec 2019 Notification Due
DESCRIPTION:Workshop on Model Selection and Parameter Tuning in Recommend
 er Systems
URL:http://www.wikicfp.com/cfp/servlet/event.showcfp?eventid=91800&copyow
 nerid=3146
UID:cfp796399-N@wikicfp.com
END:VEVENT
BEGIN:VEVENT
DTSTAMP:20260424T234431Z
DTSTART;VALUE=DATE:20190606
SUMMARY:MoST-Rec 2019 Final Version Due
DESCRIPTION:Workshop on Model Selection and Parameter Tuning in Recommend
 er Systems
URL:http://www.wikicfp.com/cfp/servlet/event.showcfp?eventid=91800&copyow
 nerid=3146
UID:cfp796399-N@wikicfp.com
END:VEVENT
BEGIN:VEVENT
DTSTAMP:20260424T234431Z
DTSTART;VALUE=DATE:20200713
DTEND;VALUE=DATE:20200718
SUMMARY:ASYS 2020
DESCRIPTION:IEEE COMPSAC Symposium on Autonomous Systems
URL:http://www.wikicfp.com/cfp/servlet/event.showcfp?eventid=98611&copyow
 nerid=3146
UID:cfp823476-E@wikicfp.com
END:VEVENT
BEGIN:VEVENT
DTSTAMP:20260424T234431Z
DTSTART;VALUE=DATE:20200213
SUMMARY:ASYS 2020 Deadline
DESCRIPTION:IEEE COMPSAC Symposium on Autonomous Systems
URL:http://www.wikicfp.com/cfp/servlet/event.showcfp?eventid=98611&copyow
 nerid=3146
UID:cfp823476-D@wikicfp.com
END:VEVENT
BEGIN:VEVENT
DTSTAMP:20260424T234431Z
DTSTART;VALUE=DATE:20200403
SUMMARY:ASYS 2020 Notification Due
DESCRIPTION:IEEE COMPSAC Symposium on Autonomous Systems
URL:http://www.wikicfp.com/cfp/servlet/event.showcfp?eventid=98611&copyow
 nerid=3146
UID:cfp823476-N@wikicfp.com
END:VEVENT
BEGIN:VEVENT
DTSTAMP:20260424T234431Z
DTSTART;VALUE=DATE:20200515
SUMMARY:ASYS 2020 Final Version Due
DESCRIPTION:IEEE COMPSAC Symposium on Autonomous Systems
URL:http://www.wikicfp.com/cfp/servlet/event.showcfp?eventid=98611&copyow
 nerid=3146
UID:cfp823476-N@wikicfp.com
END:VEVENT
BEGIN:VEVENT
DTSTAMP:20260424T234431Z
DTSTART;VALUE=DATE:20211130
SUMMARY:Sensors 2021 Deadline
DESCRIPTION:Special Issue: Sensor Networking for Connected and Smart Mobi
 lity in Cities of the Future
URL:http://www.wikicfp.com/cfp/servlet/event.showcfp?eventid=131689&copyo
 wnerid=3146
UID:cfp883872-D@wikicfp.com
END:VEVENT
BEGIN:VEVENT
DTSTAMP:20260424T234431Z
DTSTART;VALUE=DATE:20211231
SUMMARY:JDSA SI 2021 Deadline
DESCRIPTION:Springer Journal Special Issue on Data Science for Next-Gener
 ation Recommender Systems
URL:http://www.wikicfp.com/cfp/servlet/event.showcfp?eventid=96265&copyow
 nerid=3146
UID:cfp812864-D@wikicfp.com
END:VEVENT
END:VCALENDAR
