BEGIN:VCALENDAR
PRODID:-//WikiCFP//markusin 1.0//EN
VERSION:2.0
CALSCALE:GREGORIAN
BEGIN:VEVENT
DTSTAMP:20260425T182600Z
DTSTART;VALUE=DATE:20120625
DTEND;VALUE=DATE:20120628
SUMMARY:SSDBM 2012
DESCRIPTION:24th International Conference on SCIENTIFIC and Statistical D
 atabase Management
URL:http://www.wikicfp.com/cfp/servlet/event.showcfp?eventid=18636&copyow
 nerid=31442
UID:cfp229601-E@wikicfp.com
END:VEVENT
BEGIN:VEVENT
DTSTAMP:20260425T182600Z
DTSTART;VALUE=DATE:20120113
SUMMARY:SSDBM 2012 Abstract Due
DESCRIPTION:24th International Conference on SCIENTIFIC and Statistical D
 atabase Management
URL:http://www.wikicfp.com/cfp/servlet/event.showcfp?eventid=18636&copyow
 nerid=31442
UID:cfp229601-A@wikicfp.com
END:VEVENT
BEGIN:VEVENT
DTSTAMP:20260425T182600Z
DTSTART;VALUE=DATE:20120120
SUMMARY:SSDBM 2012 Deadline
DESCRIPTION:24th International Conference on SCIENTIFIC and Statistical D
 atabase Management
URL:http://www.wikicfp.com/cfp/servlet/event.showcfp?eventid=18636&copyow
 nerid=31442
UID:cfp229601-D@wikicfp.com
END:VEVENT
BEGIN:VEVENT
DTSTAMP:20260425T182600Z
DTSTART;VALUE=DATE:20120918
DTEND;VALUE=DATE:20120922
SUMMARY:GIScience 2012
DESCRIPTION:7th International Conference on Geographic Information Scienc
 e
URL:http://www.wikicfp.com/cfp/servlet/event.showcfp?eventid=18820&copyow
 nerid=31442
UID:cfp229603-E@wikicfp.com
END:VEVENT
BEGIN:VEVENT
DTSTAMP:20260425T182600Z
DTSTART;VALUE=DATE:20120206
SUMMARY:GIScience 2012 Deadline
DESCRIPTION:7th International Conference on Geographic Information Scienc
 e
URL:http://www.wikicfp.com/cfp/servlet/event.showcfp?eventid=18820&copyow
 nerid=31442
UID:cfp229603-D@wikicfp.com
END:VEVENT
BEGIN:VEVENT
DTSTAMP:20260425T182600Z
DTSTART;VALUE=DATE:20120319
SUMMARY:GIScience 2012 Notification Due
DESCRIPTION:7th International Conference on Geographic Information Scienc
 e
URL:http://www.wikicfp.com/cfp/servlet/event.showcfp?eventid=18820&copyow
 nerid=31442
UID:cfp229603-N@wikicfp.com
END:VEVENT
BEGIN:VEVENT
DTSTAMP:20260425T182600Z
DTSTART;VALUE=DATE:20120430
SUMMARY:GIScience 2012 Final Version Due
DESCRIPTION:7th International Conference on Geographic Information Scienc
 e
URL:http://www.wikicfp.com/cfp/servlet/event.showcfp?eventid=18820&copyow
 nerid=31442
UID:cfp229603-N@wikicfp.com
END:VEVENT
BEGIN:VEVENT
DTSTAMP:20260425T182600Z
DTSTART;VALUE=DATE:20120701
DTEND;VALUE=DATE:20120704
SUMMARY:COM.Geo  2012
DESCRIPTION:The 3rd International Conference and Exhibition on Computing 
 for Geospatial Research and Application
URL:http://www.wikicfp.com/cfp/servlet/event.showcfp?eventid=20117&copyow
 nerid=31442
UID:cfp229606-E@wikicfp.com
END:VEVENT
BEGIN:VEVENT
DTSTAMP:20260425T182600Z
DTSTART;VALUE=DATE:20120305
SUMMARY:COM.Geo  2012 Abstract Due
DESCRIPTION:The 3rd International Conference and Exhibition on Computing 
 for Geospatial Research and Application
URL:http://www.wikicfp.com/cfp/servlet/event.showcfp?eventid=20117&copyow
 nerid=31442
UID:cfp229606-A@wikicfp.com
END:VEVENT
BEGIN:VEVENT
DTSTAMP:20260425T182600Z
DTSTART;VALUE=DATE:20120305
SUMMARY:COM.Geo  2012 Deadline
DESCRIPTION:The 3rd International Conference and Exhibition on Computing 
 for Geospatial Research and Application
URL:http://www.wikicfp.com/cfp/servlet/event.showcfp?eventid=20117&copyow
 nerid=31442
UID:cfp229606-D@wikicfp.com
END:VEVENT
BEGIN:VEVENT
DTSTAMP:20260425T182600Z
DTSTART;VALUE=DATE:20120416
SUMMARY:COM.Geo  2012 Notification Due
DESCRIPTION:The 3rd International Conference and Exhibition on Computing 
 for Geospatial Research and Application
URL:http://www.wikicfp.com/cfp/servlet/event.showcfp?eventid=20117&copyow
 nerid=31442
UID:cfp229606-N@wikicfp.com
END:VEVENT
BEGIN:VEVENT
DTSTAMP:20260425T182600Z
DTSTART;VALUE=DATE:20120430
SUMMARY:COM.Geo  2012 Final Version Due
DESCRIPTION:The 3rd International Conference and Exhibition on Computing 
 for Geospatial Research and Application
URL:http://www.wikicfp.com/cfp/servlet/event.showcfp?eventid=20117&copyow
 nerid=31442
UID:cfp229606-N@wikicfp.com
END:VEVENT
BEGIN:VEVENT
DTSTAMP:20260425T182600Z
DTSTART;VALUE=DATE:20130422
DTEND;VALUE=DATE:20130426
SUMMARY:DASFAA 2013
DESCRIPTION:The 18th International Conference on Database Systems for Adv
 anced Applications
URL:http://www.wikicfp.com/cfp/servlet/event.showcfp?eventid=24802&copyow
 nerid=31442
UID:cfp299663-E@wikicfp.com
END:VEVENT
BEGIN:VEVENT
DTSTAMP:20260425T182600Z
DTSTART;VALUE=DATE:20121102
SUMMARY:DASFAA 2013 Abstract Due
DESCRIPTION:The 18th International Conference on Database Systems for Adv
 anced Applications
URL:http://www.wikicfp.com/cfp/servlet/event.showcfp?eventid=24802&copyow
 nerid=31442
UID:cfp299663-A@wikicfp.com
END:VEVENT
BEGIN:VEVENT
DTSTAMP:20260425T182600Z
DTSTART;VALUE=DATE:20121102
SUMMARY:DASFAA 2013 Deadline
DESCRIPTION:The 18th International Conference on Database Systems for Adv
 anced Applications
URL:http://www.wikicfp.com/cfp/servlet/event.showcfp?eventid=24802&copyow
 nerid=31442
UID:cfp299663-D@wikicfp.com
END:VEVENT
BEGIN:VEVENT
DTSTAMP:20260425T182600Z
DTSTART;VALUE=DATE:20121230
SUMMARY:DASFAA 2013 Notification Due
DESCRIPTION:The 18th International Conference on Database Systems for Adv
 anced Applications
URL:http://www.wikicfp.com/cfp/servlet/event.showcfp?eventid=24802&copyow
 nerid=31442
UID:cfp299663-N@wikicfp.com
END:VEVENT
BEGIN:VEVENT
DTSTAMP:20260425T182600Z
DTSTART;VALUE=DATE:20130130
SUMMARY:DASFAA 2013 Final Version Due
DESCRIPTION:The 18th International Conference on Database Systems for Adv
 anced Applications
URL:http://www.wikicfp.com/cfp/servlet/event.showcfp?eventid=24802&copyow
 nerid=31442
UID:cfp299663-N@wikicfp.com
END:VEVENT
BEGIN:VEVENT
DTSTAMP:20260425T182600Z
DTSTART;VALUE=DATE:20130722
DTEND;VALUE=DATE:20130725
SUMMARY:COM.Geo 2013
DESCRIPTION:The 4th International Conference on Computing for Geospatial 
 Research and Application
URL:http://www.wikicfp.com/cfp/servlet/event.showcfp?eventid=25459&copyow
 nerid=31442
UID:cfp299664-E@wikicfp.com
END:VEVENT
BEGIN:VEVENT
DTSTAMP:20260425T182600Z
DTSTART;VALUE=DATE:20121210
SUMMARY:COM.Geo 2013 Deadline
DESCRIPTION:The 4th International Conference on Computing for Geospatial 
 Research and Application
URL:http://www.wikicfp.com/cfp/servlet/event.showcfp?eventid=25459&copyow
 nerid=31442
UID:cfp299664-D@wikicfp.com
END:VEVENT
END:VCALENDAR
