BEGIN:VCALENDAR
PRODID:-//WikiCFP//bringel 1.0//EN
VERSION:2.0
CALSCALE:GREGORIAN
BEGIN:VEVENT
DTSTAMP:20260420T034800Z
DTSTART;VALUE=DATE:20091106
DTEND;VALUE=DATE:20091107
SUMMARY:DQS 2009
DESCRIPTION:International Workshop on Data Quality and Security
URL:http://www.wikicfp.com/cfp/servlet/event.showcfp?eventid=5718&copyown
 erid=313
UID:cfp41358-E@wikicfp.com
END:VEVENT
BEGIN:VEVENT
DTSTAMP:20260420T034800Z
DTSTART;VALUE=DATE:20090720
SUMMARY:DQS 2009 Deadline
DESCRIPTION:International Workshop on Data Quality and Security
URL:http://www.wikicfp.com/cfp/servlet/event.showcfp?eventid=5718&copyown
 erid=313
UID:cfp41358-D@wikicfp.com
END:VEVENT
BEGIN:VEVENT
DTSTAMP:20260420T034800Z
DTSTART;VALUE=DATE:20090810
SUMMARY:DQS 2009 Notification Due
DESCRIPTION:International Workshop on Data Quality and Security
URL:http://www.wikicfp.com/cfp/servlet/event.showcfp?eventid=5718&copyown
 erid=313
UID:cfp41358-N@wikicfp.com
END:VEVENT
BEGIN:VEVENT
DTSTAMP:20260420T034800Z
DTSTART;VALUE=DATE:20090815
SUMMARY:DQS 2009 Final Version Due
DESCRIPTION:International Workshop on Data Quality and Security
URL:http://www.wikicfp.com/cfp/servlet/event.showcfp?eventid=5718&copyown
 erid=313
UID:cfp41358-N@wikicfp.com
END:VEVENT
BEGIN:VEVENT
DTSTAMP:20260420T034800Z
DTSTART;VALUE=DATE:20091209
DTEND;VALUE=DATE:20091212
SUMMARY:ReConFig 2009
DESCRIPTION:Special Track: Reconfigurable Computing for Security and Cryp
 tography
URL:http://www.wikicfp.com/cfp/servlet/event.showcfp?eventid=5796&copyown
 erid=313
UID:cfp41357-E@wikicfp.com
END:VEVENT
BEGIN:VEVENT
DTSTAMP:20260420T034800Z
DTSTART;VALUE=DATE:20090731
SUMMARY:ReConFig 2009 Deadline
DESCRIPTION:Special Track: Reconfigurable Computing for Security and Cryp
 tography
URL:http://www.wikicfp.com/cfp/servlet/event.showcfp?eventid=5796&copyown
 erid=313
UID:cfp41357-D@wikicfp.com
END:VEVENT
BEGIN:VEVENT
DTSTAMP:20260420T034800Z
DTSTART;VALUE=DATE:20090917
SUMMARY:ReConFig 2009 Notification Due
DESCRIPTION:Special Track: Reconfigurable Computing for Security and Cryp
 tography
URL:http://www.wikicfp.com/cfp/servlet/event.showcfp?eventid=5796&copyown
 erid=313
UID:cfp41357-N@wikicfp.com
END:VEVENT
BEGIN:VEVENT
DTSTAMP:20260420T034800Z
DTSTART;VALUE=DATE:20091009
SUMMARY:ReConFig 2009 Final Version Due
DESCRIPTION:Special Track: Reconfigurable Computing for Security and Cryp
 tography
URL:http://www.wikicfp.com/cfp/servlet/event.showcfp?eventid=5796&copyown
 erid=313
UID:cfp41357-N@wikicfp.com
END:VEVENT
BEGIN:VEVENT
DTSTAMP:20260420T034800Z
DTSTART;VALUE=DATE:20091012
DTEND;VALUE=DATE:20091015
SUMMARY:SEACUBE 2009
DESCRIPTION:International Workshop on Sensing and Acting in Ubiquitous En
 vironments
URL:http://www.wikicfp.com/cfp/servlet/event.showcfp?eventid=5385&copyown
 erid=313
UID:cfp41362-E@wikicfp.com
END:VEVENT
BEGIN:VEVENT
DTSTAMP:20260420T034800Z
DTSTART;VALUE=DATE:20090803
SUMMARY:SEACUBE 2009 Deadline
DESCRIPTION:International Workshop on Sensing and Acting in Ubiquitous En
 vironments
URL:http://www.wikicfp.com/cfp/servlet/event.showcfp?eventid=5385&copyown
 erid=313
UID:cfp41362-D@wikicfp.com
END:VEVENT
BEGIN:VEVENT
DTSTAMP:20260420T034800Z
DTSTART;VALUE=DATE:20090828
SUMMARY:SEACUBE 2009 Notification Due
DESCRIPTION:International Workshop on Sensing and Acting in Ubiquitous En
 vironments
URL:http://www.wikicfp.com/cfp/servlet/event.showcfp?eventid=5385&copyown
 erid=313
UID:cfp41362-N@wikicfp.com
END:VEVENT
BEGIN:VEVENT
DTSTAMP:20260420T034800Z
DTSTART;VALUE=DATE:20090911
SUMMARY:SEACUBE 2009 Final Version Due
DESCRIPTION:International Workshop on Sensing and Acting in Ubiquitous En
 vironments
URL:http://www.wikicfp.com/cfp/servlet/event.showcfp?eventid=5385&copyown
 erid=313
UID:cfp41362-N@wikicfp.com
END:VEVENT
BEGIN:VEVENT
DTSTAMP:20260420T034800Z
DTSTART;VALUE=DATE:20091122
DTEND;VALUE=DATE:20091126
SUMMARY:MUM 2009
DESCRIPTION:8th International Conference on Mobile and Ubiquitous Multime
 dia
URL:http://www.wikicfp.com/cfp/servlet/event.showcfp?eventid=5852&copyown
 erid=313
UID:cfp41354-E@wikicfp.com
END:VEVENT
BEGIN:VEVENT
DTSTAMP:20260420T034800Z
DTSTART;VALUE=DATE:20090803
SUMMARY:MUM 2009 Deadline
DESCRIPTION:8th International Conference on Mobile and Ubiquitous Multime
 dia
URL:http://www.wikicfp.com/cfp/servlet/event.showcfp?eventid=5852&copyown
 erid=313
UID:cfp41354-D@wikicfp.com
END:VEVENT
BEGIN:VEVENT
DTSTAMP:20260420T034800Z
DTSTART;VALUE=DATE:20090911
SUMMARY:MUM 2009 Notification Due
DESCRIPTION:8th International Conference on Mobile and Ubiquitous Multime
 dia
URL:http://www.wikicfp.com/cfp/servlet/event.showcfp?eventid=5852&copyown
 erid=313
UID:cfp41354-N@wikicfp.com
END:VEVENT
BEGIN:VEVENT
DTSTAMP:20260420T034800Z
DTSTART;VALUE=DATE:20091016
SUMMARY:MUM 2009 Final Version Due
DESCRIPTION:8th International Conference on Mobile and Ubiquitous Multime
 dia
URL:http://www.wikicfp.com/cfp/servlet/event.showcfp?eventid=5852&copyown
 erid=313
UID:cfp41354-N@wikicfp.com
END:VEVENT
BEGIN:VEVENT
DTSTAMP:20260420T034800Z
DTSTART;VALUE=DATE:20091015
DTEND;VALUE=DATE:20091016
SUMMARY:WESS 2009
DESCRIPTION:4th Workshop on Embedded Systems Security
URL:http://www.wikicfp.com/cfp/servlet/event.showcfp?eventid=5834&copyown
 erid=313
UID:cfp41356-E@wikicfp.com
END:VEVENT
BEGIN:VEVENT
DTSTAMP:20260420T034800Z
DTSTART;VALUE=DATE:20090810
SUMMARY:WESS 2009 Deadline
DESCRIPTION:4th Workshop on Embedded Systems Security
URL:http://www.wikicfp.com/cfp/servlet/event.showcfp?eventid=5834&copyown
 erid=313
UID:cfp41356-D@wikicfp.com
END:VEVENT
BEGIN:VEVENT
DTSTAMP:20260420T034800Z
DTSTART;VALUE=DATE:20090909
SUMMARY:WESS 2009 Notification Due
DESCRIPTION:4th Workshop on Embedded Systems Security
URL:http://www.wikicfp.com/cfp/servlet/event.showcfp?eventid=5834&copyown
 erid=313
UID:cfp41356-N@wikicfp.com
END:VEVENT
BEGIN:VEVENT
DTSTAMP:20260420T034800Z
DTSTART;VALUE=DATE:20090913
SUMMARY:WESS 2009 Final Version Due
DESCRIPTION:4th Workshop on Embedded Systems Security
URL:http://www.wikicfp.com/cfp/servlet/event.showcfp?eventid=5834&copyown
 erid=313
UID:cfp41356-N@wikicfp.com
END:VEVENT
BEGIN:VEVENT
DTSTAMP:20260420T034800Z
DTSTART;VALUE=DATE:20100114
DTEND;VALUE=DATE:20100116
SUMMARY:ICUIMC 2010
DESCRIPTION:The 4th International Conference on Ubiquitous Information Ma
 nagement and Communication
URL:http://www.wikicfp.com/cfp/servlet/event.showcfp?eventid=6036&copyown
 erid=313
UID:cfp45171-E@wikicfp.com
END:VEVENT
BEGIN:VEVENT
DTSTAMP:20260420T034800Z
DTSTART;VALUE=DATE:20090828
SUMMARY:ICUIMC 2010 Deadline
DESCRIPTION:The 4th International Conference on Ubiquitous Information Ma
 nagement and Communication
URL:http://www.wikicfp.com/cfp/servlet/event.showcfp?eventid=6036&copyown
 erid=313
UID:cfp45171-D@wikicfp.com
END:VEVENT
BEGIN:VEVENT
DTSTAMP:20260420T034800Z
DTSTART;VALUE=DATE:20091028
SUMMARY:ICUIMC 2010 Notification Due
DESCRIPTION:The 4th International Conference on Ubiquitous Information Ma
 nagement and Communication
URL:http://www.wikicfp.com/cfp/servlet/event.showcfp?eventid=6036&copyown
 erid=313
UID:cfp45171-N@wikicfp.com
END:VEVENT
BEGIN:VEVENT
DTSTAMP:20260420T034800Z
DTSTART;VALUE=DATE:20091127
SUMMARY:ICUIMC 2010 Final Version Due
DESCRIPTION:The 4th International Conference on Ubiquitous Information Ma
 nagement and Communication
URL:http://www.wikicfp.com/cfp/servlet/event.showcfp?eventid=6036&copyown
 erid=313
UID:cfp45171-N@wikicfp.com
END:VEVENT
BEGIN:VEVENT
DTSTAMP:20260420T034800Z
DTSTART;VALUE=DATE:20100322
DTEND;VALUE=DATE:20100327
SUMMARY:ACM SAC CS 2010
DESCRIPTION:25th ACM Symposium on Applied Computing - Track on Computer S
 ecurity
URL:http://www.wikicfp.com/cfp/servlet/event.showcfp?eventid=5752&copyown
 erid=313
UID:cfp41355-E@wikicfp.com
END:VEVENT
BEGIN:VEVENT
DTSTAMP:20260420T034800Z
DTSTART;VALUE=DATE:20090908
SUMMARY:ACM SAC CS 2010 Deadline
DESCRIPTION:25th ACM Symposium on Applied Computing - Track on Computer S
 ecurity
URL:http://www.wikicfp.com/cfp/servlet/event.showcfp?eventid=5752&copyown
 erid=313
UID:cfp41355-D@wikicfp.com
END:VEVENT
BEGIN:VEVENT
DTSTAMP:20260420T034800Z
DTSTART;VALUE=DATE:20091019
SUMMARY:ACM SAC CS 2010 Notification Due
DESCRIPTION:25th ACM Symposium on Applied Computing - Track on Computer S
 ecurity
URL:http://www.wikicfp.com/cfp/servlet/event.showcfp?eventid=5752&copyown
 erid=313
UID:cfp41355-N@wikicfp.com
END:VEVENT
BEGIN:VEVENT
DTSTAMP:20260420T034800Z
DTSTART;VALUE=DATE:20091102
SUMMARY:ACM SAC CS 2010 Final Version Due
DESCRIPTION:25th ACM Symposium on Applied Computing - Track on Computer S
 ecurity
URL:http://www.wikicfp.com/cfp/servlet/event.showcfp?eventid=5752&copyown
 erid=313
UID:cfp41355-N@wikicfp.com
END:VEVENT
BEGIN:VEVENT
DTSTAMP:20260420T034800Z
DTSTART;VALUE=DATE:20100329
DTEND;VALUE=DATE:20100403
SUMMARY:PerCom 2010
DESCRIPTION:8th IEEE International Conference on Pervasive Computing and 
 Communications PerCom 2010 
URL:http://www.wikicfp.com/cfp/servlet/event.showcfp?eventid=5766&copyown
 erid=313
UID:cfp41361-E@wikicfp.com
END:VEVENT
BEGIN:VEVENT
DTSTAMP:20260420T034800Z
DTSTART;VALUE=DATE:20090925
SUMMARY:PerCom 2010 Abstract Due
DESCRIPTION:8th IEEE International Conference on Pervasive Computing and 
 Communications PerCom 2010 
URL:http://www.wikicfp.com/cfp/servlet/event.showcfp?eventid=5766&copyown
 erid=313
UID:cfp41361-A@wikicfp.com
END:VEVENT
BEGIN:VEVENT
DTSTAMP:20260420T034800Z
DTSTART;VALUE=DATE:20090928
SUMMARY:PerCom 2010 Deadline
DESCRIPTION:8th IEEE International Conference on Pervasive Computing and 
 Communications PerCom 2010 
URL:http://www.wikicfp.com/cfp/servlet/event.showcfp?eventid=5766&copyown
 erid=313
UID:cfp41361-D@wikicfp.com
END:VEVENT
BEGIN:VEVENT
DTSTAMP:20260420T034800Z
DTSTART;VALUE=DATE:20091221
SUMMARY:PerCom 2010 Notification Due
DESCRIPTION:8th IEEE International Conference on Pervasive Computing and 
 Communications PerCom 2010 
URL:http://www.wikicfp.com/cfp/servlet/event.showcfp?eventid=5766&copyown
 erid=313
UID:cfp41361-N@wikicfp.com
END:VEVENT
BEGIN:VEVENT
DTSTAMP:20260420T034800Z
DTSTART;VALUE=DATE:20100129
SUMMARY:PerCom 2010 Final Version Due
DESCRIPTION:8th IEEE International Conference on Pervasive Computing and 
 Communications PerCom 2010 
URL:http://www.wikicfp.com/cfp/servlet/event.showcfp?eventid=5766&copyown
 erid=313
UID:cfp41361-N@wikicfp.com
END:VEVENT
BEGIN:VEVENT
DTSTAMP:20260420T034800Z
DTSTART;VALUE=DATE:20100413
DTEND;VALUE=DATE:20100414
SUMMARY:AsiaCCS 2010
DESCRIPTION:5th ACM Symposium on Information\, Computer and Communication
 s Security
URL:http://www.wikicfp.com/cfp/servlet/event.showcfp?eventid=5825&copyown
 erid=313
UID:cfp41359-E@wikicfp.com
END:VEVENT
BEGIN:VEVENT
DTSTAMP:20260420T034800Z
DTSTART;VALUE=DATE:20090928
SUMMARY:AsiaCCS 2010 Deadline
DESCRIPTION:5th ACM Symposium on Information\, Computer and Communication
 s Security
URL:http://www.wikicfp.com/cfp/servlet/event.showcfp?eventid=5825&copyown
 erid=313
UID:cfp41359-D@wikicfp.com
END:VEVENT
BEGIN:VEVENT
DTSTAMP:20260420T034800Z
DTSTART;VALUE=DATE:20091208
SUMMARY:AsiaCCS 2010 Notification Due
DESCRIPTION:5th ACM Symposium on Information\, Computer and Communication
 s Security
URL:http://www.wikicfp.com/cfp/servlet/event.showcfp?eventid=5825&copyown
 erid=313
UID:cfp41359-N@wikicfp.com
END:VEVENT
BEGIN:VEVENT
DTSTAMP:20260420T034800Z
DTSTART;VALUE=DATE:20100108
SUMMARY:AsiaCCS 2010 Final Version Due
DESCRIPTION:5th ACM Symposium on Information\, Computer and Communication
 s Security
URL:http://www.wikicfp.com/cfp/servlet/event.showcfp?eventid=5825&copyown
 erid=313
UID:cfp41359-N@wikicfp.com
END:VEVENT
BEGIN:VEVENT
DTSTAMP:20260420T034800Z
DTSTART;VALUE=DATE:20100517
DTEND;VALUE=DATE:20100521
SUMMARY:Pervasive 2010
DESCRIPTION:Eighth International Conference on Pervasive Computing 
URL:http://www.wikicfp.com/cfp/servlet/event.showcfp?eventid=5687&copyown
 erid=313
UID:cfp41360-E@wikicfp.com
END:VEVENT
BEGIN:VEVENT
DTSTAMP:20260420T034800Z
DTSTART;VALUE=DATE:20091016
SUMMARY:Pervasive 2010 Deadline
DESCRIPTION:Eighth International Conference on Pervasive Computing 
URL:http://www.wikicfp.com/cfp/servlet/event.showcfp?eventid=5687&copyown
 erid=313
UID:cfp41360-D@wikicfp.com
END:VEVENT
BEGIN:VEVENT
DTSTAMP:20260420T034800Z
DTSTART;VALUE=DATE:20091218
SUMMARY:Pervasive 2010 Notification Due
DESCRIPTION:Eighth International Conference on Pervasive Computing 
URL:http://www.wikicfp.com/cfp/servlet/event.showcfp?eventid=5687&copyown
 erid=313
UID:cfp41360-N@wikicfp.com
END:VEVENT
BEGIN:VEVENT
DTSTAMP:20260420T034800Z
DTSTART;VALUE=DATE:20101210
SUMMARY:Pervasive 2010 Final Version Due
DESCRIPTION:Eighth International Conference on Pervasive Computing 
URL:http://www.wikicfp.com/cfp/servlet/event.showcfp?eventid=5687&copyown
 erid=313
UID:cfp41360-N@wikicfp.com
END:VEVENT
END:VCALENDAR
