BEGIN:VCALENDAR
PRODID:-//WikiCFP//mdfarouk 1.0//EN
VERSION:2.0
CALSCALE:GREGORIAN
BEGIN:VEVENT
DTSTAMP:20260419T154631Z
DTSTART;VALUE=DATE:20180917
DTEND;VALUE=DATE:20180921
SUMMARY:IEEE Healthcom 2018
DESCRIPTION:20th IEEE International Conference on e-Health Networking\, A
 pplication & Services (IEEE HEALTHCOM 2018)
URL:http://www.wikicfp.com/cfp/servlet/event.showcfp?eventid=69270&copyow
 nerid=31239
UID:cfp706494-E@wikicfp.com
END:VEVENT
BEGIN:VEVENT
DTSTAMP:20260419T154631Z
DTSTART;VALUE=DATE:20180626
DTEND;VALUE=DATE:20180629
SUMMARY:ICT 2018
DESCRIPTION:International Conference on Telecommunications
URL:http://www.wikicfp.com/cfp/servlet/event.showcfp?eventid=66595&copyow
 nerid=31239
UID:cfp702115-E@wikicfp.com
END:VEVENT
BEGIN:VEVENT
DTSTAMP:20260419T154631Z
DTSTART;VALUE=DATE:20180122
SUMMARY:ICT 2018 Deadline
DESCRIPTION:International Conference on Telecommunications
URL:http://www.wikicfp.com/cfp/servlet/event.showcfp?eventid=66595&copyow
 nerid=31239
UID:cfp702115-D@wikicfp.com
END:VEVENT
BEGIN:VEVENT
DTSTAMP:20260419T154631Z
DTSTART;VALUE=DATE:20180323
SUMMARY:ICT 2018 Notification Due
DESCRIPTION:International Conference on Telecommunications
URL:http://www.wikicfp.com/cfp/servlet/event.showcfp?eventid=66595&copyow
 nerid=31239
UID:cfp702115-N@wikicfp.com
END:VEVENT
BEGIN:VEVENT
DTSTAMP:20260419T154631Z
DTSTART;VALUE=DATE:20180406
SUMMARY:ICT 2018 Final Version Due
DESCRIPTION:International Conference on Telecommunications
URL:http://www.wikicfp.com/cfp/servlet/event.showcfp?eventid=66595&copyow
 nerid=31239
UID:cfp702115-N@wikicfp.com
END:VEVENT
BEGIN:VEVENT
DTSTAMP:20260419T154631Z
DTSTART;VALUE=DATE:20180618
DTEND;VALUE=DATE:20180622
SUMMARY:EuCNC 2018
DESCRIPTION:European Conference on Networks and Communications 2018
URL:http://www.wikicfp.com/cfp/servlet/event.showcfp?eventid=66616&copyow
 nerid=31239
UID:cfp706496-E@wikicfp.com
END:VEVENT
BEGIN:VEVENT
DTSTAMP:20260419T154631Z
DTSTART;VALUE=DATE:20180205
SUMMARY:EuCNC 2018 Deadline
DESCRIPTION:European Conference on Networks and Communications 2018
URL:http://www.wikicfp.com/cfp/servlet/event.showcfp?eventid=66616&copyow
 nerid=31239
UID:cfp706496-D@wikicfp.com
END:VEVENT
BEGIN:VEVENT
DTSTAMP:20260419T154631Z
DTSTART;VALUE=DATE:20180718
DTEND;VALUE=DATE:20180721
SUMMARY:CSNDSP 2018
DESCRIPTION:11th IEEE/IET International Symposium on COMMUNICATION SYSTEM
 S\, NETWORKS & DIGITAL SIGNAL PROCESSING
URL:http://www.wikicfp.com/cfp/servlet/event.showcfp?eventid=67026&copyow
 nerid=31239
UID:cfp704778-E@wikicfp.com
END:VEVENT
BEGIN:VEVENT
DTSTAMP:20260419T154631Z
DTSTART;VALUE=DATE:20180212
SUMMARY:CSNDSP 2018 Deadline
DESCRIPTION:11th IEEE/IET International Symposium on COMMUNICATION SYSTEM
 S\, NETWORKS & DIGITAL SIGNAL PROCESSING
URL:http://www.wikicfp.com/cfp/servlet/event.showcfp?eventid=67026&copyow
 nerid=31239
UID:cfp704778-D@wikicfp.com
END:VEVENT
BEGIN:VEVENT
DTSTAMP:20260419T154631Z
DTSTART;VALUE=DATE:20180401
SUMMARY:CSNDSP 2018 Notification Due
DESCRIPTION:11th IEEE/IET International Symposium on COMMUNICATION SYSTEM
 S\, NETWORKS & DIGITAL SIGNAL PROCESSING
URL:http://www.wikicfp.com/cfp/servlet/event.showcfp?eventid=67026&copyow
 nerid=31239
UID:cfp704778-N@wikicfp.com
END:VEVENT
BEGIN:VEVENT
DTSTAMP:20260419T154631Z
DTSTART;VALUE=DATE:20180512
SUMMARY:CSNDSP 2018 Final Version Due
DESCRIPTION:11th IEEE/IET International Symposium on COMMUNICATION SYSTEM
 S\, NETWORKS & DIGITAL SIGNAL PROCESSING
URL:http://www.wikicfp.com/cfp/servlet/event.showcfp?eventid=67026&copyow
 nerid=31239
UID:cfp704778-N@wikicfp.com
END:VEVENT
BEGIN:VEVENT
DTSTAMP:20260419T154631Z
DTSTART;VALUE=DATE:20180908
DTEND;VALUE=DATE:20180915
SUMMARY:ECCV 2018
DESCRIPTION:European Conference on Computer Vision
URL:http://www.wikicfp.com/cfp/servlet/event.showcfp?eventid=58291&copyow
 nerid=31239
UID:cfp702116-E@wikicfp.com
END:VEVENT
BEGIN:VEVENT
DTSTAMP:20260419T154631Z
DTSTART;VALUE=DATE:20180314
SUMMARY:ECCV 2018 Deadline
DESCRIPTION:European Conference on Computer Vision
URL:http://www.wikicfp.com/cfp/servlet/event.showcfp?eventid=58291&copyow
 nerid=31239
UID:cfp702116-D@wikicfp.com
END:VEVENT
BEGIN:VEVENT
DTSTAMP:20260419T154631Z
DTSTART;VALUE=DATE:20180701
SUMMARY:ECCV 2018 Notification Due
DESCRIPTION:European Conference on Computer Vision
URL:http://www.wikicfp.com/cfp/servlet/event.showcfp?eventid=58291&copyow
 nerid=31239
UID:cfp702116-N@wikicfp.com
END:VEVENT
BEGIN:VEVENT
DTSTAMP:20260419T154631Z
DTSTART;VALUE=DATE:20180725
SUMMARY:ECCV 2018 Final Version Due
DESCRIPTION:European Conference on Computer Vision
URL:http://www.wikicfp.com/cfp/servlet/event.showcfp?eventid=58291&copyow
 nerid=31239
UID:cfp702116-N@wikicfp.com
END:VEVENT
BEGIN:VEVENT
DTSTAMP:20260419T154631Z
DTSTART;VALUE=DATE:20180909
DTEND;VALUE=DATE:20180913
SUMMARY:PIMRC 2018
DESCRIPTION:29th Annual IEEE International Symposium on Personal\, Indoor
  and Mobile Radio Communications 
URL:http://www.wikicfp.com/cfp/servlet/event.showcfp?eventid=71590&copyow
 nerid=31239
UID:cfp706493-E@wikicfp.com
END:VEVENT
BEGIN:VEVENT
DTSTAMP:20260419T154631Z
DTSTART;VALUE=DATE:20180323
SUMMARY:PIMRC 2018 Deadline
DESCRIPTION:29th Annual IEEE International Symposium on Personal\, Indoor
  and Mobile Radio Communications 
URL:http://www.wikicfp.com/cfp/servlet/event.showcfp?eventid=71590&copyow
 nerid=31239
UID:cfp706493-D@wikicfp.com
END:VEVENT
BEGIN:VEVENT
DTSTAMP:20260419T154631Z
DTSTART;VALUE=DATE:20180608
SUMMARY:PIMRC 2018 Notification Due
DESCRIPTION:29th Annual IEEE International Symposium on Personal\, Indoor
  and Mobile Radio Communications 
URL:http://www.wikicfp.com/cfp/servlet/event.showcfp?eventid=71590&copyow
 nerid=31239
UID:cfp706493-N@wikicfp.com
END:VEVENT
BEGIN:VEVENT
DTSTAMP:20260419T154631Z
DTSTART;VALUE=DATE:20180629
SUMMARY:PIMRC 2018 Final Version Due
DESCRIPTION:29th Annual IEEE International Symposium on Personal\, Indoor
  and Mobile Radio Communications 
URL:http://www.wikicfp.com/cfp/servlet/event.showcfp?eventid=71590&copyow
 nerid=31239
UID:cfp706493-N@wikicfp.com
END:VEVENT
BEGIN:VEVENT
DTSTAMP:20260419T154631Z
DTSTART;VALUE=DATE:20180903
DTEND;VALUE=DATE:20180906
SUMMARY:WMNC 2018
DESCRIPTION:The 11th IFIP Wireless and Mobile Networking Conference
URL:http://www.wikicfp.com/cfp/servlet/event.showcfp?eventid=70306&copyow
 nerid=31239
UID:cfp704779-E@wikicfp.com
END:VEVENT
BEGIN:VEVENT
DTSTAMP:20260419T154631Z
DTSTART;VALUE=DATE:20180414
SUMMARY:WMNC 2018 Deadline
DESCRIPTION:The 11th IFIP Wireless and Mobile Networking Conference
URL:http://www.wikicfp.com/cfp/servlet/event.showcfp?eventid=70306&copyow
 nerid=31239
UID:cfp704779-D@wikicfp.com
END:VEVENT
BEGIN:VEVENT
DTSTAMP:20260419T154631Z
DTSTART;VALUE=DATE:20180530
SUMMARY:WMNC 2018 Notification Due
DESCRIPTION:The 11th IFIP Wireless and Mobile Networking Conference
URL:http://www.wikicfp.com/cfp/servlet/event.showcfp?eventid=70306&copyow
 nerid=31239
UID:cfp704779-N@wikicfp.com
END:VEVENT
BEGIN:VEVENT
DTSTAMP:20260419T154631Z
DTSTART;VALUE=DATE:20180625
SUMMARY:WMNC 2018 Final Version Due
DESCRIPTION:The 11th IFIP Wireless and Mobile Networking Conference
URL:http://www.wikicfp.com/cfp/servlet/event.showcfp?eventid=70306&copyow
 nerid=31239
UID:cfp704779-N@wikicfp.com
END:VEVENT
BEGIN:VEVENT
DTSTAMP:20260419T154631Z
DTSTART;VALUE=DATE:20181022
DTEND;VALUE=DATE:20181026
SUMMARY:IEEE DySPAN 2018
DESCRIPTION:IEEE International Symposium on Dynamic Spectrum Access Netwo
 rks
URL:http://www.wikicfp.com/cfp/servlet/event.showcfp?eventid=71760&copyow
 nerid=31239
UID:cfp706495-E@wikicfp.com
END:VEVENT
BEGIN:VEVENT
DTSTAMP:20260419T154631Z
DTSTART;VALUE=DATE:20180501
SUMMARY:IEEE DySPAN 2018 Deadline
DESCRIPTION:IEEE International Symposium on Dynamic Spectrum Access Netwo
 rks
URL:http://www.wikicfp.com/cfp/servlet/event.showcfp?eventid=71760&copyow
 nerid=31239
UID:cfp706495-D@wikicfp.com
END:VEVENT
BEGIN:VEVENT
DTSTAMP:20260419T154631Z
DTSTART;VALUE=DATE:20180701
SUMMARY:IEEE DySPAN 2018 Notification Due
DESCRIPTION:IEEE International Symposium on Dynamic Spectrum Access Netwo
 rks
URL:http://www.wikicfp.com/cfp/servlet/event.showcfp?eventid=71760&copyow
 nerid=31239
UID:cfp706495-N@wikicfp.com
END:VEVENT
BEGIN:VEVENT
DTSTAMP:20260419T154631Z
DTSTART;VALUE=DATE:20180815
SUMMARY:IEEE DySPAN 2018 Final Version Due
DESCRIPTION:IEEE International Symposium on Dynamic Spectrum Access Netwo
 rks
URL:http://www.wikicfp.com/cfp/servlet/event.showcfp?eventid=71760&copyow
 nerid=31239
UID:cfp706495-N@wikicfp.com
END:VEVENT
BEGIN:VEVENT
DTSTAMP:20260419T154631Z
DTSTART;VALUE=DATE:20180924
DTEND;VALUE=DATE:20180928
SUMMARY:ICFSP--EI and Scopus 2018
DESCRIPTION:2018 4th International Conference on Frontiers of Signal Proc
 essing (ICFSP 2018)--EI Compendex and Scopus
URL:http://www.wikicfp.com/cfp/servlet/event.showcfp?eventid=71638&copyow
 nerid=31239
UID:cfp722162-E@wikicfp.com
END:VEVENT
BEGIN:VEVENT
DTSTAMP:20260419T154631Z
DTSTART;VALUE=DATE:20180815
SUMMARY:ICFSP--EI and Scopus 2018 Deadline
DESCRIPTION:2018 4th International Conference on Frontiers of Signal Proc
 essing (ICFSP 2018)--EI Compendex and Scopus
URL:http://www.wikicfp.com/cfp/servlet/event.showcfp?eventid=71638&copyow
 nerid=31239
UID:cfp722162-D@wikicfp.com
END:VEVENT
BEGIN:VEVENT
DTSTAMP:20260419T154631Z
DTSTART;VALUE=DATE:20181115
DTEND;VALUE=DATE:20181117
SUMMARY:RTUWO 2018
DESCRIPTION:Advances in Wireless and Optical Communications
URL:http://www.wikicfp.com/cfp/servlet/event.showcfp?eventid=75267&copyow
 nerid=31239
UID:cfp722161-E@wikicfp.com
END:VEVENT
BEGIN:VEVENT
DTSTAMP:20260419T154631Z
DTSTART;VALUE=DATE:20180820
SUMMARY:RTUWO 2018 Deadline
DESCRIPTION:Advances in Wireless and Optical Communications
URL:http://www.wikicfp.com/cfp/servlet/event.showcfp?eventid=75267&copyow
 nerid=31239
UID:cfp722161-D@wikicfp.com
END:VEVENT
BEGIN:VEVENT
DTSTAMP:20260419T154631Z
DTSTART;VALUE=DATE:20180928
SUMMARY:RTUWO 2018 Notification Due
DESCRIPTION:Advances in Wireless and Optical Communications
URL:http://www.wikicfp.com/cfp/servlet/event.showcfp?eventid=75267&copyow
 nerid=31239
UID:cfp722161-N@wikicfp.com
END:VEVENT
BEGIN:VEVENT
DTSTAMP:20260419T154631Z
DTSTART;VALUE=DATE:20181101
SUMMARY:RTUWO 2018 Final Version Due
DESCRIPTION:Advances in Wireless and Optical Communications
URL:http://www.wikicfp.com/cfp/servlet/event.showcfp?eventid=75267&copyow
 nerid=31239
UID:cfp722161-N@wikicfp.com
END:VEVENT
BEGIN:VEVENT
DTSTAMP:20260419T154631Z
DTSTART;VALUE=DATE:20181012
DTEND;VALUE=DATE:20181015
SUMMARY:SSIP--EI Compendex and SCOPUS 2018
DESCRIPTION:2018 International Conference on Sensors\, Signal and Image P
 rocessing (SSIP 2018)--Ei Compendex and Scopus
URL:http://www.wikicfp.com/cfp/servlet/event.showcfp?eventid=74804&copyow
 nerid=31239
UID:cfp722160-E@wikicfp.com
END:VEVENT
BEGIN:VEVENT
DTSTAMP:20260419T154631Z
DTSTART;VALUE=DATE:20180822
SUMMARY:SSIP--EI Compendex and SCOPUS 2018 Deadline
DESCRIPTION:2018 International Conference on Sensors\, Signal and Image P
 rocessing (SSIP 2018)--Ei Compendex and Scopus
URL:http://www.wikicfp.com/cfp/servlet/event.showcfp?eventid=74804&copyow
 nerid=31239
UID:cfp722160-D@wikicfp.com
END:VEVENT
BEGIN:VEVENT
DTSTAMP:20260419T154631Z
DTSTART;VALUE=DATE:20181031
SUMMARY:FI-IoTSP 2018 Deadline
DESCRIPTION:Future Internet Journal: Special Issue on IoT Security and Pr
 ivacy
URL:http://www.wikicfp.com/cfp/servlet/event.showcfp?eventid=64353&copyow
 nerid=31239
UID:cfp722164-D@wikicfp.com
END:VEVENT
BEGIN:VEVENT
DTSTAMP:20260419T154631Z
DTSTART;VALUE=DATE:20181130
SUMMARY:SENSORS. S.I. A&DC IoT 2018 Deadline
DESCRIPTION:SENSORS. Special Issue Algorithm and Distributed Computing fo
 r the Internet of Things
URL:http://www.wikicfp.com/cfp/servlet/event.showcfp?eventid=74395&copyow
 nerid=31239
UID:cfp722163-D@wikicfp.com
END:VEVENT
BEGIN:VEVENT
DTSTAMP:20260419T154631Z
DTSTART;VALUE=DATE:20180619
DTEND;VALUE=DATE:20180622
SUMMARY:IEEE ISNCC  2018
DESCRIPTION:2018 IEEE International Symposium on Networks\, Computers and
  Communications
URL:http://www.wikicfp.com/cfp/servlet/event.showcfp?eventid=68329&copyow
 nerid=31239
UID:cfp702114-E@wikicfp.com
END:VEVENT
BEGIN:VEVENT
DTSTAMP:20260419T154631Z
DTSTART;VALUE=DATE:20181222
SUMMARY:IEEE ISNCC  2018 Deadline
DESCRIPTION:2018 IEEE International Symposium on Networks\, Computers and
  Communications
URL:http://www.wikicfp.com/cfp/servlet/event.showcfp?eventid=68329&copyow
 nerid=31239
UID:cfp702114-D@wikicfp.com
END:VEVENT
BEGIN:VEVENT
DTSTAMP:20260419T154631Z
DTSTART;VALUE=DATE:20180318
SUMMARY:IEEE ISNCC  2018 Notification Due
DESCRIPTION:2018 IEEE International Symposium on Networks\, Computers and
  Communications
URL:http://www.wikicfp.com/cfp/servlet/event.showcfp?eventid=68329&copyow
 nerid=31239
UID:cfp702114-N@wikicfp.com
END:VEVENT
BEGIN:VEVENT
DTSTAMP:20260419T154631Z
DTSTART;VALUE=DATE:20180415
SUMMARY:IEEE ISNCC  2018 Final Version Due
DESCRIPTION:2018 IEEE International Symposium on Networks\, Computers and
  Communications
URL:http://www.wikicfp.com/cfp/servlet/event.showcfp?eventid=68329&copyow
 nerid=31239
UID:cfp702114-N@wikicfp.com
END:VEVENT
BEGIN:VEVENT
DTSTAMP:20260419T154631Z
DTSTART;VALUE=DATE:20190701
DTEND;VALUE=DATE:20190704
SUMMARY:Biometrics - TSP 2019
DESCRIPTION:Workshop on Recent Advances in Biometrics and its Application
 s | 2019 42th Int. Conference on Telecommunications and Signal Processin
 g (TSP) | IEEE R8 | IEEE XploreÂ® | SCOPUS
URL:http://www.wikicfp.com/cfp/servlet/event.showcfp?eventid=85241&copyow
 nerid=31239
UID:cfp770530-E@wikicfp.com
END:VEVENT
BEGIN:VEVENT
DTSTAMP:20260419T154631Z
DTSTART;VALUE=DATE:20190215
SUMMARY:Biometrics - TSP 2019 Deadline
DESCRIPTION:Workshop on Recent Advances in Biometrics and its Application
 s | 2019 42th Int. Conference on Telecommunications and Signal Processin
 g (TSP) | IEEE R8 | IEEE XploreÂ® | SCOPUS
URL:http://www.wikicfp.com/cfp/servlet/event.showcfp?eventid=85241&copyow
 nerid=31239
UID:cfp770530-D@wikicfp.com
END:VEVENT
BEGIN:VEVENT
DTSTAMP:20260419T154631Z
DTSTART;VALUE=DATE:20190415
SUMMARY:Biometrics - TSP 2019 Notification Due
DESCRIPTION:Workshop on Recent Advances in Biometrics and its Application
 s | 2019 42th Int. Conference on Telecommunications and Signal Processin
 g (TSP) | IEEE R8 | IEEE XploreÂ® | SCOPUS
URL:http://www.wikicfp.com/cfp/servlet/event.showcfp?eventid=85241&copyow
 nerid=31239
UID:cfp770530-N@wikicfp.com
END:VEVENT
BEGIN:VEVENT
DTSTAMP:20260419T154631Z
DTSTART;VALUE=DATE:20190430
SUMMARY:Biometrics - TSP 2019 Final Version Due
DESCRIPTION:Workshop on Recent Advances in Biometrics and its Application
 s | 2019 42th Int. Conference on Telecommunications and Signal Processin
 g (TSP) | IEEE R8 | IEEE XploreÂ® | SCOPUS
URL:http://www.wikicfp.com/cfp/servlet/event.showcfp?eventid=85241&copyow
 nerid=31239
UID:cfp770530-N@wikicfp.com
END:VEVENT
BEGIN:VEVENT
DTSTAMP:20260419T154631Z
DTSTART;VALUE=DATE:20190902
DTEND;VALUE=DATE:20190907
SUMMARY:EUSIPCO 2019
DESCRIPTION:European Signal Processing Coference
URL:http://www.wikicfp.com/cfp/servlet/event.showcfp?eventid=79711&copyow
 nerid=31239
UID:cfp770529-E@wikicfp.com
END:VEVENT
BEGIN:VEVENT
DTSTAMP:20260419T154631Z
DTSTART;VALUE=DATE:20190218
SUMMARY:EUSIPCO 2019 Deadline
DESCRIPTION:European Signal Processing Coference
URL:http://www.wikicfp.com/cfp/servlet/event.showcfp?eventid=79711&copyow
 nerid=31239
UID:cfp770529-D@wikicfp.com
END:VEVENT
BEGIN:VEVENT
DTSTAMP:20260419T154631Z
DTSTART;VALUE=DATE:20190517
SUMMARY:EUSIPCO 2019 Notification Due
DESCRIPTION:European Signal Processing Coference
URL:http://www.wikicfp.com/cfp/servlet/event.showcfp?eventid=79711&copyow
 nerid=31239
UID:cfp770529-N@wikicfp.com
END:VEVENT
BEGIN:VEVENT
DTSTAMP:20260419T154631Z
DTSTART;VALUE=DATE:20190515
SUMMARY:RaFEC_IoT 2019 Deadline
DESCRIPTION:Special Issue: Recent Advances in Fog/Edge Computing in Inter
 net of Things (MDPI Sensors)
URL:http://www.wikicfp.com/cfp/servlet/event.showcfp?eventid=79060&copyow
 nerid=31239
UID:cfp761034-D@wikicfp.com
END:VEVENT
BEGIN:VEVENT
DTSTAMP:20260419T154631Z
DTSTART;VALUE=DATE:20200504
DTEND;VALUE=DATE:20200509
SUMMARY:ICASSP 2020
DESCRIPTION:International Conference on Acoustics\, Speech and Signal Pro
 cessing
URL:http://www.wikicfp.com/cfp/servlet/event.showcfp?eventid=92322&copyow
 nerid=31239
UID:cfp798214-E@wikicfp.com
END:VEVENT
BEGIN:VEVENT
DTSTAMP:20260419T154631Z
DTSTART;VALUE=DATE:20191021
SUMMARY:ICASSP 2020 Deadline
DESCRIPTION:International Conference on Acoustics\, Speech and Signal Pro
 cessing
URL:http://www.wikicfp.com/cfp/servlet/event.showcfp?eventid=92322&copyow
 nerid=31239
UID:cfp798214-D@wikicfp.com
END:VEVENT
BEGIN:VEVENT
DTSTAMP:20260419T154631Z
DTSTART;VALUE=DATE:20200124
SUMMARY:ICASSP 2020 Notification Due
DESCRIPTION:International Conference on Acoustics\, Speech and Signal Pro
 cessing
URL:http://www.wikicfp.com/cfp/servlet/event.showcfp?eventid=92322&copyow
 nerid=31239
UID:cfp798214-N@wikicfp.com
END:VEVENT
BEGIN:VEVENT
DTSTAMP:20260419T154631Z
DTSTART;VALUE=DATE:20200213
SUMMARY:ICASSP 2020 Final Version Due
DESCRIPTION:International Conference on Acoustics\, Speech and Signal Pro
 cessing
URL:http://www.wikicfp.com/cfp/servlet/event.showcfp?eventid=92322&copyow
 nerid=31239
UID:cfp798214-N@wikicfp.com
END:VEVENT
BEGIN:VEVENT
DTSTAMP:20260419T154631Z
DTSTART;VALUE=DATE:20201128
DTEND;VALUE=DATE:20201130
SUMMARY:ELEC 2020
DESCRIPTION:4th International Conference on Electrical Engineering 
URL:http://www.wikicfp.com/cfp/servlet/event.showcfp?eventid=71227&copyow
 nerid=31239
UID:cfp722158-E@wikicfp.com
END:VEVENT
BEGIN:VEVENT
DTSTAMP:20260419T154631Z
DTSTART;VALUE=DATE:20201115
SUMMARY:ELEC 2020 Deadline
DESCRIPTION:4th International Conference on Electrical Engineering 
URL:http://www.wikicfp.com/cfp/servlet/event.showcfp?eventid=71227&copyow
 nerid=31239
UID:cfp722158-D@wikicfp.com
END:VEVENT
BEGIN:VEVENT
DTSTAMP:20260419T154631Z
DTSTART;VALUE=DATE:20201122
SUMMARY:ELEC 2020 Notification Due
DESCRIPTION:4th International Conference on Electrical Engineering 
URL:http://www.wikicfp.com/cfp/servlet/event.showcfp?eventid=71227&copyow
 nerid=31239
UID:cfp722158-N@wikicfp.com
END:VEVENT
BEGIN:VEVENT
DTSTAMP:20260419T154631Z
DTSTART;VALUE=DATE:20201125
SUMMARY:ELEC 2020 Final Version Due
DESCRIPTION:4th International Conference on Electrical Engineering 
URL:http://www.wikicfp.com/cfp/servlet/event.showcfp?eventid=71227&copyow
 nerid=31239
UID:cfp722158-N@wikicfp.com
END:VEVENT
BEGIN:VEVENT
DTSTAMP:20260419T154631Z
DTSTART;VALUE=DATE:20220625
DTEND;VALUE=DATE:20220627
SUMMARY:ArIT 2022
DESCRIPTION:3rd International Conference on Advances in Artificial Intell
 igence Techniques
URL:http://www.wikicfp.com/cfp/servlet/event.showcfp?eventid=75587&copyow
 nerid=31239
UID:cfp725462-E@wikicfp.com
END:VEVENT
BEGIN:VEVENT
DTSTAMP:20260419T154631Z
DTSTART;VALUE=DATE:20220604
SUMMARY:ArIT 2022 Deadline
DESCRIPTION:3rd International Conference on Advances in Artificial Intell
 igence Techniques
URL:http://www.wikicfp.com/cfp/servlet/event.showcfp?eventid=75587&copyow
 nerid=31239
UID:cfp725462-D@wikicfp.com
END:VEVENT
BEGIN:VEVENT
DTSTAMP:20260419T154631Z
DTSTART;VALUE=DATE:20220616
SUMMARY:ArIT 2022 Notification Due
DESCRIPTION:3rd International Conference on Advances in Artificial Intell
 igence Techniques
URL:http://www.wikicfp.com/cfp/servlet/event.showcfp?eventid=75587&copyow
 nerid=31239
UID:cfp725462-N@wikicfp.com
END:VEVENT
BEGIN:VEVENT
DTSTAMP:20260419T154631Z
DTSTART;VALUE=DATE:20220618
SUMMARY:ArIT 2022 Final Version Due
DESCRIPTION:3rd International Conference on Advances in Artificial Intell
 igence Techniques
URL:http://www.wikicfp.com/cfp/servlet/event.showcfp?eventid=75587&copyow
 nerid=31239
UID:cfp725462-N@wikicfp.com
END:VEVENT
BEGIN:VEVENT
DTSTAMP:20260419T154631Z
DTSTART;VALUE=DATE:20260518
SUMMARY:IJCI 2026 Deadline
DESCRIPTION:International Journal on Cybernetics & Informatics
URL:http://www.wikicfp.com/cfp/servlet/event.showcfp?eventid=68181&copyow
 nerid=31239
UID:cfp702117-D@wikicfp.com
END:VEVENT
BEGIN:VEVENT
DTSTAMP:20260419T154631Z
DTSTART;VALUE=DATE:20260618
SUMMARY:IJCI 2026 Notification Due
DESCRIPTION:International Journal on Cybernetics & Informatics
URL:http://www.wikicfp.com/cfp/servlet/event.showcfp?eventid=68181&copyow
 nerid=31239
UID:cfp702117-N@wikicfp.com
END:VEVENT
BEGIN:VEVENT
DTSTAMP:20260419T154631Z
DTSTART;VALUE=DATE:20260625
SUMMARY:IJCI 2026 Final Version Due
DESCRIPTION:International Journal on Cybernetics & Informatics
URL:http://www.wikicfp.com/cfp/servlet/event.showcfp?eventid=68181&copyow
 nerid=31239
UID:cfp702117-N@wikicfp.com
END:VEVENT
END:VCALENDAR
