BEGIN:VCALENDAR
PRODID:-//WikiCFP//willhelm 1.0//EN
VERSION:2.0
CALSCALE:GREGORIAN
BEGIN:VEVENT
DTSTAMP:20260423T221933Z
DTSTART;VALUE=DATE:20120305
DTEND;VALUE=DATE:20120310
SUMMARY:LATA 2012
DESCRIPTION:6th INTERNATIONAL CONFERENCE ON LANGUAGE AND AUTOMATA THEORY 
 AND APPLICATIONS
URL:http://www.wikicfp.com/cfp/servlet/event.showcfp?eventid=17529&copyow
 nerid=31143
UID:cfp214012-E@wikicfp.com
END:VEVENT
BEGIN:VEVENT
DTSTAMP:20260423T221933Z
DTSTART;VALUE=DATE:20111012
SUMMARY:LATA 2012 Deadline
DESCRIPTION:6th INTERNATIONAL CONFERENCE ON LANGUAGE AND AUTOMATA THEORY 
 AND APPLICATIONS
URL:http://www.wikicfp.com/cfp/servlet/event.showcfp?eventid=17529&copyow
 nerid=31143
UID:cfp214012-D@wikicfp.com
END:VEVENT
BEGIN:VEVENT
DTSTAMP:20260423T221933Z
DTSTART;VALUE=DATE:20111118
SUMMARY:LATA 2012 Notification Due
DESCRIPTION:6th INTERNATIONAL CONFERENCE ON LANGUAGE AND AUTOMATA THEORY 
 AND APPLICATIONS
URL:http://www.wikicfp.com/cfp/servlet/event.showcfp?eventid=17529&copyow
 nerid=31143
UID:cfp214012-N@wikicfp.com
END:VEVENT
BEGIN:VEVENT
DTSTAMP:20260423T221933Z
DTSTART;VALUE=DATE:20111127
SUMMARY:LATA 2012 Final Version Due
DESCRIPTION:6th INTERNATIONAL CONFERENCE ON LANGUAGE AND AUTOMATA THEORY 
 AND APPLICATIONS
URL:http://www.wikicfp.com/cfp/servlet/event.showcfp?eventid=17529&copyow
 nerid=31143
UID:cfp214012-N@wikicfp.com
END:VEVENT
BEGIN:VEVENT
DTSTAMP:20260423T221933Z
DTSTART;VALUE=DATE:20120426
DTEND;VALUE=DATE:20120430
SUMMARY:QUALICO 2012
DESCRIPTION:International Quantitative Linguistics Conference
URL:http://www.wikicfp.com/cfp/servlet/event.showcfp?eventid=17882&copyow
 nerid=31143
UID:cfp214006-E@wikicfp.com
END:VEVENT
BEGIN:VEVENT
DTSTAMP:20260423T221933Z
DTSTART;VALUE=DATE:20111031
SUMMARY:QUALICO 2012 Deadline
DESCRIPTION:International Quantitative Linguistics Conference
URL:http://www.wikicfp.com/cfp/servlet/event.showcfp?eventid=17882&copyow
 nerid=31143
UID:cfp214006-D@wikicfp.com
END:VEVENT
BEGIN:VEVENT
DTSTAMP:20260423T221933Z
DTSTART;VALUE=DATE:20120131
SUMMARY:QUALICO 2012 Notification Due
DESCRIPTION:International Quantitative Linguistics Conference
URL:http://www.wikicfp.com/cfp/servlet/event.showcfp?eventid=17882&copyow
 nerid=31143
UID:cfp214006-N@wikicfp.com
END:VEVENT
BEGIN:VEVENT
DTSTAMP:20260423T221933Z
DTSTART;VALUE=DATE:20120311
DTEND;VALUE=DATE:20120318
SUMMARY:CICLing 2012
DESCRIPTION:13th International Conference on Intelligent Text Processing 
 and Computational Linguistics
URL:http://www.wikicfp.com/cfp/servlet/event.showcfp?eventid=18613&copyow
 nerid=31143
UID:cfp214015-E@wikicfp.com
END:VEVENT
BEGIN:VEVENT
DTSTAMP:20260423T221933Z
DTSTART;VALUE=DATE:20111023
SUMMARY:CICLing 2012 Abstract Due
DESCRIPTION:13th International Conference on Intelligent Text Processing 
 and Computational Linguistics
URL:http://www.wikicfp.com/cfp/servlet/event.showcfp?eventid=18613&copyow
 nerid=31143
UID:cfp214015-A@wikicfp.com
END:VEVENT
BEGIN:VEVENT
DTSTAMP:20260423T221933Z
DTSTART;VALUE=DATE:20111031
SUMMARY:CICLing 2012 Deadline
DESCRIPTION:13th International Conference on Intelligent Text Processing 
 and Computational Linguistics
URL:http://www.wikicfp.com/cfp/servlet/event.showcfp?eventid=18613&copyow
 nerid=31143
UID:cfp214015-D@wikicfp.com
END:VEVENT
BEGIN:VEVENT
DTSTAMP:20260423T221933Z
DTSTART;VALUE=DATE:20111128
SUMMARY:CICLing 2012 Notification Due
DESCRIPTION:13th International Conference on Intelligent Text Processing 
 and Computational Linguistics
URL:http://www.wikicfp.com/cfp/servlet/event.showcfp?eventid=18613&copyow
 nerid=31143
UID:cfp214015-N@wikicfp.com
END:VEVENT
BEGIN:VEVENT
DTSTAMP:20260423T221933Z
DTSTART;VALUE=DATE:20120105
SUMMARY:CICLing 2012 Final Version Due
DESCRIPTION:13th International Conference on Intelligent Text Processing 
 and Computational Linguistics
URL:http://www.wikicfp.com/cfp/servlet/event.showcfp?eventid=18613&copyow
 nerid=31143
UID:cfp214015-N@wikicfp.com
END:VEVENT
BEGIN:VEVENT
DTSTAMP:20260423T221933Z
DTSTART;VALUE=DATE:20120423
DTEND;VALUE=DATE:20120428
SUMMARY:EACL 2012
DESCRIPTION:Thirteenth Conference of the European Chapter of the Associat
 ion for Computational Linguistics
URL:http://www.wikicfp.com/cfp/servlet/event.showcfp?eventid=16439&copyow
 nerid=31143
UID:cfp214004-E@wikicfp.com
END:VEVENT
BEGIN:VEVENT
DTSTAMP:20260423T221933Z
DTSTART;VALUE=DATE:20111104
SUMMARY:EACL 2012 Deadline
DESCRIPTION:Thirteenth Conference of the European Chapter of the Associat
 ion for Computational Linguistics
URL:http://www.wikicfp.com/cfp/servlet/event.showcfp?eventid=16439&copyow
 nerid=31143
UID:cfp214004-D@wikicfp.com
END:VEVENT
BEGIN:VEVENT
DTSTAMP:20260423T221933Z
DTSTART;VALUE=DATE:20120113
SUMMARY:EACL 2012 Notification Due
DESCRIPTION:Thirteenth Conference of the European Chapter of the Associat
 ion for Computational Linguistics
URL:http://www.wikicfp.com/cfp/servlet/event.showcfp?eventid=16439&copyow
 nerid=31143
UID:cfp214004-N@wikicfp.com
END:VEVENT
BEGIN:VEVENT
DTSTAMP:20260423T221933Z
DTSTART;VALUE=DATE:20120309
SUMMARY:EACL 2012 Final Version Due
DESCRIPTION:Thirteenth Conference of the European Chapter of the Associat
 ion for Computational Linguistics
URL:http://www.wikicfp.com/cfp/servlet/event.showcfp?eventid=16439&copyow
 nerid=31143
UID:cfp214004-N@wikicfp.com
END:VEVENT
BEGIN:VEVENT
DTSTAMP:20260423T221933Z
DTSTART;VALUE=DATE:20120418
DTEND;VALUE=DATE:20120421
SUMMARY:ICGL 2012
DESCRIPTION:10th International Conference on General Linguistics
URL:http://www.wikicfp.com/cfp/servlet/event.showcfp?eventid=17879&copyow
 nerid=31143
UID:cfp214005-E@wikicfp.com
END:VEVENT
BEGIN:VEVENT
DTSTAMP:20260423T221933Z
DTSTART;VALUE=DATE:20111210
SUMMARY:ICGL 2012 Deadline
DESCRIPTION:10th International Conference on General Linguistics
URL:http://www.wikicfp.com/cfp/servlet/event.showcfp?eventid=17879&copyow
 nerid=31143
UID:cfp214005-D@wikicfp.com
END:VEVENT
BEGIN:VEVENT
DTSTAMP:20260423T221933Z
DTSTART;VALUE=DATE:20120215
SUMMARY:ICGL 2012 Notification Due
DESCRIPTION:10th International Conference on General Linguistics
URL:http://www.wikicfp.com/cfp/servlet/event.showcfp?eventid=17879&copyow
 nerid=31143
UID:cfp214005-N@wikicfp.com
END:VEVENT
BEGIN:VEVENT
DTSTAMP:20260423T221933Z
DTSTART;VALUE=DATE:20120322
DTEND;VALUE=DATE:20120325
SUMMARY:CILC 2012
DESCRIPTION:4th International Conference on Corpus Linguistics
URL:http://www.wikicfp.com/cfp/servlet/event.showcfp?eventid=17884&copyow
 nerid=31143
UID:cfp214007-E@wikicfp.com
END:VEVENT
BEGIN:VEVENT
DTSTAMP:20260423T221933Z
DTSTART;VALUE=DATE:20120101
SUMMARY:CILC 2012 Deadline
DESCRIPTION:4th International Conference on Corpus Linguistics
URL:http://www.wikicfp.com/cfp/servlet/event.showcfp?eventid=17884&copyow
 nerid=31143
UID:cfp214007-D@wikicfp.com
END:VEVENT
BEGIN:VEVENT
DTSTAMP:20260423T221933Z
DTSTART;VALUE=DATE:20120127
SUMMARY:CILC 2012 Notification Due
DESCRIPTION:4th International Conference on Corpus Linguistics
URL:http://www.wikicfp.com/cfp/servlet/event.showcfp?eventid=17884&copyow
 nerid=31143
UID:cfp214007-N@wikicfp.com
END:VEVENT
BEGIN:VEVENT
DTSTAMP:20260423T221933Z
DTSTART;VALUE=DATE:20120708
DTEND;VALUE=DATE:20120715
SUMMARY:ACL 2012
DESCRIPTION:The 50th Annual Meeting of the Association for Computational 
 Linguistics
URL:http://www.wikicfp.com/cfp/servlet/event.showcfp?eventid=16337&copyow
 nerid=31143
UID:cfp214011-E@wikicfp.com
END:VEVENT
BEGIN:VEVENT
DTSTAMP:20260423T221933Z
DTSTART;VALUE=DATE:20120115
SUMMARY:ACL 2012 Deadline
DESCRIPTION:The 50th Annual Meeting of the Association for Computational 
 Linguistics
URL:http://www.wikicfp.com/cfp/servlet/event.showcfp?eventid=16337&copyow
 nerid=31143
UID:cfp214011-D@wikicfp.com
END:VEVENT
BEGIN:VEVENT
DTSTAMP:20260423T221933Z
DTSTART;VALUE=DATE:20120311
SUMMARY:ACL 2012 Notification Due
DESCRIPTION:The 50th Annual Meeting of the Association for Computational 
 Linguistics
URL:http://www.wikicfp.com/cfp/servlet/event.showcfp?eventid=16337&copyow
 nerid=31143
UID:cfp214011-N@wikicfp.com
END:VEVENT
BEGIN:VEVENT
DTSTAMP:20260423T221933Z
DTSTART;VALUE=DATE:20120626
DTEND;VALUE=DATE:20120629
SUMMARY:NLDB 2012
DESCRIPTION:17th International conference on Applications of Natural Lang
 uage Processing  to Information Systems
URL:http://www.wikicfp.com/cfp/servlet/event.showcfp?eventid=18895&copyow
 nerid=31143
UID:cfp214018-E@wikicfp.com
END:VEVENT
BEGIN:VEVENT
DTSTAMP:20260423T221933Z
DTSTART;VALUE=DATE:20120131
SUMMARY:NLDB 2012 Deadline
DESCRIPTION:17th International conference on Applications of Natural Lang
 uage Processing  to Information Systems
URL:http://www.wikicfp.com/cfp/servlet/event.showcfp?eventid=18895&copyow
 nerid=31143
UID:cfp214018-D@wikicfp.com
END:VEVENT
BEGIN:VEVENT
DTSTAMP:20260423T221933Z
DTSTART;VALUE=DATE:20120315
SUMMARY:NLDB 2012 Notification Due
DESCRIPTION:17th International conference on Applications of Natural Lang
 uage Processing  to Information Systems
URL:http://www.wikicfp.com/cfp/servlet/event.showcfp?eventid=18895&copyow
 nerid=31143
UID:cfp214018-N@wikicfp.com
END:VEVENT
BEGIN:VEVENT
DTSTAMP:20260423T221933Z
DTSTART;VALUE=DATE:20120331
SUMMARY:NLDB 2012 Final Version Due
DESCRIPTION:17th International conference on Applications of Natural Lang
 uage Processing  to Information Systems
URL:http://www.wikicfp.com/cfp/servlet/event.showcfp?eventid=18895&copyow
 nerid=31143
UID:cfp214018-N@wikicfp.com
END:VEVENT
BEGIN:VEVENT
DTSTAMP:20260423T221933Z
DTSTART;VALUE=DATE:20120201
SUMMARY:CSL special issue on AAC/AT 2012 Deadline
DESCRIPTION:Computer Speech and Language: Special Issue on Speech and Lan
 guage Processing for Assistive Technologies
URL:http://www.wikicfp.com/cfp/servlet/event.showcfp?eventid=18598&copyow
 nerid=31143
UID:cfp214014-D@wikicfp.com
END:VEVENT
BEGIN:VEVENT
DTSTAMP:20260423T221933Z
DTSTART;VALUE=DATE:20120801
SUMMARY:CSL special issue on AAC/AT 2012 Notification Due
DESCRIPTION:Computer Speech and Language: Special Issue on Speech and Lan
 guage Processing for Assistive Technologies
URL:http://www.wikicfp.com/cfp/servlet/event.showcfp?eventid=18598&copyow
 nerid=31143
UID:cfp214014-N@wikicfp.com
END:VEVENT
BEGIN:VEVENT
DTSTAMP:20260423T221933Z
DTSTART;VALUE=DATE:20120901
SUMMARY:CSL special issue on AAC/AT 2012 Final Version Due
DESCRIPTION:Computer Speech and Language: Special Issue on Speech and Lan
 guage Processing for Assistive Technologies
URL:http://www.wikicfp.com/cfp/servlet/event.showcfp?eventid=18598&copyow
 nerid=31143
UID:cfp214014-N@wikicfp.com
END:VEVENT
BEGIN:VEVENT
DTSTAMP:20260423T221933Z
DTSTART;VALUE=DATE:20120530
DTEND;VALUE=DATE:20120602
SUMMARY:INLG 2012
DESCRIPTION:7th International Conference on Natural Language Generation
URL:http://www.wikicfp.com/cfp/servlet/event.showcfp?eventid=18888&copyow
 nerid=31143
UID:cfp214017-E@wikicfp.com
END:VEVENT
BEGIN:VEVENT
DTSTAMP:20260423T221933Z
DTSTART;VALUE=DATE:20120210
SUMMARY:INLG 2012 Deadline
DESCRIPTION:7th International Conference on Natural Language Generation
URL:http://www.wikicfp.com/cfp/servlet/event.showcfp?eventid=18888&copyow
 nerid=31143
UID:cfp214017-D@wikicfp.com
END:VEVENT
BEGIN:VEVENT
DTSTAMP:20260423T221933Z
DTSTART;VALUE=DATE:20120328
SUMMARY:INLG 2012 Notification Due
DESCRIPTION:7th International Conference on Natural Language Generation
URL:http://www.wikicfp.com/cfp/servlet/event.showcfp?eventid=18888&copyow
 nerid=31143
UID:cfp214017-N@wikicfp.com
END:VEVENT
BEGIN:VEVENT
DTSTAMP:20260423T221933Z
DTSTART;VALUE=DATE:20120422
SUMMARY:INLG 2012 Final Version Due
DESCRIPTION:7th International Conference on Natural Language Generation
URL:http://www.wikicfp.com/cfp/servlet/event.showcfp?eventid=18888&copyow
 nerid=31143
UID:cfp214017-N@wikicfp.com
END:VEVENT
BEGIN:VEVENT
DTSTAMP:20260423T221933Z
DTSTART;VALUE=DATE:20120320
SUMMARY:JNLP-NLPIAE 2012 Deadline
DESCRIPTION:JNLP Special issue on Natural Language Processing for Informa
 tion Access and   its Evaluation
URL:http://www.wikicfp.com/cfp/servlet/event.showcfp?eventid=17930&copyow
 nerid=31143
UID:cfp214013-D@wikicfp.com
END:VEVENT
BEGIN:VEVENT
DTSTAMP:20260423T221933Z
DTSTART;VALUE=DATE:20120914
SUMMARY:JNLP-NLPIAE 2012 Notification Due
DESCRIPTION:JNLP Special issue on Natural Language Processing for Informa
 tion Access and   its Evaluation
URL:http://www.wikicfp.com/cfp/servlet/event.showcfp?eventid=17930&copyow
 nerid=31143
UID:cfp214013-N@wikicfp.com
END:VEVENT
BEGIN:VEVENT
DTSTAMP:20260423T221933Z
DTSTART;VALUE=DATE:20121201
SUMMARY:JNLP-NLPIAE 2012 Final Version Due
DESCRIPTION:JNLP Special issue on Natural Language Processing for Informa
 tion Access and   its Evaluation
URL:http://www.wikicfp.com/cfp/servlet/event.showcfp?eventid=17930&copyow
 nerid=31143
UID:cfp214013-N@wikicfp.com
END:VEVENT
BEGIN:VEVENT
DTSTAMP:20260423T221933Z
DTSTART;VALUE=DATE:20120912
DTEND;VALUE=DATE:20120916
SUMMARY:ICGI 2012
DESCRIPTION:11th International Conference on Grammatical Inference 
URL:http://www.wikicfp.com/cfp/servlet/event.showcfp?eventid=18874&copyow
 nerid=31143
UID:cfp214016-E@wikicfp.com
END:VEVENT
BEGIN:VEVENT
DTSTAMP:20260423T221933Z
DTSTART;VALUE=DATE:20120410
SUMMARY:ICGI 2012 Deadline
DESCRIPTION:11th International Conference on Grammatical Inference 
URL:http://www.wikicfp.com/cfp/servlet/event.showcfp?eventid=18874&copyow
 nerid=31143
UID:cfp214016-D@wikicfp.com
END:VEVENT
BEGIN:VEVENT
DTSTAMP:20260423T221933Z
DTSTART;VALUE=DATE:20120520
SUMMARY:ICGI 2012 Notification Due
DESCRIPTION:11th International Conference on Grammatical Inference 
URL:http://www.wikicfp.com/cfp/servlet/event.showcfp?eventid=18874&copyow
 nerid=31143
UID:cfp214016-N@wikicfp.com
END:VEVENT
BEGIN:VEVENT
DTSTAMP:20260423T221933Z
DTSTART;VALUE=DATE:20120620
SUMMARY:ICGI 2012 Final Version Due
DESCRIPTION:11th International Conference on Grammatical Inference 
URL:http://www.wikicfp.com/cfp/servlet/event.showcfp?eventid=18874&copyow
 nerid=31143
UID:cfp214016-N@wikicfp.com
END:VEVENT
BEGIN:VEVENT
DTSTAMP:20260423T221933Z
DTSTART;VALUE=DATE:20130103
DTEND;VALUE=DATE:20130109
SUMMARY:ISCLS 2013
DESCRIPTION:5th International Sanskrit Computational Linguistics Symposiu
 m
URL:http://www.wikicfp.com/cfp/servlet/event.showcfp?eventid=16357&copyow
 nerid=31143
UID:cfp214003-E@wikicfp.com
END:VEVENT
BEGIN:VEVENT
DTSTAMP:20260423T221933Z
DTSTART;VALUE=DATE:20120510
SUMMARY:ISCLS 2013 Deadline
DESCRIPTION:5th International Sanskrit Computational Linguistics Symposiu
 m
URL:http://www.wikicfp.com/cfp/servlet/event.showcfp?eventid=16357&copyow
 nerid=31143
UID:cfp214003-D@wikicfp.com
END:VEVENT
BEGIN:VEVENT
DTSTAMP:20260423T221933Z
DTSTART;VALUE=DATE:20120615
SUMMARY:ISCLS 2013 Notification Due
DESCRIPTION:5th International Sanskrit Computational Linguistics Symposiu
 m
URL:http://www.wikicfp.com/cfp/servlet/event.showcfp?eventid=16357&copyow
 nerid=31143
UID:cfp214003-N@wikicfp.com
END:VEVENT
BEGIN:VEVENT
DTSTAMP:20260423T221933Z
DTSTART;VALUE=DATE:20120731
SUMMARY:ISCLS 2013 Final Version Due
DESCRIPTION:5th International Sanskrit Computational Linguistics Symposiu
 m
URL:http://www.wikicfp.com/cfp/servlet/event.showcfp?eventid=16357&copyow
 nerid=31143
UID:cfp214003-N@wikicfp.com
END:VEVENT
END:VCALENDAR
