BEGIN:VCALENDAR
PRODID:-//WikiCFP//tafacan 1.0//EN
VERSION:2.0
CALSCALE:GREGORIAN
BEGIN:VEVENT
DTSTAMP:20260425T035943Z
DTSTART;VALUE=DATE:20120612
DTEND;VALUE=DATE:20120614
SUMMARY:LCTES 2012
DESCRIPTION:SIGPLAN/SIGBED Conference on Languages\, Compilers and Tools 
 for Embedded Systems 2012
URL:http://www.wikicfp.com/cfp/servlet/event.showcfp?eventid=17365&copyow
 nerid=31124
UID:cfp213710-E@wikicfp.com
END:VEVENT
BEGIN:VEVENT
DTSTAMP:20260425T035943Z
DTSTART;VALUE=DATE:20120210
SUMMARY:LCTES 2012 Deadline
DESCRIPTION:SIGPLAN/SIGBED Conference on Languages\, Compilers and Tools 
 for Embedded Systems 2012
URL:http://www.wikicfp.com/cfp/servlet/event.showcfp?eventid=17365&copyow
 nerid=31124
UID:cfp213710-D@wikicfp.com
END:VEVENT
BEGIN:VEVENT
DTSTAMP:20260425T035943Z
DTSTART;VALUE=DATE:20120620
DTEND;VALUE=DATE:20120623
SUMMARY:SIES 2012
DESCRIPTION:7th IEEE International Symposium on Industrial Embedded Syste
 ms
URL:http://www.wikicfp.com/cfp/servlet/event.showcfp?eventid=18617&copyow
 nerid=31124
UID:cfp213711-E@wikicfp.com
END:VEVENT
BEGIN:VEVENT
DTSTAMP:20260425T035943Z
DTSTART;VALUE=DATE:20120226
SUMMARY:SIES 2012 Deadline
DESCRIPTION:7th IEEE International Symposium on Industrial Embedded Syste
 ms
URL:http://www.wikicfp.com/cfp/servlet/event.showcfp?eventid=18617&copyow
 nerid=31124
UID:cfp213711-D@wikicfp.com
END:VEVENT
BEGIN:VEVENT
DTSTAMP:20260425T035943Z
DTSTART;VALUE=DATE:20120625
DTEND;VALUE=DATE:20120629
SUMMARY:QoSA 2012
DESCRIPTION:8th International ACM Sigsoft Conference on the Quality of So
 ftware Architectures
URL:http://www.wikicfp.com/cfp/servlet/event.showcfp?eventid=18696&copyow
 nerid=31124
UID:cfp213713-E@wikicfp.com
END:VEVENT
BEGIN:VEVENT
DTSTAMP:20260425T035943Z
DTSTART;VALUE=DATE:20120217
SUMMARY:QoSA 2012 Abstract Due
DESCRIPTION:8th International ACM Sigsoft Conference on the Quality of So
 ftware Architectures
URL:http://www.wikicfp.com/cfp/servlet/event.showcfp?eventid=18696&copyow
 nerid=31124
UID:cfp213713-A@wikicfp.com
END:VEVENT
BEGIN:VEVENT
DTSTAMP:20260425T035943Z
DTSTART;VALUE=DATE:20120228
SUMMARY:QoSA 2012 Deadline
DESCRIPTION:8th International ACM Sigsoft Conference on the Quality of So
 ftware Architectures
URL:http://www.wikicfp.com/cfp/servlet/event.showcfp?eventid=18696&copyow
 nerid=31124
UID:cfp213713-D@wikicfp.com
END:VEVENT
BEGIN:VEVENT
DTSTAMP:20260425T035943Z
DTSTART;VALUE=DATE:20120409
SUMMARY:QoSA 2012 Notification Due
DESCRIPTION:8th International ACM Sigsoft Conference on the Quality of So
 ftware Architectures
URL:http://www.wikicfp.com/cfp/servlet/event.showcfp?eventid=18696&copyow
 nerid=31124
UID:cfp213713-N@wikicfp.com
END:VEVENT
BEGIN:VEVENT
DTSTAMP:20260425T035943Z
DTSTART;VALUE=DATE:20120501
SUMMARY:QoSA 2012 Final Version Due
DESCRIPTION:8th International ACM Sigsoft Conference on the Quality of So
 ftware Architectures
URL:http://www.wikicfp.com/cfp/servlet/event.showcfp?eventid=18696&copyow
 nerid=31124
UID:cfp213713-N@wikicfp.com
END:VEVENT
BEGIN:VEVENT
DTSTAMP:20260425T035943Z
DTSTART;VALUE=DATE:20120625
DTEND;VALUE=DATE:20120628
SUMMARY:ICESS 2012
DESCRIPTION:The 9th IEEE International Conference on Embedded Software an
 d Systems
URL:http://www.wikicfp.com/cfp/servlet/event.showcfp?eventid=20316&copyow
 nerid=31124
UID:cfp233411-E@wikicfp.com
END:VEVENT
BEGIN:VEVENT
DTSTAMP:20260425T035943Z
DTSTART;VALUE=DATE:20120301
SUMMARY:ICESS 2012 Deadline
DESCRIPTION:The 9th IEEE International Conference on Embedded Software an
 d Systems
URL:http://www.wikicfp.com/cfp/servlet/event.showcfp?eventid=20316&copyow
 nerid=31124
UID:cfp233411-D@wikicfp.com
END:VEVENT
BEGIN:VEVENT
DTSTAMP:20260425T035943Z
DTSTART;VALUE=DATE:20120408
SUMMARY:ICESS 2012 Notification Due
DESCRIPTION:The 9th IEEE International Conference on Embedded Software an
 d Systems
URL:http://www.wikicfp.com/cfp/servlet/event.showcfp?eventid=20316&copyow
 nerid=31124
UID:cfp233411-N@wikicfp.com
END:VEVENT
BEGIN:VEVENT
DTSTAMP:20260425T035943Z
DTSTART;VALUE=DATE:20120508
SUMMARY:ICESS 2012 Final Version Due
DESCRIPTION:The 9th IEEE International Conference on Embedded Software an
 d Systems
URL:http://www.wikicfp.com/cfp/servlet/event.showcfp?eventid=20316&copyow
 nerid=31124
UID:cfp233411-N@wikicfp.com
END:VEVENT
BEGIN:VEVENT
DTSTAMP:20260425T035943Z
DTSTART;VALUE=DATE:20120920
DTEND;VALUE=DATE:20120922
SUMMARY:ESEM 2012
DESCRIPTION:6th International Symposium on Empirical Software Engineering
  and Measurement
URL:http://www.wikicfp.com/cfp/servlet/event.showcfp?eventid=18854&copyow
 nerid=31124
UID:cfp213712-E@wikicfp.com
END:VEVENT
BEGIN:VEVENT
DTSTAMP:20260425T035943Z
DTSTART;VALUE=DATE:20120304
SUMMARY:ESEM 2012 Abstract Due
DESCRIPTION:6th International Symposium on Empirical Software Engineering
  and Measurement
URL:http://www.wikicfp.com/cfp/servlet/event.showcfp?eventid=18854&copyow
 nerid=31124
UID:cfp213712-A@wikicfp.com
END:VEVENT
BEGIN:VEVENT
DTSTAMP:20260425T035943Z
DTSTART;VALUE=DATE:20120311
SUMMARY:ESEM 2012 Deadline
DESCRIPTION:6th International Symposium on Empirical Software Engineering
  and Measurement
URL:http://www.wikicfp.com/cfp/servlet/event.showcfp?eventid=18854&copyow
 nerid=31124
UID:cfp213712-D@wikicfp.com
END:VEVENT
BEGIN:VEVENT
DTSTAMP:20260425T035943Z
DTSTART;VALUE=DATE:20130123
DTEND;VALUE=DATE:20130126
SUMMARY:POPL 2013
DESCRIPTION:The 40th ACM SIGPLAN-SIGACT Symposium on Principles of Progra
 mming Languages
URL:http://www.wikicfp.com/cfp/servlet/event.showcfp?eventid=21374&copyow
 nerid=31124
UID:cfp244786-E@wikicfp.com
END:VEVENT
BEGIN:VEVENT
DTSTAMP:20260425T035943Z
DTSTART;VALUE=DATE:20120706
SUMMARY:POPL 2013 Abstract Due
DESCRIPTION:The 40th ACM SIGPLAN-SIGACT Symposium on Principles of Progra
 mming Languages
URL:http://www.wikicfp.com/cfp/servlet/event.showcfp?eventid=21374&copyow
 nerid=31124
UID:cfp244786-A@wikicfp.com
END:VEVENT
BEGIN:VEVENT
DTSTAMP:20260425T035943Z
DTSTART;VALUE=DATE:20120710
SUMMARY:POPL 2013 Deadline
DESCRIPTION:The 40th ACM SIGPLAN-SIGACT Symposium on Principles of Progra
 mming Languages
URL:http://www.wikicfp.com/cfp/servlet/event.showcfp?eventid=21374&copyow
 nerid=31124
UID:cfp244786-D@wikicfp.com
END:VEVENT
BEGIN:VEVENT
DTSTAMP:20260425T035943Z
DTSTART;VALUE=DATE:20121001
SUMMARY:POPL 2013 Notification Due
DESCRIPTION:The 40th ACM SIGPLAN-SIGACT Symposium on Principles of Progra
 mming Languages
URL:http://www.wikicfp.com/cfp/servlet/event.showcfp?eventid=21374&copyow
 nerid=31124
UID:cfp244786-N@wikicfp.com
END:VEVENT
BEGIN:VEVENT
DTSTAMP:20260425T035943Z
DTSTART;VALUE=DATE:20121101
SUMMARY:POPL 2013 Final Version Due
DESCRIPTION:The 40th ACM SIGPLAN-SIGACT Symposium on Principles of Progra
 mming Languages
URL:http://www.wikicfp.com/cfp/servlet/event.showcfp?eventid=21374&copyow
 nerid=31124
UID:cfp244786-N@wikicfp.com
END:VEVENT
END:VCALENDAR
