BEGIN:VCALENDAR
PRODID:-//WikiCFP//Mohamedgaroui 1.0//EN
VERSION:2.0
CALSCALE:GREGORIAN
BEGIN:VEVENT
DTSTAMP:20260424T021654Z
DTSTART;VALUE=DATE:20120722
DTEND;VALUE=DATE:20120727
SUMMARY:IAAI 2012
DESCRIPTION:Innovative Applications of Artificial Intelligence 
URL:http://www.wikicfp.com/cfp/servlet/event.showcfp?eventid=18354&copyow
 nerid=30462
UID:cfp209826-E@wikicfp.com
END:VEVENT
BEGIN:VEVENT
DTSTAMP:20260424T021654Z
DTSTART;VALUE=DATE:20120117
SUMMARY:IAAI 2012 Deadline
DESCRIPTION:Innovative Applications of Artificial Intelligence 
URL:http://www.wikicfp.com/cfp/servlet/event.showcfp?eventid=18354&copyow
 nerid=30462
UID:cfp209826-D@wikicfp.com
END:VEVENT
BEGIN:VEVENT
DTSTAMP:20260424T021654Z
DTSTART;VALUE=DATE:20120412
SUMMARY:IAAI 2012 Final Version Due
DESCRIPTION:Innovative Applications of Artificial Intelligence 
URL:http://www.wikicfp.com/cfp/servlet/event.showcfp?eventid=18354&copyow
 nerid=30462
UID:cfp209826-N@wikicfp.com
END:VEVENT
END:VCALENDAR
