BEGIN:VCALENDAR
PRODID:-//WikiCFP//ldlbad 1.0//EN
VERSION:2.0
CALSCALE:GREGORIAN
BEGIN:VEVENT
DTSTAMP:20260425T002119Z
DTSTART;VALUE=DATE:20120212
DTEND;VALUE=DATE:20120213
SUMMARY:DDR 2012
DESCRIPTION:2nd international workshop on Diversity in Document Retrieval
 
URL:http://www.wikicfp.com/cfp/servlet/event.showcfp?eventid=18933&copyow
 nerid=30032
UID:cfp214485-E@wikicfp.com
END:VEVENT
BEGIN:VEVENT
DTSTAMP:20260425T002119Z
DTSTART;VALUE=DATE:20111212
SUMMARY:DDR 2012 Deadline
DESCRIPTION:2nd international workshop on Diversity in Document Retrieval
 
URL:http://www.wikicfp.com/cfp/servlet/event.showcfp?eventid=18933&copyow
 nerid=30032
UID:cfp214485-D@wikicfp.com
END:VEVENT
BEGIN:VEVENT
DTSTAMP:20260425T002119Z
DTSTART;VALUE=DATE:20120110
SUMMARY:DDR 2012 Notification Due
DESCRIPTION:2nd international workshop on Diversity in Document Retrieval
 
URL:http://www.wikicfp.com/cfp/servlet/event.showcfp?eventid=18933&copyow
 nerid=30032
UID:cfp214485-N@wikicfp.com
END:VEVENT
BEGIN:VEVENT
DTSTAMP:20260425T002119Z
DTSTART;VALUE=DATE:20120117
SUMMARY:DDR 2012 Final Version Due
DESCRIPTION:2nd international workshop on Diversity in Document Retrieval
 
URL:http://www.wikicfp.com/cfp/servlet/event.showcfp?eventid=18933&copyow
 nerid=30032
UID:cfp214485-N@wikicfp.com
END:VEVENT
BEGIN:VEVENT
DTSTAMP:20260425T002119Z
DTSTART;VALUE=DATE:20120812
DTEND;VALUE=DATE:20120817
SUMMARY:KDD 2012
DESCRIPTION:18th ACM SIGKDD Knowledge Discovery and Data Mining 
URL:http://www.wikicfp.com/cfp/servlet/event.showcfp?eventid=18347&copyow
 nerid=30032
UID:cfp214446-E@wikicfp.com
END:VEVENT
BEGIN:VEVENT
DTSTAMP:20260425T002119Z
DTSTART;VALUE=DATE:20120210
SUMMARY:KDD 2012 Deadline
DESCRIPTION:18th ACM SIGKDD Knowledge Discovery and Data Mining 
URL:http://www.wikicfp.com/cfp/servlet/event.showcfp?eventid=18347&copyow
 nerid=30032
UID:cfp214446-D@wikicfp.com
END:VEVENT
BEGIN:VEVENT
DTSTAMP:20260425T002119Z
DTSTART;VALUE=DATE:20120504
SUMMARY:KDD 2012 Notification Due
DESCRIPTION:18th ACM SIGKDD Knowledge Discovery and Data Mining 
URL:http://www.wikicfp.com/cfp/servlet/event.showcfp?eventid=18347&copyow
 nerid=30032
UID:cfp214446-N@wikicfp.com
END:VEVENT
BEGIN:VEVENT
DTSTAMP:20260425T002119Z
DTSTART;VALUE=DATE:20120917
DTEND;VALUE=DATE:20120921
SUMMARY:CLEF 2012
DESCRIPTION:Information Access Evaluation meets Multilinguality\, Multimo
 dality\, and Visual Analytics
URL:http://www.wikicfp.com/cfp/servlet/event.showcfp?eventid=21157&copyow
 nerid=30032
UID:cfp262794-E@wikicfp.com
END:VEVENT
BEGIN:VEVENT
DTSTAMP:20260425T002119Z
DTSTART;VALUE=DATE:20120430
SUMMARY:CLEF 2012 Deadline
DESCRIPTION:Information Access Evaluation meets Multilinguality\, Multimo
 dality\, and Visual Analytics
URL:http://www.wikicfp.com/cfp/servlet/event.showcfp?eventid=21157&copyow
 nerid=30032
UID:cfp262794-D@wikicfp.com
END:VEVENT
BEGIN:VEVENT
DTSTAMP:20260425T002119Z
DTSTART;VALUE=DATE:20120604
SUMMARY:CLEF 2012 Notification Due
DESCRIPTION:Information Access Evaluation meets Multilinguality\, Multimo
 dality\, and Visual Analytics
URL:http://www.wikicfp.com/cfp/servlet/event.showcfp?eventid=21157&copyow
 nerid=30032
UID:cfp262794-N@wikicfp.com
END:VEVENT
BEGIN:VEVENT
DTSTAMP:20260425T002119Z
DTSTART;VALUE=DATE:20120618
SUMMARY:CLEF 2012 Final Version Due
DESCRIPTION:Information Access Evaluation meets Multilinguality\, Multimo
 dality\, and Visual Analytics
URL:http://www.wikicfp.com/cfp/servlet/event.showcfp?eventid=21157&copyow
 nerid=30032
UID:cfp262794-N@wikicfp.com
END:VEVENT
END:VCALENDAR
