BEGIN:VCALENDAR
PRODID:-//WikiCFP//praveen64 1.0//EN
VERSION:2.0
CALSCALE:GREGORIAN
BEGIN:VEVENT
DTSTAMP:20260421T064534Z
DTSTART;VALUE=DATE:20120415
SUMMARY:MTAP SI: Computer Vision for Multimedia 2012 Deadline
DESCRIPTION:SI on Computer Vision Technology for Multimedia Applications 
 (Multimedia Tools and Applications)
URL:http://www.wikicfp.com/cfp/servlet/event.showcfp?eventid=18394&copyow
 nerid=29958
UID:cfp206993-D@wikicfp.com
END:VEVENT
BEGIN:VEVENT
DTSTAMP:20260421T064534Z
DTSTART;VALUE=DATE:20120730
SUMMARY:MTAP SI: Computer Vision for Multimedia 2012 Notification Due
DESCRIPTION:SI on Computer Vision Technology for Multimedia Applications 
 (Multimedia Tools and Applications)
URL:http://www.wikicfp.com/cfp/servlet/event.showcfp?eventid=18394&copyow
 nerid=29958
UID:cfp206993-N@wikicfp.com
END:VEVENT
BEGIN:VEVENT
DTSTAMP:20260421T064534Z
DTSTART;VALUE=DATE:20120830
SUMMARY:MTAP SI: Computer Vision for Multimedia 2012 Final Version Due
DESCRIPTION:SI on Computer Vision Technology for Multimedia Applications 
 (Multimedia Tools and Applications)
URL:http://www.wikicfp.com/cfp/servlet/event.showcfp?eventid=18394&copyow
 nerid=29958
UID:cfp206993-N@wikicfp.com
END:VEVENT
END:VCALENDAR
