BEGIN:VCALENDAR
PRODID:-//WikiCFP//billthu 1.0//EN
VERSION:2.0
CALSCALE:GREGORIAN
BEGIN:VEVENT
DTSTAMP:20260424T202633Z
DTSTART;VALUE=DATE:20120103
DTEND;VALUE=DATE:20120107
SUMMARY:ICDCN 2012
DESCRIPTION:13th International Conference on Distributed Computing and Ne
 tworking
URL:http://www.wikicfp.com/cfp/servlet/event.showcfp?eventid=16910&copyow
 nerid=29924
UID:cfp206687-E@wikicfp.com
END:VEVENT
BEGIN:VEVENT
DTSTAMP:20260424T202633Z
DTSTART;VALUE=DATE:20110715
SUMMARY:ICDCN 2012 Deadline
DESCRIPTION:13th International Conference on Distributed Computing and Ne
 tworking
URL:http://www.wikicfp.com/cfp/servlet/event.showcfp?eventid=16910&copyow
 nerid=29924
UID:cfp206687-D@wikicfp.com
END:VEVENT
BEGIN:VEVENT
DTSTAMP:20260424T202633Z
DTSTART;VALUE=DATE:20110915
SUMMARY:ICDCN 2012 Notification Due
DESCRIPTION:13th International Conference on Distributed Computing and Ne
 tworking
URL:http://www.wikicfp.com/cfp/servlet/event.showcfp?eventid=16910&copyow
 nerid=29924
UID:cfp206687-N@wikicfp.com
END:VEVENT
BEGIN:VEVENT
DTSTAMP:20260424T202633Z
DTSTART;VALUE=DATE:20111013
SUMMARY:ICDCN 2012 Final Version Due
DESCRIPTION:13th International Conference on Distributed Computing and Ne
 tworking
URL:http://www.wikicfp.com/cfp/servlet/event.showcfp?eventid=16910&copyow
 nerid=29924
UID:cfp206687-N@wikicfp.com
END:VEVENT
BEGIN:VEVENT
DTSTAMP:20260424T202633Z
DTSTART;VALUE=DATE:20120325
DTEND;VALUE=DATE:20120331
SUMMARY:INFOCOM 2012
DESCRIPTION:The 31st Annual IEEE International Conference on Computer Com
 munications
URL:http://www.wikicfp.com/cfp/servlet/event.showcfp?eventid=11876&copyow
 nerid=29924
UID:cfp206685-E@wikicfp.com
END:VEVENT
BEGIN:VEVENT
DTSTAMP:20260424T202633Z
DTSTART;VALUE=DATE:20110722
SUMMARY:INFOCOM 2012 Abstract Due
DESCRIPTION:The 31st Annual IEEE International Conference on Computer Com
 munications
URL:http://www.wikicfp.com/cfp/servlet/event.showcfp?eventid=11876&copyow
 nerid=29924
UID:cfp206685-A@wikicfp.com
END:VEVENT
BEGIN:VEVENT
DTSTAMP:20260424T202633Z
DTSTART;VALUE=DATE:20110729
SUMMARY:INFOCOM 2012 Deadline
DESCRIPTION:The 31st Annual IEEE International Conference on Computer Com
 munications
URL:http://www.wikicfp.com/cfp/servlet/event.showcfp?eventid=11876&copyow
 nerid=29924
UID:cfp206685-D@wikicfp.com
END:VEVENT
BEGIN:VEVENT
DTSTAMP:20260424T202633Z
DTSTART;VALUE=DATE:20111121
SUMMARY:INFOCOM 2012 Notification Due
DESCRIPTION:The 31st Annual IEEE International Conference on Computer Com
 munications
URL:http://www.wikicfp.com/cfp/servlet/event.showcfp?eventid=11876&copyow
 nerid=29924
UID:cfp206685-N@wikicfp.com
END:VEVENT
BEGIN:VEVENT
DTSTAMP:20260424T202633Z
DTSTART;VALUE=DATE:20120215
DTEND;VALUE=DATE:20120218
SUMMARY:EWSN 2012
DESCRIPTION:9th European Conference on Wireless Sensor Networks
URL:http://www.wikicfp.com/cfp/servlet/event.showcfp?eventid=16751&copyow
 nerid=29924
UID:cfp206693-E@wikicfp.com
END:VEVENT
BEGIN:VEVENT
DTSTAMP:20260424T202633Z
DTSTART;VALUE=DATE:20110916
SUMMARY:EWSN 2012 Abstract Due
DESCRIPTION:9th European Conference on Wireless Sensor Networks
URL:http://www.wikicfp.com/cfp/servlet/event.showcfp?eventid=16751&copyow
 nerid=29924
UID:cfp206693-A@wikicfp.com
END:VEVENT
BEGIN:VEVENT
DTSTAMP:20260424T202633Z
DTSTART;VALUE=DATE:20110923
SUMMARY:EWSN 2012 Deadline
DESCRIPTION:9th European Conference on Wireless Sensor Networks
URL:http://www.wikicfp.com/cfp/servlet/event.showcfp?eventid=16751&copyow
 nerid=29924
UID:cfp206693-D@wikicfp.com
END:VEVENT
BEGIN:VEVENT
DTSTAMP:20260424T202633Z
DTSTART;VALUE=DATE:20111121
SUMMARY:EWSN 2012 Notification Due
DESCRIPTION:9th European Conference on Wireless Sensor Networks
URL:http://www.wikicfp.com/cfp/servlet/event.showcfp?eventid=16751&copyow
 nerid=29924
UID:cfp206693-N@wikicfp.com
END:VEVENT
BEGIN:VEVENT
DTSTAMP:20260424T202633Z
DTSTART;VALUE=DATE:20120401
DTEND;VALUE=DATE:20120405
SUMMARY:WCNC 2012
DESCRIPTION:IEEE Wireless Communication and Networking Conference
URL:http://www.wikicfp.com/cfp/servlet/event.showcfp?eventid=14496&copyow
 nerid=29924
UID:cfp206692-E@wikicfp.com
END:VEVENT
BEGIN:VEVENT
DTSTAMP:20260424T202633Z
DTSTART;VALUE=DATE:20110926
SUMMARY:WCNC 2012 Deadline
DESCRIPTION:IEEE Wireless Communication and Networking Conference
URL:http://www.wikicfp.com/cfp/servlet/event.showcfp?eventid=14496&copyow
 nerid=29924
UID:cfp206692-D@wikicfp.com
END:VEVENT
BEGIN:VEVENT
DTSTAMP:20260424T202633Z
DTSTART;VALUE=DATE:20111209
SUMMARY:WCNC 2012 Notification Due
DESCRIPTION:IEEE Wireless Communication and Networking Conference
URL:http://www.wikicfp.com/cfp/servlet/event.showcfp?eventid=14496&copyow
 nerid=29924
UID:cfp206692-N@wikicfp.com
END:VEVENT
BEGIN:VEVENT
DTSTAMP:20260424T202633Z
DTSTART;VALUE=DATE:20120116
SUMMARY:WCNC 2012 Final Version Due
DESCRIPTION:IEEE Wireless Communication and Networking Conference
URL:http://www.wikicfp.com/cfp/servlet/event.showcfp?eventid=14496&copyow
 nerid=29924
UID:cfp206692-N@wikicfp.com
END:VEVENT
BEGIN:VEVENT
DTSTAMP:20260424T202633Z
DTSTART;VALUE=DATE:20120610
DTEND;VALUE=DATE:20120616
SUMMARY:ICC 2012
DESCRIPTION:IEEE International Conference on Communications
URL:http://www.wikicfp.com/cfp/servlet/event.showcfp?eventid=11083&copyow
 nerid=29924
UID:cfp206691-E@wikicfp.com
END:VEVENT
BEGIN:VEVENT
DTSTAMP:20260424T202633Z
DTSTART;VALUE=DATE:20110928
SUMMARY:ICC 2012 Deadline
DESCRIPTION:IEEE International Conference on Communications
URL:http://www.wikicfp.com/cfp/servlet/event.showcfp?eventid=11083&copyow
 nerid=29924
UID:cfp206691-D@wikicfp.com
END:VEVENT
BEGIN:VEVENT
DTSTAMP:20260424T202633Z
DTSTART;VALUE=DATE:20120109
SUMMARY:ICC 2012 Notification Due
DESCRIPTION:IEEE International Conference on Communications
URL:http://www.wikicfp.com/cfp/servlet/event.showcfp?eventid=11083&copyow
 nerid=29924
UID:cfp206691-N@wikicfp.com
END:VEVENT
BEGIN:VEVENT
DTSTAMP:20260424T202633Z
DTSTART;VALUE=DATE:20120210
SUMMARY:ICC 2012 Final Version Due
DESCRIPTION:IEEE International Conference on Communications
URL:http://www.wikicfp.com/cfp/servlet/event.showcfp?eventid=11083&copyow
 nerid=29924
UID:cfp206691-N@wikicfp.com
END:VEVENT
BEGIN:VEVENT
DTSTAMP:20260424T202633Z
DTSTART;VALUE=DATE:20120416
DTEND;VALUE=DATE:20120420
SUMMARY:IPSN 2012
DESCRIPTION:The 11th ACM/IEEE Conference on Information Processing in Sen
 sor Networks
URL:http://www.wikicfp.com/cfp/servlet/event.showcfp?eventid=17512&copyow
 nerid=29924
UID:cfp206688-E@wikicfp.com
END:VEVENT
BEGIN:VEVENT
DTSTAMP:20260424T202633Z
DTSTART;VALUE=DATE:20111007
SUMMARY:IPSN 2012 Abstract Due
DESCRIPTION:The 11th ACM/IEEE Conference on Information Processing in Sen
 sor Networks
URL:http://www.wikicfp.com/cfp/servlet/event.showcfp?eventid=17512&copyow
 nerid=29924
UID:cfp206688-A@wikicfp.com
END:VEVENT
BEGIN:VEVENT
DTSTAMP:20260424T202633Z
DTSTART;VALUE=DATE:20111014
SUMMARY:IPSN 2012 Deadline
DESCRIPTION:The 11th ACM/IEEE Conference on Information Processing in Sen
 sor Networks
URL:http://www.wikicfp.com/cfp/servlet/event.showcfp?eventid=17512&copyow
 nerid=29924
UID:cfp206688-D@wikicfp.com
END:VEVENT
BEGIN:VEVENT
DTSTAMP:20260424T202633Z
DTSTART;VALUE=DATE:20120120
SUMMARY:IPSN 2012 Notification Due
DESCRIPTION:The 11th ACM/IEEE Conference on Information Processing in Sen
 sor Networks
URL:http://www.wikicfp.com/cfp/servlet/event.showcfp?eventid=17512&copyow
 nerid=29924
UID:cfp206688-N@wikicfp.com
END:VEVENT
BEGIN:VEVENT
DTSTAMP:20260424T202633Z
DTSTART;VALUE=DATE:20120301
SUMMARY:IPSN 2012 Final Version Due
DESCRIPTION:The 11th ACM/IEEE Conference on Information Processing in Sen
 sor Networks
URL:http://www.wikicfp.com/cfp/servlet/event.showcfp?eventid=17512&copyow
 nerid=29924
UID:cfp206688-N@wikicfp.com
END:VEVENT
BEGIN:VEVENT
DTSTAMP:20260424T202633Z
DTSTART;VALUE=DATE:20120611
DTEND;VALUE=DATE:20120615
SUMMARY:ACM MOBIHOC 2012
DESCRIPTION:The 13th ACM International Symposium on Mobile Ad Hoc Network
 ing and Computing
URL:http://www.wikicfp.com/cfp/servlet/event.showcfp?eventid=18092&copyow
 nerid=29924
UID:cfp206684-E@wikicfp.com
END:VEVENT
BEGIN:VEVENT
DTSTAMP:20260424T202633Z
DTSTART;VALUE=DATE:20111109
SUMMARY:ACM MOBIHOC 2012 Abstract Due
DESCRIPTION:The 13th ACM International Symposium on Mobile Ad Hoc Network
 ing and Computing
URL:http://www.wikicfp.com/cfp/servlet/event.showcfp?eventid=18092&copyow
 nerid=29924
UID:cfp206684-A@wikicfp.com
END:VEVENT
BEGIN:VEVENT
DTSTAMP:20260424T202633Z
DTSTART;VALUE=DATE:20111116
SUMMARY:ACM MOBIHOC 2012 Deadline
DESCRIPTION:The 13th ACM International Symposium on Mobile Ad Hoc Network
 ing and Computing
URL:http://www.wikicfp.com/cfp/servlet/event.showcfp?eventid=18092&copyow
 nerid=29924
UID:cfp206684-D@wikicfp.com
END:VEVENT
BEGIN:VEVENT
DTSTAMP:20260424T202633Z
DTSTART;VALUE=DATE:20120305
SUMMARY:ACM MOBIHOC 2012 Notification Due
DESCRIPTION:The 13th ACM International Symposium on Mobile Ad Hoc Network
 ing and Computing
URL:http://www.wikicfp.com/cfp/servlet/event.showcfp?eventid=18092&copyow
 nerid=29924
UID:cfp206684-N@wikicfp.com
END:VEVENT
BEGIN:VEVENT
DTSTAMP:20260424T202633Z
DTSTART;VALUE=DATE:20120402
SUMMARY:ACM MOBIHOC 2012 Final Version Due
DESCRIPTION:The 13th ACM International Symposium on Mobile Ad Hoc Network
 ing and Computing
URL:http://www.wikicfp.com/cfp/servlet/event.showcfp?eventid=18092&copyow
 nerid=29924
UID:cfp206684-N@wikicfp.com
END:VEVENT
BEGIN:VEVENT
DTSTAMP:20260424T202633Z
DTSTART;VALUE=DATE:20120618
DTEND;VALUE=DATE:20120622
SUMMARY:ICDCS 2012
DESCRIPTION:IEEE 32nd International Conference on Distributed Computing S
 ystems
URL:http://www.wikicfp.com/cfp/servlet/event.showcfp?eventid=15114&copyow
 nerid=29924
UID:cfp206686-E@wikicfp.com
END:VEVENT
BEGIN:VEVENT
DTSTAMP:20260424T202633Z
DTSTART;VALUE=DATE:20111111
SUMMARY:ICDCS 2012 Abstract Due
DESCRIPTION:IEEE 32nd International Conference on Distributed Computing S
 ystems
URL:http://www.wikicfp.com/cfp/servlet/event.showcfp?eventid=15114&copyow
 nerid=29924
UID:cfp206686-A@wikicfp.com
END:VEVENT
BEGIN:VEVENT
DTSTAMP:20260424T202633Z
DTSTART;VALUE=DATE:20111118
SUMMARY:ICDCS 2012 Deadline
DESCRIPTION:IEEE 32nd International Conference on Distributed Computing S
 ystems
URL:http://www.wikicfp.com/cfp/servlet/event.showcfp?eventid=15114&copyow
 nerid=29924
UID:cfp206686-D@wikicfp.com
END:VEVENT
BEGIN:VEVENT
DTSTAMP:20260424T202633Z
DTSTART;VALUE=DATE:20120207
SUMMARY:ICDCS 2012 Notification Due
DESCRIPTION:IEEE 32nd International Conference on Distributed Computing S
 ystems
URL:http://www.wikicfp.com/cfp/servlet/event.showcfp?eventid=15114&copyow
 nerid=29924
UID:cfp206686-N@wikicfp.com
END:VEVENT
BEGIN:VEVENT
DTSTAMP:20260424T202633Z
DTSTART;VALUE=DATE:20120314
SUMMARY:ICDCS 2012 Final Version Due
DESCRIPTION:IEEE 32nd International Conference on Distributed Computing S
 ystems
URL:http://www.wikicfp.com/cfp/servlet/event.showcfp?eventid=15114&copyow
 nerid=29924
UID:cfp206686-N@wikicfp.com
END:VEVENT
BEGIN:VEVENT
DTSTAMP:20260424T202633Z
DTSTART;VALUE=DATE:20120813
DTEND;VALUE=DATE:20120818
SUMMARY:SIGCOMM 2012
DESCRIPTION:ACM Special Interest Group on Data Communication
URL:http://www.wikicfp.com/cfp/servlet/event.showcfp?eventid=18339&copyow
 nerid=29924
UID:cfp206683-E@wikicfp.com
END:VEVENT
BEGIN:VEVENT
DTSTAMP:20260424T202633Z
DTSTART;VALUE=DATE:20120120
SUMMARY:SIGCOMM 2012 Abstract Due
DESCRIPTION:ACM Special Interest Group on Data Communication
URL:http://www.wikicfp.com/cfp/servlet/event.showcfp?eventid=18339&copyow
 nerid=29924
UID:cfp206683-A@wikicfp.com
END:VEVENT
BEGIN:VEVENT
DTSTAMP:20260424T202633Z
DTSTART;VALUE=DATE:20120127
SUMMARY:SIGCOMM 2012 Deadline
DESCRIPTION:ACM Special Interest Group on Data Communication
URL:http://www.wikicfp.com/cfp/servlet/event.showcfp?eventid=18339&copyow
 nerid=29924
UID:cfp206683-D@wikicfp.com
END:VEVENT
BEGIN:VEVENT
DTSTAMP:20260424T202633Z
DTSTART;VALUE=DATE:20120430
SUMMARY:SIGCOMM 2012 Notification Due
DESCRIPTION:ACM Special Interest Group on Data Communication
URL:http://www.wikicfp.com/cfp/servlet/event.showcfp?eventid=18339&copyow
 nerid=29924
UID:cfp206683-N@wikicfp.com
END:VEVENT
BEGIN:VEVENT
DTSTAMP:20260424T202633Z
DTSTART;VALUE=DATE:20120709
DTEND;VALUE=DATE:20120712
SUMMARY:ADHOC-NOW 2012
DESCRIPTION:The 11th International Conference on Ad Hoc Networks and Wire
 less
URL:http://www.wikicfp.com/cfp/servlet/event.showcfp?eventid=18325&copyow
 nerid=29924
UID:cfp206690-E@wikicfp.com
END:VEVENT
BEGIN:VEVENT
DTSTAMP:20260424T202633Z
DTSTART;VALUE=DATE:20120301
SUMMARY:ADHOC-NOW 2012 Deadline
DESCRIPTION:The 11th International Conference on Ad Hoc Networks and Wire
 less
URL:http://www.wikicfp.com/cfp/servlet/event.showcfp?eventid=18325&copyow
 nerid=29924
UID:cfp206690-D@wikicfp.com
END:VEVENT
BEGIN:VEVENT
DTSTAMP:20260424T202633Z
DTSTART;VALUE=DATE:20120406
SUMMARY:ADHOC-NOW 2012 Notification Due
DESCRIPTION:The 11th International Conference on Ad Hoc Networks and Wire
 less
URL:http://www.wikicfp.com/cfp/servlet/event.showcfp?eventid=18325&copyow
 nerid=29924
UID:cfp206690-N@wikicfp.com
END:VEVENT
BEGIN:VEVENT
DTSTAMP:20260424T202633Z
DTSTART;VALUE=DATE:20120420
SUMMARY:ADHOC-NOW 2012 Final Version Due
DESCRIPTION:The 11th International Conference on Ad Hoc Networks and Wire
 less
URL:http://www.wikicfp.com/cfp/servlet/event.showcfp?eventid=18325&copyow
 nerid=29924
UID:cfp206690-N@wikicfp.com
END:VEVENT
BEGIN:VEVENT
DTSTAMP:20260424T202633Z
DTSTART;VALUE=DATE:20121203
DTEND;VALUE=DATE:20121208
SUMMARY:GLOBECOM 2012
DESCRIPTION:IEEE Global Communications Conference
URL:http://www.wikicfp.com/cfp/servlet/event.showcfp?eventid=13878&copyow
 nerid=29924
UID:cfp206689-E@wikicfp.com
END:VEVENT
BEGIN:VEVENT
DTSTAMP:20260424T202633Z
DTSTART;VALUE=DATE:20120330
SUMMARY:GLOBECOM 2012 Deadline
DESCRIPTION:IEEE Global Communications Conference
URL:http://www.wikicfp.com/cfp/servlet/event.showcfp?eventid=13878&copyow
 nerid=29924
UID:cfp206689-D@wikicfp.com
END:VEVENT
BEGIN:VEVENT
DTSTAMP:20260424T202633Z
DTSTART;VALUE=DATE:20120701
SUMMARY:GLOBECOM 2012 Notification Due
DESCRIPTION:IEEE Global Communications Conference
URL:http://www.wikicfp.com/cfp/servlet/event.showcfp?eventid=13878&copyow
 nerid=29924
UID:cfp206689-N@wikicfp.com
END:VEVENT
BEGIN:VEVENT
DTSTAMP:20260424T202633Z
DTSTART;VALUE=DATE:20120801
SUMMARY:GLOBECOM 2012 Final Version Due
DESCRIPTION:IEEE Global Communications Conference
URL:http://www.wikicfp.com/cfp/servlet/event.showcfp?eventid=13878&copyow
 nerid=29924
UID:cfp206689-N@wikicfp.com
END:VEVENT
END:VCALENDAR
