BEGIN:VCALENDAR
PRODID:-//WikiCFP//MAHINDIA 1.0//EN
VERSION:2.0
CALSCALE:GREGORIAN
BEGIN:VEVENT
DTSTAMP:20260420T021811Z
DTSTART;VALUE=DATE:20120330
DTEND;VALUE=DATE:20120402
SUMMARY:ICB 2012
DESCRIPTION:International Conference on Biometrics
URL:http://www.wikicfp.com/cfp/servlet/event.showcfp?eventid=17290&copyow
 nerid=29874
UID:cfp206418-E@wikicfp.com
END:VEVENT
BEGIN:VEVENT
DTSTAMP:20260420T021811Z
DTSTART;VALUE=DATE:20110930
SUMMARY:ICB 2012 Deadline
DESCRIPTION:International Conference on Biometrics
URL:http://www.wikicfp.com/cfp/servlet/event.showcfp?eventid=17290&copyow
 nerid=29874
UID:cfp206418-D@wikicfp.com
END:VEVENT
BEGIN:VEVENT
DTSTAMP:20260420T021811Z
DTSTART;VALUE=DATE:20111122
SUMMARY:ICB 2012 Notification Due
DESCRIPTION:International Conference on Biometrics
URL:http://www.wikicfp.com/cfp/servlet/event.showcfp?eventid=17290&copyow
 nerid=29874
UID:cfp206418-N@wikicfp.com
END:VEVENT
BEGIN:VEVENT
DTSTAMP:20260420T021811Z
DTSTART;VALUE=DATE:20111215
SUMMARY:ICB 2012 Final Version Due
DESCRIPTION:International Conference on Biometrics
URL:http://www.wikicfp.com/cfp/servlet/event.showcfp?eventid=17290&copyow
 nerid=29874
UID:cfp206418-N@wikicfp.com
END:VEVENT
END:VCALENDAR
