BEGIN:VCALENDAR
PRODID:-//WikiCFP//StrDia 1.0//EN
VERSION:2.0
CALSCALE:GREGORIAN
BEGIN:VEVENT
DTSTAMP:20260424T193717Z
DTSTART;VALUE=DATE:20111130
DTEND;VALUE=DATE:20111203
SUMMARY:ACIS 2011
DESCRIPTION:The 22nd Australasian Conference on Information Systems (ACIS
 )
URL:http://www.wikicfp.com/cfp/servlet/event.showcfp?eventid=16990&copyow
 nerid=29565
UID:cfp204388-E@wikicfp.com
END:VEVENT
BEGIN:VEVENT
DTSTAMP:20260424T193717Z
DTSTART;VALUE=DATE:20110718
SUMMARY:ACIS 2011 Deadline
DESCRIPTION:The 22nd Australasian Conference on Information Systems (ACIS
 )
URL:http://www.wikicfp.com/cfp/servlet/event.showcfp?eventid=16990&copyow
 nerid=29565
UID:cfp204388-D@wikicfp.com
END:VEVENT
BEGIN:VEVENT
DTSTAMP:20260424T193717Z
DTSTART;VALUE=DATE:20110919
SUMMARY:ACIS 2011 Notification Due
DESCRIPTION:The 22nd Australasian Conference on Information Systems (ACIS
 )
URL:http://www.wikicfp.com/cfp/servlet/event.showcfp?eventid=16990&copyow
 nerid=29565
UID:cfp204388-N@wikicfp.com
END:VEVENT
BEGIN:VEVENT
DTSTAMP:20260424T193717Z
DTSTART;VALUE=DATE:20120602
DTEND;VALUE=DATE:20120610
SUMMARY:ICSE 2012
DESCRIPTION:34th International Conference on Software Engineering
URL:http://www.wikicfp.com/cfp/servlet/event.showcfp?eventid=13479&copyow
 nerid=29565
UID:cfp204387-E@wikicfp.com
END:VEVENT
BEGIN:VEVENT
DTSTAMP:20260424T193717Z
DTSTART;VALUE=DATE:20110929
SUMMARY:ICSE 2012 Deadline
DESCRIPTION:34th International Conference on Software Engineering
URL:http://www.wikicfp.com/cfp/servlet/event.showcfp?eventid=13479&copyow
 nerid=29565
UID:cfp204387-D@wikicfp.com
END:VEVENT
BEGIN:VEVENT
DTSTAMP:20260424T193717Z
DTSTART;VALUE=DATE:20120610
DTEND;VALUE=DATE:20120614
SUMMARY:ECIS 2012
DESCRIPTION:Eurpean Conference on Information Systems
URL:http://www.wikicfp.com/cfp/servlet/event.showcfp?eventid=15325&copyow
 nerid=29565
UID:cfp204390-E@wikicfp.com
END:VEVENT
BEGIN:VEVENT
DTSTAMP:20260424T193717Z
DTSTART;VALUE=DATE:20111201
SUMMARY:ECIS 2012 Deadline
DESCRIPTION:Eurpean Conference on Information Systems
URL:http://www.wikicfp.com/cfp/servlet/event.showcfp?eventid=15325&copyow
 nerid=29565
UID:cfp204390-D@wikicfp.com
END:VEVENT
BEGIN:VEVENT
DTSTAMP:20260424T193717Z
DTSTART;VALUE=DATE:20120809
DTEND;VALUE=DATE:20120813
SUMMARY:AMCIS 2012
DESCRIPTION:18th Americas Conference on Information Systems
URL:http://www.wikicfp.com/cfp/servlet/event.showcfp?eventid=17820&copyow
 nerid=29565
UID:cfp204389-E@wikicfp.com
END:VEVENT
BEGIN:VEVENT
DTSTAMP:20260424T193717Z
DTSTART;VALUE=DATE:20120301
SUMMARY:AMCIS 2012 Deadline
DESCRIPTION:18th Americas Conference on Information Systems
URL:http://www.wikicfp.com/cfp/servlet/event.showcfp?eventid=17820&copyow
 nerid=29565
UID:cfp204389-D@wikicfp.com
END:VEVENT
BEGIN:VEVENT
DTSTAMP:20260424T193717Z
DTSTART;VALUE=DATE:20120402
SUMMARY:AMCIS 2012 Notification Due
DESCRIPTION:18th Americas Conference on Information Systems
URL:http://www.wikicfp.com/cfp/servlet/event.showcfp?eventid=17820&copyow
 nerid=29565
UID:cfp204389-N@wikicfp.com
END:VEVENT
BEGIN:VEVENT
DTSTAMP:20260424T193717Z
DTSTART;VALUE=DATE:20120420
SUMMARY:AMCIS 2012 Final Version Due
DESCRIPTION:18th Americas Conference on Information Systems
URL:http://www.wikicfp.com/cfp/servlet/event.showcfp?eventid=17820&copyow
 nerid=29565
UID:cfp204389-N@wikicfp.com
END:VEVENT
END:VCALENDAR
