BEGIN:VCALENDAR
PRODID:-//WikiCFP//zhqi2007 1.0//EN
VERSION:2.0
CALSCALE:GREGORIAN
BEGIN:VEVENT
DTSTAMP:20260424T013134Z
DTSTART;VALUE=DATE:20120916
DTEND;VALUE=DATE:20120920
SUMMARY:ITSC 2012
DESCRIPTION:15th International IEEE Conference on Intelligent Transportat
 ion Systems
URL:http://www.wikicfp.com/cfp/servlet/event.showcfp?eventid=14076&copyow
 nerid=29487
UID:cfp203683-E@wikicfp.com
END:VEVENT
BEGIN:VEVENT
DTSTAMP:20260424T013134Z
DTSTART;VALUE=DATE:20120315
SUMMARY:ITSC 2012 Deadline
DESCRIPTION:15th International IEEE Conference on Intelligent Transportat
 ion Systems
URL:http://www.wikicfp.com/cfp/servlet/event.showcfp?eventid=14076&copyow
 nerid=29487
UID:cfp203683-D@wikicfp.com
END:VEVENT
BEGIN:VEVENT
DTSTAMP:20260424T013134Z
DTSTART;VALUE=DATE:20120601
SUMMARY:ITSC 2012 Notification Due
DESCRIPTION:15th International IEEE Conference on Intelligent Transportat
 ion Systems
URL:http://www.wikicfp.com/cfp/servlet/event.showcfp?eventid=14076&copyow
 nerid=29487
UID:cfp203683-N@wikicfp.com
END:VEVENT
BEGIN:VEVENT
DTSTAMP:20260424T013134Z
DTSTART;VALUE=DATE:20120701
SUMMARY:ITSC 2012 Final Version Due
DESCRIPTION:15th International IEEE Conference on Intelligent Transportat
 ion Systems
URL:http://www.wikicfp.com/cfp/servlet/event.showcfp?eventid=14076&copyow
 nerid=29487
UID:cfp203683-N@wikicfp.com
END:VEVENT
END:VCALENDAR
