BEGIN:VCALENDAR
PRODID:-//WikiCFP//jun 1.0//EN
VERSION:2.0
CALSCALE:GREGORIAN
BEGIN:VEVENT
DTSTAMP:20260422T115230Z
DTSTART;VALUE=DATE:20131101
DTEND;VALUE=DATE:20131104
SUMMARY:CSAE 2013
DESCRIPTION:2013 IEEE International Conference on Computer Science and Au
 tomation Engineering
URL:http://www.wikicfp.com/cfp/servlet/event.showcfp?eventid=27834&copyow
 nerid=29249
UID:cfp326937-E@wikicfp.com
END:VEVENT
BEGIN:VEVENT
DTSTAMP:20260422T115230Z
DTSTART;VALUE=DATE:20130725
SUMMARY:CSAE 2013 Deadline
DESCRIPTION:2013 IEEE International Conference on Computer Science and Au
 tomation Engineering
URL:http://www.wikicfp.com/cfp/servlet/event.showcfp?eventid=27834&copyow
 nerid=29249
UID:cfp326937-D@wikicfp.com
END:VEVENT
BEGIN:VEVENT
DTSTAMP:20260422T115230Z
DTSTART;VALUE=DATE:20130731
SUMMARY:CSAE 2013 Notification Due
DESCRIPTION:2013 IEEE International Conference on Computer Science and Au
 tomation Engineering
URL:http://www.wikicfp.com/cfp/servlet/event.showcfp?eventid=27834&copyow
 nerid=29249
UID:cfp326937-N@wikicfp.com
END:VEVENT
BEGIN:VEVENT
DTSTAMP:20260422T115230Z
DTSTART;VALUE=DATE:20130905
SUMMARY:CSAE 2013 Final Version Due
DESCRIPTION:2013 IEEE International Conference on Computer Science and Au
 tomation Engineering
URL:http://www.wikicfp.com/cfp/servlet/event.showcfp?eventid=27834&copyow
 nerid=29249
UID:cfp326937-N@wikicfp.com
END:VEVENT
END:VCALENDAR
