BEGIN:VCALENDAR
PRODID:-//WikiCFP//florin9h 1.0//EN
VERSION:2.0
CALSCALE:GREGORIAN
BEGIN:VEVENT
DTSTAMP:20260420T154716Z
DTSTART;VALUE=DATE:20120319
DTEND;VALUE=DATE:20120322
SUMMARY:WoNeCa 2012
DESCRIPTION:Workshop on Network Calculus
URL:http://www.wikicfp.com/cfp/servlet/event.showcfp?eventid=18210&copyow
 nerid=29160
UID:cfp201679-E@wikicfp.com
END:VEVENT
BEGIN:VEVENT
DTSTAMP:20260420T154716Z
DTSTART;VALUE=DATE:20111115
SUMMARY:WoNeCa 2012 Deadline
DESCRIPTION:Workshop on Network Calculus
URL:http://www.wikicfp.com/cfp/servlet/event.showcfp?eventid=18210&copyow
 nerid=29160
UID:cfp201679-D@wikicfp.com
END:VEVENT
BEGIN:VEVENT
DTSTAMP:20260420T154716Z
DTSTART;VALUE=DATE:20111215
SUMMARY:WoNeCa 2012 Notification Due
DESCRIPTION:Workshop on Network Calculus
URL:http://www.wikicfp.com/cfp/servlet/event.showcfp?eventid=18210&copyow
 nerid=29160
UID:cfp201679-N@wikicfp.com
END:VEVENT
BEGIN:VEVENT
DTSTAMP:20260420T154716Z
DTSTART;VALUE=DATE:20111230
SUMMARY:WoNeCa 2012 Final Version Due
DESCRIPTION:Workshop on Network Calculus
URL:http://www.wikicfp.com/cfp/servlet/event.showcfp?eventid=18210&copyow
 nerid=29160
UID:cfp201679-N@wikicfp.com
END:VEVENT
END:VCALENDAR
