BEGIN:VCALENDAR
PRODID:-//WikiCFP//aschoenig 1.0//EN
VERSION:2.0
CALSCALE:GREGORIAN
BEGIN:VEVENT
DTSTAMP:20260422T003632Z
DTSTART;VALUE=DATE:20111112
DTEND;VALUE=DATE:20111113
SUMMARY:MALETS 2011
DESCRIPTION:International Workshop on Machine Learning Technologies in So
 ftware Engineering
URL:http://www.wikicfp.com/cfp/servlet/event.showcfp?eventid=16832&copyow
 nerid=28634
UID:cfp198733-E@wikicfp.com
END:VEVENT
BEGIN:VEVENT
DTSTAMP:20260422T003632Z
DTSTART;VALUE=DATE:20110826
SUMMARY:MALETS 2011 Deadline
DESCRIPTION:International Workshop on Machine Learning Technologies in So
 ftware Engineering
URL:http://www.wikicfp.com/cfp/servlet/event.showcfp?eventid=16832&copyow
 nerid=28634
UID:cfp198733-D@wikicfp.com
END:VEVENT
BEGIN:VEVENT
DTSTAMP:20260422T003632Z
DTSTART;VALUE=DATE:20111009
DTEND;VALUE=DATE:20111010
SUMMARY:Activity recognition challenge 2011
DESCRIPTION:Activity recognition challenge @ SMC
URL:http://www.wikicfp.com/cfp/servlet/event.showcfp?eventid=16971&copyow
 nerid=28634
UID:cfp198734-E@wikicfp.com
END:VEVENT
BEGIN:VEVENT
DTSTAMP:20260422T003632Z
DTSTART;VALUE=DATE:20110701
SUMMARY:Activity recognition challenge 2011 Abstract Due
DESCRIPTION:Activity recognition challenge @ SMC
URL:http://www.wikicfp.com/cfp/servlet/event.showcfp?eventid=16971&copyow
 nerid=28634
UID:cfp198734-A@wikicfp.com
END:VEVENT
BEGIN:VEVENT
DTSTAMP:20260422T003632Z
DTSTART;VALUE=DATE:20110909
SUMMARY:Activity recognition challenge 2011 Deadline
DESCRIPTION:Activity recognition challenge @ SMC
URL:http://www.wikicfp.com/cfp/servlet/event.showcfp?eventid=16971&copyow
 nerid=28634
UID:cfp198734-D@wikicfp.com
END:VEVENT
BEGIN:VEVENT
DTSTAMP:20260422T003632Z
DTSTART;VALUE=DATE:20110915
SUMMARY:Activity recognition challenge 2011 Notification Due
DESCRIPTION:Activity recognition challenge @ SMC
URL:http://www.wikicfp.com/cfp/servlet/event.showcfp?eventid=16971&copyow
 nerid=28634
UID:cfp198734-N@wikicfp.com
END:VEVENT
BEGIN:VEVENT
DTSTAMP:20260422T003632Z
DTSTART;VALUE=DATE:20111009
SUMMARY:Activity recognition challenge 2011 Final Version Due
DESCRIPTION:Activity recognition challenge @ SMC
URL:http://www.wikicfp.com/cfp/servlet/event.showcfp?eventid=16971&copyow
 nerid=28634
UID:cfp198734-N@wikicfp.com
END:VEVENT
BEGIN:VEVENT
DTSTAMP:20260422T003632Z
DTSTART;VALUE=DATE:20120604
DTEND;VALUE=DATE:20120609
SUMMARY:AAMAS 2012
DESCRIPTION:11th International Conference on Autonomous Agents and Multia
 gent Systems
URL:http://www.wikicfp.com/cfp/servlet/event.showcfp?eventid=16263&copyow
 nerid=28634
UID:cfp198720-E@wikicfp.com
END:VEVENT
BEGIN:VEVENT
DTSTAMP:20260422T003632Z
DTSTART;VALUE=DATE:20111007
SUMMARY:AAMAS 2012 Abstract Due
DESCRIPTION:11th International Conference on Autonomous Agents and Multia
 gent Systems
URL:http://www.wikicfp.com/cfp/servlet/event.showcfp?eventid=16263&copyow
 nerid=28634
UID:cfp198720-A@wikicfp.com
END:VEVENT
BEGIN:VEVENT
DTSTAMP:20260422T003632Z
DTSTART;VALUE=DATE:20111012
SUMMARY:AAMAS 2012 Deadline
DESCRIPTION:11th International Conference on Autonomous Agents and Multia
 gent Systems
URL:http://www.wikicfp.com/cfp/servlet/event.showcfp?eventid=16263&copyow
 nerid=28634
UID:cfp198720-D@wikicfp.com
END:VEVENT
BEGIN:VEVENT
DTSTAMP:20260422T003632Z
DTSTART;VALUE=DATE:20111221
SUMMARY:AAMAS 2012 Notification Due
DESCRIPTION:11th International Conference on Autonomous Agents and Multia
 gent Systems
URL:http://www.wikicfp.com/cfp/servlet/event.showcfp?eventid=16263&copyow
 nerid=28634
UID:cfp198720-N@wikicfp.com
END:VEVENT
BEGIN:VEVENT
DTSTAMP:20260422T003632Z
DTSTART;VALUE=DATE:20120421
DTEND;VALUE=DATE:20120424
SUMMARY:AISTATS 2012
DESCRIPTION:Fifteenth International Conference on  Artificial Intelligenc
 e and Statistics 2012
URL:http://www.wikicfp.com/cfp/servlet/event.showcfp?eventid=17992&copyow
 nerid=28634
UID:cfp198723-E@wikicfp.com
END:VEVENT
BEGIN:VEVENT
DTSTAMP:20260422T003632Z
DTSTART;VALUE=DATE:20111014
SUMMARY:AISTATS 2012 Deadline
DESCRIPTION:Fifteenth International Conference on  Artificial Intelligenc
 e and Statistics 2012
URL:http://www.wikicfp.com/cfp/servlet/event.showcfp?eventid=17992&copyow
 nerid=28634
UID:cfp198723-D@wikicfp.com
END:VEVENT
BEGIN:VEVENT
DTSTAMP:20260422T003632Z
DTSTART;VALUE=DATE:20111212
SUMMARY:AISTATS 2012 Notification Due
DESCRIPTION:Fifteenth International Conference on  Artificial Intelligenc
 e and Statistics 2012
URL:http://www.wikicfp.com/cfp/servlet/event.showcfp?eventid=17992&copyow
 nerid=28634
UID:cfp198723-N@wikicfp.com
END:VEVENT
BEGIN:VEVENT
DTSTAMP:20260422T003632Z
DTSTART;VALUE=DATE:20120317
SUMMARY:AISTATS 2012 Final Version Due
DESCRIPTION:Fifteenth International Conference on  Artificial Intelligenc
 e and Statistics 2012
URL:http://www.wikicfp.com/cfp/servlet/event.showcfp?eventid=17992&copyow
 nerid=28634
UID:cfp198723-N@wikicfp.com
END:VEVENT
BEGIN:VEVENT
DTSTAMP:20260422T003632Z
DTSTART;VALUE=DATE:20120517
DTEND;VALUE=DATE:20120519
SUMMARY:EAIS 2012
DESCRIPTION:IEEE Workshop on Evolving and Adaptive Intelligent Systems
URL:http://www.wikicfp.com/cfp/servlet/event.showcfp?eventid=14228&copyow
 nerid=28634
UID:cfp198737-E@wikicfp.com
END:VEVENT
BEGIN:VEVENT
DTSTAMP:20260422T003632Z
DTSTART;VALUE=DATE:20111101
SUMMARY:EAIS 2012 Deadline
DESCRIPTION:IEEE Workshop on Evolving and Adaptive Intelligent Systems
URL:http://www.wikicfp.com/cfp/servlet/event.showcfp?eventid=14228&copyow
 nerid=28634
UID:cfp198737-D@wikicfp.com
END:VEVENT
BEGIN:VEVENT
DTSTAMP:20260422T003632Z
DTSTART;VALUE=DATE:20110105
SUMMARY:EAIS 2012 Notification Due
DESCRIPTION:IEEE Workshop on Evolving and Adaptive Intelligent Systems
URL:http://www.wikicfp.com/cfp/servlet/event.showcfp?eventid=14228&copyow
 nerid=28634
UID:cfp198737-N@wikicfp.com
END:VEVENT
BEGIN:VEVENT
DTSTAMP:20260422T003632Z
DTSTART;VALUE=DATE:20120215
SUMMARY:EAIS 2012 Final Version Due
DESCRIPTION:IEEE Workshop on Evolving and Adaptive Intelligent Systems
URL:http://www.wikicfp.com/cfp/servlet/event.showcfp?eventid=14228&copyow
 nerid=28634
UID:cfp198737-N@wikicfp.com
END:VEVENT
BEGIN:VEVENT
DTSTAMP:20260422T003632Z
DTSTART;VALUE=DATE:20120429
DTEND;VALUE=DATE:20120504
SUMMARY:ICAISC  2012
DESCRIPTION:The 11th International Conference on Artificial Intelligence 
 and Soft Computing
URL:http://www.wikicfp.com/cfp/servlet/event.showcfp?eventid=16294&copyow
 nerid=28634
UID:cfp198722-E@wikicfp.com
END:VEVENT
BEGIN:VEVENT
DTSTAMP:20260422T003632Z
DTSTART;VALUE=DATE:20111110
SUMMARY:ICAISC  2012 Deadline
DESCRIPTION:The 11th International Conference on Artificial Intelligence 
 and Soft Computing
URL:http://www.wikicfp.com/cfp/servlet/event.showcfp?eventid=16294&copyow
 nerid=28634
UID:cfp198722-D@wikicfp.com
END:VEVENT
BEGIN:VEVENT
DTSTAMP:20260422T003632Z
DTSTART;VALUE=DATE:20111201
SUMMARY:ICAISC  2012 Notification Due
DESCRIPTION:The 11th International Conference on Artificial Intelligence 
 and Soft Computing
URL:http://www.wikicfp.com/cfp/servlet/event.showcfp?eventid=16294&copyow
 nerid=28634
UID:cfp198722-N@wikicfp.com
END:VEVENT
BEGIN:VEVENT
DTSTAMP:20260422T003632Z
DTSTART;VALUE=DATE:20120115
SUMMARY:ICAISC  2012 Final Version Due
DESCRIPTION:The 11th International Conference on Artificial Intelligence 
 and Soft Computing
URL:http://www.wikicfp.com/cfp/servlet/event.showcfp?eventid=16294&copyow
 nerid=28634
UID:cfp198722-N@wikicfp.com
END:VEVENT
BEGIN:VEVENT
DTSTAMP:20260422T003632Z
DTSTART;VALUE=DATE:20120609
DTEND;VALUE=DATE:20120613
SUMMARY:IEA/AIE 2012
DESCRIPTION:25th International Conference on Industrial\, Engineering & O
 ther Applications of Applied Intelligent Systems 2012
URL:http://www.wikicfp.com/cfp/servlet/event.showcfp?eventid=16284&copyow
 nerid=28634
UID:cfp198721-E@wikicfp.com
END:VEVENT
BEGIN:VEVENT
DTSTAMP:20260422T003632Z
DTSTART;VALUE=DATE:20111111
SUMMARY:IEA/AIE 2012 Deadline
DESCRIPTION:25th International Conference on Industrial\, Engineering & O
 ther Applications of Applied Intelligent Systems 2012
URL:http://www.wikicfp.com/cfp/servlet/event.showcfp?eventid=16284&copyow
 nerid=28634
UID:cfp198721-D@wikicfp.com
END:VEVENT
BEGIN:VEVENT
DTSTAMP:20260422T003632Z
DTSTART;VALUE=DATE:20120201
SUMMARY:IEA/AIE 2012 Notification Due
DESCRIPTION:25th International Conference on Industrial\, Engineering & O
 ther Applications of Applied Intelligent Systems 2012
URL:http://www.wikicfp.com/cfp/servlet/event.showcfp?eventid=16284&copyow
 nerid=28634
UID:cfp198721-N@wikicfp.com
END:VEVENT
BEGIN:VEVENT
DTSTAMP:20260422T003632Z
DTSTART;VALUE=DATE:20120220
SUMMARY:IEA/AIE 2012 Final Version Due
DESCRIPTION:25th International Conference on Industrial\, Engineering & O
 ther Applications of Applied Intelligent Systems 2012
URL:http://www.wikicfp.com/cfp/servlet/event.showcfp?eventid=16284&copyow
 nerid=28634
UID:cfp198721-N@wikicfp.com
END:VEVENT
BEGIN:VEVENT
DTSTAMP:20260422T003632Z
DTSTART;VALUE=DATE:20120523
DTEND;VALUE=DATE:20120526
SUMMARY:FLAIRS 2012
DESCRIPTION:The 25th Florida Artificial Intelligence Research Society Con
 ference
URL:http://www.wikicfp.com/cfp/servlet/event.showcfp?eventid=16956&copyow
 nerid=28634
UID:cfp198728-E@wikicfp.com
END:VEVENT
BEGIN:VEVENT
DTSTAMP:20260422T003632Z
DTSTART;VALUE=DATE:20111121
SUMMARY:FLAIRS 2012 Deadline
DESCRIPTION:The 25th Florida Artificial Intelligence Research Society Con
 ference
URL:http://www.wikicfp.com/cfp/servlet/event.showcfp?eventid=16956&copyow
 nerid=28634
UID:cfp198728-D@wikicfp.com
END:VEVENT
BEGIN:VEVENT
DTSTAMP:20260422T003632Z
DTSTART;VALUE=DATE:20120120
SUMMARY:FLAIRS 2012 Notification Due
DESCRIPTION:The 25th Florida Artificial Intelligence Research Society Con
 ference
URL:http://www.wikicfp.com/cfp/servlet/event.showcfp?eventid=16956&copyow
 nerid=28634
UID:cfp198728-N@wikicfp.com
END:VEVENT
BEGIN:VEVENT
DTSTAMP:20260422T003632Z
DTSTART;VALUE=DATE:20120220
SUMMARY:FLAIRS 2012 Final Version Due
DESCRIPTION:The 25th Florida Artificial Intelligence Research Society Con
 ference
URL:http://www.wikicfp.com/cfp/servlet/event.showcfp?eventid=16956&copyow
 nerid=28634
UID:cfp198728-N@wikicfp.com
END:VEVENT
BEGIN:VEVENT
DTSTAMP:20260422T003632Z
DTSTART;VALUE=DATE:20120523
DTEND;VALUE=DATE:20120526
SUMMARY:UR 2012
DESCRIPTION:Uncertain Reasoning 2012 - Special Track at FLAIRS-25
URL:http://www.wikicfp.com/cfp/servlet/event.showcfp?eventid=17723&copyow
 nerid=28634
UID:cfp198730-E@wikicfp.com
END:VEVENT
BEGIN:VEVENT
DTSTAMP:20260422T003632Z
DTSTART;VALUE=DATE:20111121
SUMMARY:UR 2012 Deadline
DESCRIPTION:Uncertain Reasoning 2012 - Special Track at FLAIRS-25
URL:http://www.wikicfp.com/cfp/servlet/event.showcfp?eventid=17723&copyow
 nerid=28634
UID:cfp198730-D@wikicfp.com
END:VEVENT
BEGIN:VEVENT
DTSTAMP:20260422T003632Z
DTSTART;VALUE=DATE:20120120
SUMMARY:UR 2012 Notification Due
DESCRIPTION:Uncertain Reasoning 2012 - Special Track at FLAIRS-25
URL:http://www.wikicfp.com/cfp/servlet/event.showcfp?eventid=17723&copyow
 nerid=28634
UID:cfp198730-N@wikicfp.com
END:VEVENT
BEGIN:VEVENT
DTSTAMP:20260422T003632Z
DTSTART;VALUE=DATE:20120220
SUMMARY:UR 2012 Final Version Due
DESCRIPTION:Uncertain Reasoning 2012 - Special Track at FLAIRS-25
URL:http://www.wikicfp.com/cfp/servlet/event.showcfp?eventid=17723&copyow
 nerid=28634
UID:cfp198730-N@wikicfp.com
END:VEVENT
BEGIN:VEVENT
DTSTAMP:20260422T003632Z
DTSTART;VALUE=DATE:20120418
DTEND;VALUE=DATE:20120422
SUMMARY:WEBIST 2012
DESCRIPTION:8th International Conference on Web Information Systems and T
 echnologies (WEBIST)
URL:http://www.wikicfp.com/cfp/servlet/event.showcfp?eventid=17550&copyow
 nerid=28634
UID:cfp198729-E@wikicfp.com
END:VEVENT
BEGIN:VEVENT
DTSTAMP:20260422T003632Z
DTSTART;VALUE=DATE:20111124
SUMMARY:WEBIST 2012 Deadline
DESCRIPTION:8th International Conference on Web Information Systems and T
 echnologies (WEBIST)
URL:http://www.wikicfp.com/cfp/servlet/event.showcfp?eventid=17550&copyow
 nerid=28634
UID:cfp198729-D@wikicfp.com
END:VEVENT
BEGIN:VEVENT
DTSTAMP:20260422T003632Z
DTSTART;VALUE=DATE:20120127
SUMMARY:WEBIST 2012 Notification Due
DESCRIPTION:8th International Conference on Web Information Systems and T
 echnologies (WEBIST)
URL:http://www.wikicfp.com/cfp/servlet/event.showcfp?eventid=17550&copyow
 nerid=28634
UID:cfp198729-N@wikicfp.com
END:VEVENT
BEGIN:VEVENT
DTSTAMP:20260422T003632Z
DTSTART;VALUE=DATE:20120216
SUMMARY:WEBIST 2012 Final Version Due
DESCRIPTION:8th International Conference on Web Information Systems and T
 echnologies (WEBIST)
URL:http://www.wikicfp.com/cfp/servlet/event.showcfp?eventid=17550&copyow
 nerid=28634
UID:cfp198729-N@wikicfp.com
END:VEVENT
BEGIN:VEVENT
DTSTAMP:20260422T003632Z
DTSTART;VALUE=DATE:20120425
DTEND;VALUE=DATE:20120428
SUMMARY:ESANN 2012
DESCRIPTION:European Symposium on Artificial Neural Networks\, Computatio
 nal Intelligence and Machine Learning
URL:http://www.wikicfp.com/cfp/servlet/event.showcfp?eventid=18010&copyow
 nerid=28634
UID:cfp198736-E@wikicfp.com
END:VEVENT
BEGIN:VEVENT
DTSTAMP:20260422T003632Z
DTSTART;VALUE=DATE:20111130
SUMMARY:ESANN 2012 Deadline
DESCRIPTION:European Symposium on Artificial Neural Networks\, Computatio
 nal Intelligence and Machine Learning
URL:http://www.wikicfp.com/cfp/servlet/event.showcfp?eventid=18010&copyow
 nerid=28634
UID:cfp198736-D@wikicfp.com
END:VEVENT
BEGIN:VEVENT
DTSTAMP:20260422T003632Z
DTSTART;VALUE=DATE:20120123
SUMMARY:ESANN 2012 Notification Due
DESCRIPTION:European Symposium on Artificial Neural Networks\, Computatio
 nal Intelligence and Machine Learning
URL:http://www.wikicfp.com/cfp/servlet/event.showcfp?eventid=18010&copyow
 nerid=28634
UID:cfp198736-N@wikicfp.com
END:VEVENT
BEGIN:VEVENT
DTSTAMP:20260422T003632Z
DTSTART;VALUE=DATE:20120704
DTEND;VALUE=DATE:20120707
SUMMARY:ICAS 2012
DESCRIPTION:Second International Workshop on Intelligent Context-Aware Sy
 stems - conjunction with - The 6th International Conference on Complex\,
  Intelligent\, and Software Intensive Systems 
URL:http://www.wikicfp.com/cfp/servlet/event.showcfp?eventid=17934&copyow
 nerid=28634
UID:cfp198732-E@wikicfp.com
END:VEVENT
BEGIN:VEVENT
DTSTAMP:20260422T003632Z
DTSTART;VALUE=DATE:20111201
SUMMARY:ICAS 2012 Deadline
DESCRIPTION:Second International Workshop on Intelligent Context-Aware Sy
 stems - conjunction with - The 6th International Conference on Complex\,
  Intelligent\, and Software Intensive Systems 
URL:http://www.wikicfp.com/cfp/servlet/event.showcfp?eventid=17934&copyow
 nerid=28634
UID:cfp198732-D@wikicfp.com
END:VEVENT
BEGIN:VEVENT
DTSTAMP:20260422T003632Z
DTSTART;VALUE=DATE:20120215
SUMMARY:ICAS 2012 Notification Due
DESCRIPTION:Second International Workshop on Intelligent Context-Aware Sy
 stems - conjunction with - The 6th International Conference on Complex\,
  Intelligent\, and Software Intensive Systems 
URL:http://www.wikicfp.com/cfp/servlet/event.showcfp?eventid=17934&copyow
 nerid=28634
UID:cfp198732-N@wikicfp.com
END:VEVENT
BEGIN:VEVENT
DTSTAMP:20260422T003632Z
DTSTART;VALUE=DATE:20120315
SUMMARY:ICAS 2012 Final Version Due
DESCRIPTION:Second International Workshop on Intelligent Context-Aware Sy
 stems - conjunction with - The 6th International Conference on Complex\,
  Intelligent\, and Software Intensive Systems 
URL:http://www.wikicfp.com/cfp/servlet/event.showcfp?eventid=17934&copyow
 nerid=28634
UID:cfp198732-N@wikicfp.com
END:VEVENT
BEGIN:VEVENT
DTSTAMP:20260422T003632Z
DTSTART;VALUE=DATE:20120610
DTEND;VALUE=DATE:20120615
SUMMARY:KR 2012
DESCRIPTION:13th International Conference on the Principles of Knowledge 
 Representation and Reasoning
URL:http://www.wikicfp.com/cfp/servlet/event.showcfp?eventid=11757&copyow
 nerid=28634
UID:cfp198725-E@wikicfp.com
END:VEVENT
BEGIN:VEVENT
DTSTAMP:20260422T003632Z
DTSTART;VALUE=DATE:20111130
SUMMARY:KR 2012 Abstract Due
DESCRIPTION:13th International Conference on the Principles of Knowledge 
 Representation and Reasoning
URL:http://www.wikicfp.com/cfp/servlet/event.showcfp?eventid=11757&copyow
 nerid=28634
UID:cfp198725-A@wikicfp.com
END:VEVENT
BEGIN:VEVENT
DTSTAMP:20260422T003632Z
DTSTART;VALUE=DATE:20111209
SUMMARY:KR 2012 Deadline
DESCRIPTION:13th International Conference on the Principles of Knowledge 
 Representation and Reasoning
URL:http://www.wikicfp.com/cfp/servlet/event.showcfp?eventid=11757&copyow
 nerid=28634
UID:cfp198725-D@wikicfp.com
END:VEVENT
BEGIN:VEVENT
DTSTAMP:20260422T003632Z
DTSTART;VALUE=DATE:20120203
SUMMARY:KR 2012 Notification Due
DESCRIPTION:13th International Conference on the Principles of Knowledge 
 Representation and Reasoning
URL:http://www.wikicfp.com/cfp/servlet/event.showcfp?eventid=11757&copyow
 nerid=28634
UID:cfp198725-N@wikicfp.com
END:VEVENT
BEGIN:VEVENT
DTSTAMP:20260422T003632Z
DTSTART;VALUE=DATE:20120304
SUMMARY:KR 2012 Final Version Due
DESCRIPTION:13th International Conference on the Principles of Knowledge 
 Representation and Reasoning
URL:http://www.wikicfp.com/cfp/servlet/event.showcfp?eventid=11757&copyow
 nerid=28634
UID:cfp198725-N@wikicfp.com
END:VEVENT
BEGIN:VEVENT
DTSTAMP:20260422T003632Z
DTSTART;VALUE=DATE:20120529
DTEND;VALUE=DATE:20120602
SUMMARY:PAKDD Workshops 2012
DESCRIPTION: The 16th Pacific-Asia Conference on Knowledge Discovery and 
 Data Mining 
URL:http://www.wikicfp.com/cfp/servlet/event.showcfp?eventid=17333&copyow
 nerid=28634
UID:cfp198735-E@wikicfp.com
END:VEVENT
BEGIN:VEVENT
DTSTAMP:20260422T003632Z
DTSTART;VALUE=DATE:20120113
SUMMARY:PAKDD Workshops 2012 Deadline
DESCRIPTION: The 16th Pacific-Asia Conference on Knowledge Discovery and 
 Data Mining 
URL:http://www.wikicfp.com/cfp/servlet/event.showcfp?eventid=17333&copyow
 nerid=28634
UID:cfp198735-D@wikicfp.com
END:VEVENT
BEGIN:VEVENT
DTSTAMP:20260422T003632Z
DTSTART;VALUE=DATE:20120210
SUMMARY:PAKDD Workshops 2012 Notification Due
DESCRIPTION: The 16th Pacific-Asia Conference on Knowledge Discovery and 
 Data Mining 
URL:http://www.wikicfp.com/cfp/servlet/event.showcfp?eventid=17333&copyow
 nerid=28634
UID:cfp198735-N@wikicfp.com
END:VEVENT
BEGIN:VEVENT
DTSTAMP:20260422T003632Z
DTSTART;VALUE=DATE:20120224
SUMMARY:PAKDD Workshops 2012 Final Version Due
DESCRIPTION: The 16th Pacific-Asia Conference on Knowledge Discovery and 
 Data Mining 
URL:http://www.wikicfp.com/cfp/servlet/event.showcfp?eventid=17333&copyow
 nerid=28634
UID:cfp198735-N@wikicfp.com
END:VEVENT
BEGIN:VEVENT
DTSTAMP:20260422T003632Z
DTSTART;VALUE=DATE:20120709
DTEND;VALUE=DATE:20120714
SUMMARY:IPMU 2012
DESCRIPTION:14th International Conference on Information Processing and M
 anagement of Uncertainty in Knowledge-Based Systems
URL:http://www.wikicfp.com/cfp/servlet/event.showcfp?eventid=15611&copyow
 nerid=28634
UID:cfp198727-E@wikicfp.com
END:VEVENT
BEGIN:VEVENT
DTSTAMP:20260422T003632Z
DTSTART;VALUE=DATE:20120115
SUMMARY:IPMU 2012 Deadline
DESCRIPTION:14th International Conference on Information Processing and M
 anagement of Uncertainty in Knowledge-Based Systems
URL:http://www.wikicfp.com/cfp/servlet/event.showcfp?eventid=15611&copyow
 nerid=28634
UID:cfp198727-D@wikicfp.com
END:VEVENT
BEGIN:VEVENT
DTSTAMP:20260422T003632Z
DTSTART;VALUE=DATE:20120225
SUMMARY:IPMU 2012 Notification Due
DESCRIPTION:14th International Conference on Information Processing and M
 anagement of Uncertainty in Knowledge-Based Systems
URL:http://www.wikicfp.com/cfp/servlet/event.showcfp?eventid=15611&copyow
 nerid=28634
UID:cfp198727-N@wikicfp.com
END:VEVENT
BEGIN:VEVENT
DTSTAMP:20260422T003632Z
DTSTART;VALUE=DATE:20120331
SUMMARY:IPMU 2012 Final Version Due
DESCRIPTION:14th International Conference on Information Processing and M
 anagement of Uncertainty in Knowledge-Based Systems
URL:http://www.wikicfp.com/cfp/servlet/event.showcfp?eventid=15611&copyow
 nerid=28634
UID:cfp198727-N@wikicfp.com
END:VEVENT
BEGIN:VEVENT
DTSTAMP:20260422T003632Z
DTSTART;VALUE=DATE:20120827
DTEND;VALUE=DATE:20120901
SUMMARY:ECAI 2012
DESCRIPTION: 20th European Conference on Artificial Intelligence
URL:http://www.wikicfp.com/cfp/servlet/event.showcfp?eventid=11756&copyow
 nerid=28634
UID:cfp198724-E@wikicfp.com
END:VEVENT
BEGIN:VEVENT
DTSTAMP:20260422T003632Z
DTSTART;VALUE=DATE:20120306
SUMMARY:ECAI 2012 Deadline
DESCRIPTION: 20th European Conference on Artificial Intelligence
URL:http://www.wikicfp.com/cfp/servlet/event.showcfp?eventid=11756&copyow
 nerid=28634
UID:cfp198724-D@wikicfp.com
END:VEVENT
BEGIN:VEVENT
DTSTAMP:20260422T003632Z
DTSTART;VALUE=DATE:20120521
SUMMARY:ECAI 2012 Notification Due
DESCRIPTION: 20th European Conference on Artificial Intelligence
URL:http://www.wikicfp.com/cfp/servlet/event.showcfp?eventid=11756&copyow
 nerid=28634
UID:cfp198724-N@wikicfp.com
END:VEVENT
BEGIN:VEVENT
DTSTAMP:20260422T003632Z
DTSTART;VALUE=DATE:20120603
SUMMARY:ECAI 2012 Final Version Due
DESCRIPTION: 20th European Conference on Artificial Intelligence
URL:http://www.wikicfp.com/cfp/servlet/event.showcfp?eventid=11756&copyow
 nerid=28634
UID:cfp198724-N@wikicfp.com
END:VEVENT
BEGIN:VEVENT
DTSTAMP:20260422T003632Z
DTSTART;VALUE=DATE:20120903
DTEND;VALUE=DATE:20120908
SUMMARY:PRICAI 2012
DESCRIPTION:12th PACIFIC RIM INTERNATIONAL CONFERENCE ON  ARTIFICIAL INTE
 LLIGENCE
URL:http://www.wikicfp.com/cfp/servlet/event.showcfp?eventid=17838&copyow
 nerid=28634
UID:cfp198731-E@wikicfp.com
END:VEVENT
BEGIN:VEVENT
DTSTAMP:20260422T003632Z
DTSTART;VALUE=DATE:20120331
SUMMARY:PRICAI 2012 Deadline
DESCRIPTION:12th PACIFIC RIM INTERNATIONAL CONFERENCE ON  ARTIFICIAL INTE
 LLIGENCE
URL:http://www.wikicfp.com/cfp/servlet/event.showcfp?eventid=17838&copyow
 nerid=28634
UID:cfp198731-D@wikicfp.com
END:VEVENT
BEGIN:VEVENT
DTSTAMP:20260422T003632Z
DTSTART;VALUE=DATE:20120515
SUMMARY:PRICAI 2012 Notification Due
DESCRIPTION:12th PACIFIC RIM INTERNATIONAL CONFERENCE ON  ARTIFICIAL INTE
 LLIGENCE
URL:http://www.wikicfp.com/cfp/servlet/event.showcfp?eventid=17838&copyow
 nerid=28634
UID:cfp198731-N@wikicfp.com
END:VEVENT
BEGIN:VEVENT
DTSTAMP:20260422T003632Z
DTSTART;VALUE=DATE:20120521
SUMMARY:PRICAI 2012 Final Version Due
DESCRIPTION:12th PACIFIC RIM INTERNATIONAL CONFERENCE ON  ARTIFICIAL INTE
 LLIGENCE
URL:http://www.wikicfp.com/cfp/servlet/event.showcfp?eventid=17838&copyow
 nerid=28634
UID:cfp198731-N@wikicfp.com
END:VEVENT
END:VCALENDAR
