BEGIN:VCALENDAR
PRODID:-//WikiCFP//berndbohnet 1.0//EN
VERSION:2.0
CALSCALE:GREGORIAN
BEGIN:VEVENT
DTSTAMP:20260426T023846Z
DTSTART;VALUE=DATE:20090711
DTEND;VALUE=DATE:20090718
SUMMARY:IJCAI 2009
DESCRIPTION:TWENTY FIRST INTERNATIONAL JOINT CONFERENCE ON ARTIFICIAL INT
 ELLIGENCE
URL:http://www.wikicfp.com/cfp/servlet/event.showcfp?eventid=3554&copyown
 erid=2843
UID:cfp22464-E@wikicfp.com
END:VEVENT
BEGIN:VEVENT
DTSTAMP:20260426T023846Z
DTSTART;VALUE=DATE:20090107
SUMMARY:IJCAI 2009 Abstract Due
DESCRIPTION:TWENTY FIRST INTERNATIONAL JOINT CONFERENCE ON ARTIFICIAL INT
 ELLIGENCE
URL:http://www.wikicfp.com/cfp/servlet/event.showcfp?eventid=3554&copyown
 erid=2843
UID:cfp22464-A@wikicfp.com
END:VEVENT
BEGIN:VEVENT
DTSTAMP:20260426T023846Z
DTSTART;VALUE=DATE:20090112
SUMMARY:IJCAI 2009 Deadline
DESCRIPTION:TWENTY FIRST INTERNATIONAL JOINT CONFERENCE ON ARTIFICIAL INT
 ELLIGENCE
URL:http://www.wikicfp.com/cfp/servlet/event.showcfp?eventid=3554&copyown
 erid=2843
UID:cfp22464-D@wikicfp.com
END:VEVENT
BEGIN:VEVENT
DTSTAMP:20260426T023846Z
DTSTART;VALUE=DATE:20090317
SUMMARY:IJCAI 2009 Notification Due
DESCRIPTION:TWENTY FIRST INTERNATIONAL JOINT CONFERENCE ON ARTIFICIAL INT
 ELLIGENCE
URL:http://www.wikicfp.com/cfp/servlet/event.showcfp?eventid=3554&copyown
 erid=2843
UID:cfp22464-N@wikicfp.com
END:VEVENT
BEGIN:VEVENT
DTSTAMP:20260426T023846Z
DTSTART;VALUE=DATE:20090414
SUMMARY:IJCAI 2009 Final Version Due
DESCRIPTION:TWENTY FIRST INTERNATIONAL JOINT CONFERENCE ON ARTIFICIAL INT
 ELLIGENCE
URL:http://www.wikicfp.com/cfp/servlet/event.showcfp?eventid=3554&copyown
 erid=2843
UID:cfp22464-N@wikicfp.com
END:VEVENT
BEGIN:VEVENT
DTSTAMP:20260426T023846Z
DTSTART;VALUE=DATE:20090422
DTEND;VALUE=DATE:20090424
SUMMARY:AIAEP 2009
DESCRIPTION:1st Workshop on Artificial Intelligence Applications in Envir
 onmental Protection
URL:http://www.wikicfp.com/cfp/servlet/event.showcfp?eventid=4396&copyown
 erid=2843
UID:cfp22463-E@wikicfp.com
END:VEVENT
BEGIN:VEVENT
DTSTAMP:20260426T023846Z
DTSTART;VALUE=DATE:20090206
SUMMARY:AIAEP 2009 Deadline
DESCRIPTION:1st Workshop on Artificial Intelligence Applications in Envir
 onmental Protection
URL:http://www.wikicfp.com/cfp/servlet/event.showcfp?eventid=4396&copyown
 erid=2843
UID:cfp22463-D@wikicfp.com
END:VEVENT
BEGIN:VEVENT
DTSTAMP:20260426T023846Z
DTSTART;VALUE=DATE:20090306
SUMMARY:AIAEP 2009 Notification Due
DESCRIPTION:1st Workshop on Artificial Intelligence Applications in Envir
 onmental Protection
URL:http://www.wikicfp.com/cfp/servlet/event.showcfp?eventid=4396&copyown
 erid=2843
UID:cfp22463-N@wikicfp.com
END:VEVENT
BEGIN:VEVENT
DTSTAMP:20260426T023846Z
DTSTART;VALUE=DATE:20090327
SUMMARY:AIAEP 2009 Final Version Due
DESCRIPTION:1st Workshop on Artificial Intelligence Applications in Envir
 onmental Protection
URL:http://www.wikicfp.com/cfp/servlet/event.showcfp?eventid=4396&copyown
 erid=2843
UID:cfp22463-N@wikicfp.com
END:VEVENT
BEGIN:VEVENT
DTSTAMP:20260426T023846Z
DTSTART;VALUE=DATE:20090713
DTEND;VALUE=DATE:20090717
SUMMARY:ICAI 2009
DESCRIPTION:The International Conference on Artificial Intelligence
URL:http://www.wikicfp.com/cfp/servlet/event.showcfp?eventid=4151&copyown
 erid=2843
UID:cfp22462-E@wikicfp.com
END:VEVENT
BEGIN:VEVENT
DTSTAMP:20260426T023846Z
DTSTART;VALUE=DATE:20090225
SUMMARY:ICAI 2009 Deadline
DESCRIPTION:The International Conference on Artificial Intelligence
URL:http://www.wikicfp.com/cfp/servlet/event.showcfp?eventid=4151&copyown
 erid=2843
UID:cfp22462-D@wikicfp.com
END:VEVENT
BEGIN:VEVENT
DTSTAMP:20260426T023846Z
DTSTART;VALUE=DATE:20090325
SUMMARY:ICAI 2009 Notification Due
DESCRIPTION:The International Conference on Artificial Intelligence
URL:http://www.wikicfp.com/cfp/servlet/event.showcfp?eventid=4151&copyown
 erid=2843
UID:cfp22462-N@wikicfp.com
END:VEVENT
BEGIN:VEVENT
DTSTAMP:20260426T023846Z
DTSTART;VALUE=DATE:20090425
SUMMARY:ICAI 2009 Final Version Due
DESCRIPTION:The International Conference on Artificial Intelligence
URL:http://www.wikicfp.com/cfp/servlet/event.showcfp?eventid=4151&copyown
 erid=2843
UID:cfp22462-N@wikicfp.com
END:VEVENT
BEGIN:VEVENT
DTSTAMP:20260426T023846Z
DTSTART;VALUE=DATE:20090604
DTEND;VALUE=DATE:20090606
SUMMARY:CoNLL 2009
DESCRIPTION:Thirteenth Conference on Computational Natural Language Learn
 ing
URL:http://www.wikicfp.com/cfp/servlet/event.showcfp?eventid=4212&copyown
 erid=2843
UID:cfp22461-E@wikicfp.com
END:VEVENT
BEGIN:VEVENT
DTSTAMP:20260426T023846Z
DTSTART;VALUE=DATE:20090304
SUMMARY:CoNLL 2009 Deadline
DESCRIPTION:Thirteenth Conference on Computational Natural Language Learn
 ing
URL:http://www.wikicfp.com/cfp/servlet/event.showcfp?eventid=4212&copyown
 erid=2843
UID:cfp22461-D@wikicfp.com
END:VEVENT
BEGIN:VEVENT
DTSTAMP:20260426T023846Z
DTSTART;VALUE=DATE:20090403
SUMMARY:CoNLL 2009 Notification Due
DESCRIPTION:Thirteenth Conference on Computational Natural Language Learn
 ing
URL:http://www.wikicfp.com/cfp/servlet/event.showcfp?eventid=4212&copyown
 erid=2843
UID:cfp22461-N@wikicfp.com
END:VEVENT
BEGIN:VEVENT
DTSTAMP:20260426T023846Z
DTSTART;VALUE=DATE:20090415
SUMMARY:CoNLL 2009 Final Version Due
DESCRIPTION:Thirteenth Conference on Computational Natural Language Learn
 ing
URL:http://www.wikicfp.com/cfp/servlet/event.showcfp?eventid=4212&copyown
 erid=2843
UID:cfp22461-N@wikicfp.com
END:VEVENT
BEGIN:VEVENT
DTSTAMP:20260426T023846Z
DTSTART;VALUE=DATE:20090605
DTEND;VALUE=DATE:20090606
SUMMARY:SSST-3 2009
DESCRIPTION:Third Workshop on Syntax and Structure in Statistical Transla
 tion
URL:http://www.wikicfp.com/cfp/servlet/event.showcfp?eventid=4105&copyown
 erid=2843
UID:cfp22460-E@wikicfp.com
END:VEVENT
BEGIN:VEVENT
DTSTAMP:20260426T023846Z
DTSTART;VALUE=DATE:20090315
SUMMARY:SSST-3 2009 Deadline
DESCRIPTION:Third Workshop on Syntax and Structure in Statistical Transla
 tion
URL:http://www.wikicfp.com/cfp/servlet/event.showcfp?eventid=4105&copyown
 erid=2843
UID:cfp22460-D@wikicfp.com
END:VEVENT
BEGIN:VEVENT
DTSTAMP:20260426T023846Z
DTSTART;VALUE=DATE:20090330
SUMMARY:SSST-3 2009 Notification Due
DESCRIPTION:Third Workshop on Syntax and Structure in Statistical Transla
 tion
URL:http://www.wikicfp.com/cfp/servlet/event.showcfp?eventid=4105&copyown
 erid=2843
UID:cfp22460-N@wikicfp.com
END:VEVENT
BEGIN:VEVENT
DTSTAMP:20260426T023846Z
DTSTART;VALUE=DATE:20090412
SUMMARY:SSST-3 2009 Final Version Due
DESCRIPTION:Third Workshop on Syntax and Structure in Statistical Transla
 tion
URL:http://www.wikicfp.com/cfp/servlet/event.showcfp?eventid=4105&copyown
 erid=2843
UID:cfp22460-N@wikicfp.com
END:VEVENT
BEGIN:VEVENT
DTSTAMP:20260426T023846Z
DTSTART;VALUE=DATE:20090914
DTEND;VALUE=DATE:20090917
SUMMARY:ICSC 2009
DESCRIPTION:Third IEEE International Conference on Semantic Computing
URL:http://www.wikicfp.com/cfp/servlet/event.showcfp?eventid=4282&copyown
 erid=2843
UID:cfp22459-E@wikicfp.com
END:VEVENT
BEGIN:VEVENT
DTSTAMP:20260426T023846Z
DTSTART;VALUE=DATE:20090501
SUMMARY:ICSC 2009 Deadline
DESCRIPTION:Third IEEE International Conference on Semantic Computing
URL:http://www.wikicfp.com/cfp/servlet/event.showcfp?eventid=4282&copyown
 erid=2843
UID:cfp22459-D@wikicfp.com
END:VEVENT
BEGIN:VEVENT
DTSTAMP:20260426T023846Z
DTSTART;VALUE=DATE:20090713
DTEND;VALUE=DATE:20090717
SUMMARY:AIPR 2009
DESCRIPTION:International Conference on Artificial Intelligence and Patte
 rn Recognition 
URL:http://www.wikicfp.com/cfp/servlet/event.showcfp?eventid=3912&copyown
 erid=2843
UID:cfp22465-E@wikicfp.com
END:VEVENT
BEGIN:VEVENT
DTSTAMP:20260426T023846Z
DTSTART;VALUE=DATE:20090511
SUMMARY:AIPR 2009 Deadline
DESCRIPTION:International Conference on Artificial Intelligence and Patte
 rn Recognition 
URL:http://www.wikicfp.com/cfp/servlet/event.showcfp?eventid=3912&copyown
 erid=2843
UID:cfp22465-D@wikicfp.com
END:VEVENT
END:VCALENDAR
