BEGIN:VCALENDAR
PRODID:-//WikiCFP//chtsai 1.0//EN
VERSION:2.0
CALSCALE:GREGORIAN
BEGIN:VEVENT
DTSTAMP:20260424T221154Z
DTSTART;VALUE=DATE:20110801
DTEND;VALUE=DATE:20120101
SUMMARY:CIE 2012
DESCRIPTION:SPECIAL ISSUE ON MOBILE AUGMENTED REALITY IN ENTERTAINMENT
URL:http://www.wikicfp.com/cfp/servlet/event.showcfp?eventid=17928&copyow
 nerid=28412
UID:cfp197094-E@wikicfp.com
END:VEVENT
BEGIN:VEVENT
DTSTAMP:20260424T221154Z
DTSTART;VALUE=DATE:20111015
SUMMARY:CIE 2012 Deadline
DESCRIPTION:SPECIAL ISSUE ON MOBILE AUGMENTED REALITY IN ENTERTAINMENT
URL:http://www.wikicfp.com/cfp/servlet/event.showcfp?eventid=17928&copyow
 nerid=28412
UID:cfp197094-D@wikicfp.com
END:VEVENT
BEGIN:VEVENT
DTSTAMP:20260424T221154Z
DTSTART;VALUE=DATE:20111115
SUMMARY:CIE 2012 Notification Due
DESCRIPTION:SPECIAL ISSUE ON MOBILE AUGMENTED REALITY IN ENTERTAINMENT
URL:http://www.wikicfp.com/cfp/servlet/event.showcfp?eventid=17928&copyow
 nerid=28412
UID:cfp197094-N@wikicfp.com
END:VEVENT
END:VCALENDAR
