BEGIN:VCALENDAR
PRODID:-//WikiCFP//LaetitiaLamard 1.0//EN
VERSION:2.0
CALSCALE:GREGORIAN
BEGIN:VEVENT
DTSTAMP:20260424T204347Z
DTSTART;VALUE=DATE:20130626
DTEND;VALUE=DATE:20130629
SUMMARY:IAV 2013
DESCRIPTION:IFAC Symposium on Intelligent Autonomous Vehicles
URL:http://www.wikicfp.com/cfp/servlet/event.showcfp?eventid=20610&copyow
 nerid=28269
UID:cfp259988-E@wikicfp.com
END:VEVENT
BEGIN:VEVENT
DTSTAMP:20260424T204347Z
DTSTART;VALUE=DATE:20130506
DTEND;VALUE=DATE:20130511
SUMMARY:ICRA 2013
DESCRIPTION:The 2013 IEEE International Conference on Robotics and Automa
 tion 
URL:http://www.wikicfp.com/cfp/servlet/event.showcfp?eventid=18929&copyow
 nerid=28269
UID:cfp259982-E@wikicfp.com
END:VEVENT
BEGIN:VEVENT
DTSTAMP:20260424T204347Z
DTSTART;VALUE=DATE:20120917
SUMMARY:ICRA 2013 Deadline
DESCRIPTION:The 2013 IEEE International Conference on Robotics and Automa
 tion 
URL:http://www.wikicfp.com/cfp/servlet/event.showcfp?eventid=18929&copyow
 nerid=28269
UID:cfp259982-D@wikicfp.com
END:VEVENT
BEGIN:VEVENT
DTSTAMP:20260424T204347Z
DTSTART;VALUE=DATE:20130107
SUMMARY:ICRA 2013 Notification Due
DESCRIPTION:The 2013 IEEE International Conference on Robotics and Automa
 tion 
URL:http://www.wikicfp.com/cfp/servlet/event.showcfp?eventid=18929&copyow
 nerid=28269
UID:cfp259982-N@wikicfp.com
END:VEVENT
BEGIN:VEVENT
DTSTAMP:20260424T204347Z
DTSTART;VALUE=DATE:20130211
SUMMARY:ICRA 2013 Final Version Due
DESCRIPTION:The 2013 IEEE International Conference on Robotics and Automa
 tion 
URL:http://www.wikicfp.com/cfp/servlet/event.showcfp?eventid=18929&copyow
 nerid=28269
UID:cfp259982-N@wikicfp.com
END:VEVENT
BEGIN:VEVENT
DTSTAMP:20260424T204347Z
DTSTART;VALUE=DATE:20130617
DTEND;VALUE=DATE:20130620
SUMMARY:ACC 2013
DESCRIPTION:The 2013 American Control Conference
URL:http://www.wikicfp.com/cfp/servlet/event.showcfp?eventid=22378&copyow
 nerid=28269
UID:cfp259981-E@wikicfp.com
END:VEVENT
BEGIN:VEVENT
DTSTAMP:20260424T204347Z
DTSTART;VALUE=DATE:20120917
SUMMARY:ACC 2013 Deadline
DESCRIPTION:The 2013 American Control Conference
URL:http://www.wikicfp.com/cfp/servlet/event.showcfp?eventid=22378&copyow
 nerid=28269
UID:cfp259981-D@wikicfp.com
END:VEVENT
BEGIN:VEVENT
DTSTAMP:20260424T204347Z
DTSTART;VALUE=DATE:20130131
SUMMARY:ACC 2013 Notification Due
DESCRIPTION:The 2013 American Control Conference
URL:http://www.wikicfp.com/cfp/servlet/event.showcfp?eventid=22378&copyow
 nerid=28269
UID:cfp259981-N@wikicfp.com
END:VEVENT
BEGIN:VEVENT
DTSTAMP:20260424T204347Z
DTSTART;VALUE=DATE:20130315
SUMMARY:ACC 2013 Final Version Due
DESCRIPTION:The 2013 American Control Conference
URL:http://www.wikicfp.com/cfp/servlet/event.showcfp?eventid=22378&copyow
 nerid=28269
UID:cfp259981-N@wikicfp.com
END:VEVENT
BEGIN:VEVENT
DTSTAMP:20260424T204347Z
DTSTART;VALUE=DATE:20130626
DTEND;VALUE=DATE:20130629
SUMMARY:IV 2013
DESCRIPTION:IEEE Intelligent Vehicles Symposium 2013
URL:http://www.wikicfp.com/cfp/servlet/event.showcfp?eventid=22453&copyow
 nerid=28269
UID:cfp259986-E@wikicfp.com
END:VEVENT
BEGIN:VEVENT
DTSTAMP:20260424T204347Z
DTSTART;VALUE=DATE:20121125
SUMMARY:IV 2013 Deadline
DESCRIPTION:IEEE Intelligent Vehicles Symposium 2013
URL:http://www.wikicfp.com/cfp/servlet/event.showcfp?eventid=22453&copyow
 nerid=28269
UID:cfp259986-D@wikicfp.com
END:VEVENT
BEGIN:VEVENT
DTSTAMP:20260424T204347Z
DTSTART;VALUE=DATE:20130115
SUMMARY:IV 2013 Notification Due
DESCRIPTION:IEEE Intelligent Vehicles Symposium 2013
URL:http://www.wikicfp.com/cfp/servlet/event.showcfp?eventid=22453&copyow
 nerid=28269
UID:cfp259986-N@wikicfp.com
END:VEVENT
BEGIN:VEVENT
DTSTAMP:20260424T204347Z
DTSTART;VALUE=DATE:20130228
SUMMARY:IV 2013 Final Version Due
DESCRIPTION:IEEE Intelligent Vehicles Symposium 2013
URL:http://www.wikicfp.com/cfp/servlet/event.showcfp?eventid=22453&copyow
 nerid=28269
UID:cfp259986-N@wikicfp.com
END:VEVENT
BEGIN:VEVENT
DTSTAMP:20260424T204347Z
DTSTART;VALUE=DATE:20130709
DTEND;VALUE=DATE:20130713
SUMMARY:FUSION 2013
DESCRIPTION:16th International Conference on Information Fusion
URL:http://www.wikicfp.com/cfp/servlet/event.showcfp?eventid=22113&copyow
 nerid=28269
UID:cfp259983-E@wikicfp.com
END:VEVENT
BEGIN:VEVENT
DTSTAMP:20260424T204347Z
DTSTART;VALUE=DATE:20130301
SUMMARY:FUSION 2013 Deadline
DESCRIPTION:16th International Conference on Information Fusion
URL:http://www.wikicfp.com/cfp/servlet/event.showcfp?eventid=22113&copyow
 nerid=28269
UID:cfp259983-D@wikicfp.com
END:VEVENT
BEGIN:VEVENT
DTSTAMP:20260424T204347Z
DTSTART;VALUE=DATE:20130415
SUMMARY:FUSION 2013 Notification Due
DESCRIPTION:16th International Conference on Information Fusion
URL:http://www.wikicfp.com/cfp/servlet/event.showcfp?eventid=22113&copyow
 nerid=28269
UID:cfp259983-N@wikicfp.com
END:VEVENT
BEGIN:VEVENT
DTSTAMP:20260424T204347Z
DTSTART;VALUE=DATE:20130515
SUMMARY:FUSION 2013 Final Version Due
DESCRIPTION:16th International Conference on Information Fusion
URL:http://www.wikicfp.com/cfp/servlet/event.showcfp?eventid=22113&copyow
 nerid=28269
UID:cfp259983-N@wikicfp.com
END:VEVENT
BEGIN:VEVENT
DTSTAMP:20260424T204347Z
DTSTART;VALUE=DATE:20131006
DTEND;VALUE=DATE:20131010
SUMMARY:ITSC 2013
DESCRIPTION:16th International IEEE Conference on Intelligent Transportat
 ion Systems
URL:http://www.wikicfp.com/cfp/servlet/event.showcfp?eventid=21341&copyow
 nerid=28269
UID:cfp259987-E@wikicfp.com
END:VEVENT
BEGIN:VEVENT
DTSTAMP:20260424T204347Z
DTSTART;VALUE=DATE:20130315
SUMMARY:ITSC 2013 Deadline
DESCRIPTION:16th International IEEE Conference on Intelligent Transportat
 ion Systems
URL:http://www.wikicfp.com/cfp/servlet/event.showcfp?eventid=21341&copyow
 nerid=28269
UID:cfp259987-D@wikicfp.com
END:VEVENT
BEGIN:VEVENT
DTSTAMP:20260424T204347Z
DTSTART;VALUE=DATE:20130601
SUMMARY:ITSC 2013 Notification Due
DESCRIPTION:16th International IEEE Conference on Intelligent Transportat
 ion Systems
URL:http://www.wikicfp.com/cfp/servlet/event.showcfp?eventid=21341&copyow
 nerid=28269
UID:cfp259987-N@wikicfp.com
END:VEVENT
BEGIN:VEVENT
DTSTAMP:20260424T204347Z
DTSTART;VALUE=DATE:20130701
SUMMARY:ITSC 2013 Final Version Due
DESCRIPTION:16th International IEEE Conference on Intelligent Transportat
 ion Systems
URL:http://www.wikicfp.com/cfp/servlet/event.showcfp?eventid=21341&copyow
 nerid=28269
UID:cfp259987-N@wikicfp.com
END:VEVENT
BEGIN:VEVENT
DTSTAMP:20260424T204347Z
DTSTART;VALUE=DATE:20131103
DTEND;VALUE=DATE:20131108
SUMMARY:IROS 2013
DESCRIPTION:IEEE/RSJ International Conference on Intelligent Robots and S
 ystems
URL:http://www.wikicfp.com/cfp/servlet/event.showcfp?eventid=25414&copyow
 nerid=28269
UID:cfp294170-E@wikicfp.com
END:VEVENT
BEGIN:VEVENT
DTSTAMP:20260424T204347Z
DTSTART;VALUE=DATE:20130322
SUMMARY:IROS 2013 Deadline
DESCRIPTION:IEEE/RSJ International Conference on Intelligent Robots and S
 ystems
URL:http://www.wikicfp.com/cfp/servlet/event.showcfp?eventid=25414&copyow
 nerid=28269
UID:cfp294170-D@wikicfp.com
END:VEVENT
BEGIN:VEVENT
DTSTAMP:20260424T204347Z
DTSTART;VALUE=DATE:20130701
SUMMARY:IROS 2013 Notification Due
DESCRIPTION:IEEE/RSJ International Conference on Intelligent Robots and S
 ystems
URL:http://www.wikicfp.com/cfp/servlet/event.showcfp?eventid=25414&copyow
 nerid=28269
UID:cfp294170-N@wikicfp.com
END:VEVENT
BEGIN:VEVENT
DTSTAMP:20260424T204347Z
DTSTART;VALUE=DATE:20130731
SUMMARY:IROS 2013 Final Version Due
DESCRIPTION:IEEE/RSJ International Conference on Intelligent Robots and S
 ystems
URL:http://www.wikicfp.com/cfp/servlet/event.showcfp?eventid=25414&copyow
 nerid=28269
UID:cfp294170-N@wikicfp.com
END:VEVENT
BEGIN:VEVENT
DTSTAMP:20260424T204347Z
DTSTART;VALUE=DATE:20151013
DTEND;VALUE=DATE:20151017
SUMMARY:IPIN 2015
DESCRIPTION:International Conference on Indoor Positioning and Indoor Nav
 igation
URL:http://www.wikicfp.com/cfp/servlet/event.showcfp?eventid=44225&copyow
 nerid=28269
UID:cfp550658-E@wikicfp.com
END:VEVENT
BEGIN:VEVENT
DTSTAMP:20260424T204347Z
DTSTART;VALUE=DATE:20150416
SUMMARY:IPIN 2015 Abstract Due
DESCRIPTION:International Conference on Indoor Positioning and Indoor Nav
 igation
URL:http://www.wikicfp.com/cfp/servlet/event.showcfp?eventid=44225&copyow
 nerid=28269
UID:cfp550658-A@wikicfp.com
END:VEVENT
BEGIN:VEVENT
DTSTAMP:20260424T204347Z
DTSTART;VALUE=DATE:20150626
SUMMARY:IPIN 2015 Deadline
DESCRIPTION:International Conference on Indoor Positioning and Indoor Nav
 igation
URL:http://www.wikicfp.com/cfp/servlet/event.showcfp?eventid=44225&copyow
 nerid=28269
UID:cfp550658-D@wikicfp.com
END:VEVENT
BEGIN:VEVENT
DTSTAMP:20260424T204347Z
DTSTART;VALUE=DATE:20150725
SUMMARY:IPIN 2015 Notification Due
DESCRIPTION:International Conference on Indoor Positioning and Indoor Nav
 igation
URL:http://www.wikicfp.com/cfp/servlet/event.showcfp?eventid=44225&copyow
 nerid=28269
UID:cfp550658-N@wikicfp.com
END:VEVENT
END:VCALENDAR
