BEGIN:VCALENDAR
PRODID:-//WikiCFP//pakeunji 1.0//EN
VERSION:2.0
CALSCALE:GREGORIAN
BEGIN:VEVENT
DTSTAMP:20260422T130657Z
DTSTART;VALUE=DATE:20110410
DTEND;VALUE=DATE:20110411
SUMMARY:SFMA 2011
DESCRIPTION:Workshop on Systems for Future Multi-Core Architectures
URL:http://www.wikicfp.com/cfp/servlet/event.showcfp?eventid=13406&copyow
 nerid=28255
UID:cfp196054-E@wikicfp.com
END:VEVENT
BEGIN:VEVENT
DTSTAMP:20260422T130657Z
DTSTART;VALUE=DATE:20110201
SUMMARY:SFMA 2011 Deadline
DESCRIPTION:Workshop on Systems for Future Multi-Core Architectures
URL:http://www.wikicfp.com/cfp/servlet/event.showcfp?eventid=13406&copyow
 nerid=28255
UID:cfp196054-D@wikicfp.com
END:VEVENT
BEGIN:VEVENT
DTSTAMP:20260422T130657Z
DTSTART;VALUE=DATE:20110301
SUMMARY:SFMA 2011 Notification Due
DESCRIPTION:Workshop on Systems for Future Multi-Core Architectures
URL:http://www.wikicfp.com/cfp/servlet/event.showcfp?eventid=13406&copyow
 nerid=28255
UID:cfp196054-N@wikicfp.com
END:VEVENT
BEGIN:VEVENT
DTSTAMP:20260422T130657Z
DTSTART;VALUE=DATE:20110401
SUMMARY:SFMA 2011 Final Version Due
DESCRIPTION:Workshop on Systems for Future Multi-Core Architectures
URL:http://www.wikicfp.com/cfp/servlet/event.showcfp?eventid=13406&copyow
 nerid=28255
UID:cfp196054-N@wikicfp.com
END:VEVENT
BEGIN:VEVENT
DTSTAMP:20260422T130657Z
DTSTART;VALUE=DATE:20111203
DTEND;VALUE=DATE:20111208
SUMMARY:MICRO 2011
DESCRIPTION:The 44th Annual IEEE/ACM International Symposium on Microarch
 itecture\, 2011
URL:http://www.wikicfp.com/cfp/servlet/event.showcfp?eventid=14337&copyow
 nerid=28255
UID:cfp196047-E@wikicfp.com
END:VEVENT
BEGIN:VEVENT
DTSTAMP:20260422T130657Z
DTSTART;VALUE=DATE:20110525
SUMMARY:MICRO 2011 Abstract Due
DESCRIPTION:The 44th Annual IEEE/ACM International Symposium on Microarch
 itecture\, 2011
URL:http://www.wikicfp.com/cfp/servlet/event.showcfp?eventid=14337&copyow
 nerid=28255
UID:cfp196047-A@wikicfp.com
END:VEVENT
BEGIN:VEVENT
DTSTAMP:20260422T130657Z
DTSTART;VALUE=DATE:20110601
SUMMARY:MICRO 2011 Deadline
DESCRIPTION:The 44th Annual IEEE/ACM International Symposium on Microarch
 itecture\, 2011
URL:http://www.wikicfp.com/cfp/servlet/event.showcfp?eventid=14337&copyow
 nerid=28255
UID:cfp196047-D@wikicfp.com
END:VEVENT
BEGIN:VEVENT
DTSTAMP:20260422T130657Z
DTSTART;VALUE=DATE:20110902
SUMMARY:MICRO 2011 Notification Due
DESCRIPTION:The 44th Annual IEEE/ACM International Symposium on Microarch
 itecture\, 2011
URL:http://www.wikicfp.com/cfp/servlet/event.showcfp?eventid=14337&copyow
 nerid=28255
UID:cfp196047-N@wikicfp.com
END:VEVENT
BEGIN:VEVENT
DTSTAMP:20260422T130657Z
DTSTART;VALUE=DATE:20120123
DTEND;VALUE=DATE:20120126
SUMMARY:HiPEAC 2012
DESCRIPTION:7th International Conference on High-Performance and Embedded
  Architectures and Compi
URL:http://www.wikicfp.com/cfp/servlet/event.showcfp?eventid=16157&copyow
 nerid=28255
UID:cfp196050-E@wikicfp.com
END:VEVENT
BEGIN:VEVENT
DTSTAMP:20260422T130657Z
DTSTART;VALUE=DATE:20110715
SUMMARY:HiPEAC 2012 Deadline
DESCRIPTION:7th International Conference on High-Performance and Embedded
  Architectures and Compi
URL:http://www.wikicfp.com/cfp/servlet/event.showcfp?eventid=16157&copyow
 nerid=28255
UID:cfp196050-D@wikicfp.com
END:VEVENT
BEGIN:VEVENT
DTSTAMP:20260422T130657Z
DTSTART;VALUE=DATE:20120303
DTEND;VALUE=DATE:20120308
SUMMARY:ASPLOS 2012
DESCRIPTION:Architectural Support for Programming Languages and Operating
  Systems
URL:http://www.wikicfp.com/cfp/servlet/event.showcfp?eventid=16050&copyow
 nerid=28255
UID:cfp196048-E@wikicfp.com
END:VEVENT
BEGIN:VEVENT
DTSTAMP:20260422T130657Z
DTSTART;VALUE=DATE:20110718
SUMMARY:ASPLOS 2012 Abstract Due
DESCRIPTION:Architectural Support for Programming Languages and Operating
  Systems
URL:http://www.wikicfp.com/cfp/servlet/event.showcfp?eventid=16050&copyow
 nerid=28255
UID:cfp196048-A@wikicfp.com
END:VEVENT
BEGIN:VEVENT
DTSTAMP:20260422T130657Z
DTSTART;VALUE=DATE:20110725
SUMMARY:ASPLOS 2012 Deadline
DESCRIPTION:Architectural Support for Programming Languages and Operating
  Systems
URL:http://www.wikicfp.com/cfp/servlet/event.showcfp?eventid=16050&copyow
 nerid=28255
UID:cfp196048-D@wikicfp.com
END:VEVENT
BEGIN:VEVENT
DTSTAMP:20260422T130657Z
DTSTART;VALUE=DATE:20111028
SUMMARY:ASPLOS 2012 Notification Due
DESCRIPTION:Architectural Support for Programming Languages and Operating
  Systems
URL:http://www.wikicfp.com/cfp/servlet/event.showcfp?eventid=16050&copyow
 nerid=28255
UID:cfp196048-N@wikicfp.com
END:VEVENT
BEGIN:VEVENT
DTSTAMP:20260422T130657Z
DTSTART;VALUE=DATE:20120113
SUMMARY:ASPLOS 2012 Final Version Due
DESCRIPTION:Architectural Support for Programming Languages and Operating
  Systems
URL:http://www.wikicfp.com/cfp/servlet/event.showcfp?eventid=16050&copyow
 nerid=28255
UID:cfp196048-N@wikicfp.com
END:VEVENT
BEGIN:VEVENT
DTSTAMP:20260422T130657Z
DTSTART;VALUE=DATE:20120225
DTEND;VALUE=DATE:20120301
SUMMARY:HPCA 2012
DESCRIPTION:IEEE 18th International Symposium on High Performance Compute
 r Architecture
URL:http://www.wikicfp.com/cfp/servlet/event.showcfp?eventid=16077&copyow
 nerid=28255
UID:cfp196049-E@wikicfp.com
END:VEVENT
BEGIN:VEVENT
DTSTAMP:20260422T130657Z
DTSTART;VALUE=DATE:20110824
SUMMARY:HPCA 2012 Abstract Due
DESCRIPTION:IEEE 18th International Symposium on High Performance Compute
 r Architecture
URL:http://www.wikicfp.com/cfp/servlet/event.showcfp?eventid=16077&copyow
 nerid=28255
UID:cfp196049-A@wikicfp.com
END:VEVENT
BEGIN:VEVENT
DTSTAMP:20260422T130657Z
DTSTART;VALUE=DATE:20110831
SUMMARY:HPCA 2012 Deadline
DESCRIPTION:IEEE 18th International Symposium on High Performance Compute
 r Architecture
URL:http://www.wikicfp.com/cfp/servlet/event.showcfp?eventid=16077&copyow
 nerid=28255
UID:cfp196049-D@wikicfp.com
END:VEVENT
BEGIN:VEVENT
DTSTAMP:20260422T130657Z
DTSTART;VALUE=DATE:20111109
SUMMARY:HPCA 2012 Notification Due
DESCRIPTION:IEEE 18th International Symposium on High Performance Compute
 r Architecture
URL:http://www.wikicfp.com/cfp/servlet/event.showcfp?eventid=16077&copyow
 nerid=28255
UID:cfp196049-N@wikicfp.com
END:VEVENT
BEGIN:VEVENT
DTSTAMP:20260422T130657Z
DTSTART;VALUE=DATE:20110619
DTEND;VALUE=DATE:20110920
SUMMARY:AILC 2012
DESCRIPTION:3RD  ANNUAL INTERNATIONAL  LECTURE ON COMPUTER ARCHITECTURE
URL:http://www.wikicfp.com/cfp/servlet/event.showcfp?eventid=17541&copyow
 nerid=28255
UID:cfp196052-E@wikicfp.com
END:VEVENT
BEGIN:VEVENT
DTSTAMP:20260422T130657Z
DTSTART;VALUE=DATE:20110910
SUMMARY:AILC 2012 Deadline
DESCRIPTION:3RD  ANNUAL INTERNATIONAL  LECTURE ON COMPUTER ARCHITECTURE
URL:http://www.wikicfp.com/cfp/servlet/event.showcfp?eventid=17541&copyow
 nerid=28255
UID:cfp196052-D@wikicfp.com
END:VEVENT
BEGIN:VEVENT
DTSTAMP:20260422T130657Z
DTSTART;VALUE=DATE:20110910
SUMMARY:AILC 2012 Notification Due
DESCRIPTION:3RD  ANNUAL INTERNATIONAL  LECTURE ON COMPUTER ARCHITECTURE
URL:http://www.wikicfp.com/cfp/servlet/event.showcfp?eventid=17541&copyow
 nerid=28255
UID:cfp196052-N@wikicfp.com
END:VEVENT
BEGIN:VEVENT
DTSTAMP:20260422T130657Z
DTSTART;VALUE=DATE:20110910
SUMMARY:AILC 2012 Final Version Due
DESCRIPTION:3RD  ANNUAL INTERNATIONAL  LECTURE ON COMPUTER ARCHITECTURE
URL:http://www.wikicfp.com/cfp/servlet/event.showcfp?eventid=17541&copyow
 nerid=28255
UID:cfp196052-N@wikicfp.com
END:VEVENT
BEGIN:VEVENT
DTSTAMP:20260422T130657Z
DTSTART;VALUE=DATE:20111113
DTEND;VALUE=DATE:20111114
SUMMARY:IA^3 2011
DESCRIPTION:Workshop on Irregular Applications: Architectures & Algorithm
 s
URL:http://www.wikicfp.com/cfp/servlet/event.showcfp?eventid=17636&copyow
 nerid=28255
UID:cfp196053-E@wikicfp.com
END:VEVENT
BEGIN:VEVENT
DTSTAMP:20260422T130657Z
DTSTART;VALUE=DATE:20110915
SUMMARY:IA^3 2011 Abstract Due
DESCRIPTION:Workshop on Irregular Applications: Architectures & Algorithm
 s
URL:http://www.wikicfp.com/cfp/servlet/event.showcfp?eventid=17636&copyow
 nerid=28255
UID:cfp196053-A@wikicfp.com
END:VEVENT
BEGIN:VEVENT
DTSTAMP:20260422T130657Z
DTSTART;VALUE=DATE:20110915
SUMMARY:IA^3 2011 Deadline
DESCRIPTION:Workshop on Irregular Applications: Architectures & Algorithm
 s
URL:http://www.wikicfp.com/cfp/servlet/event.showcfp?eventid=17636&copyow
 nerid=28255
UID:cfp196053-D@wikicfp.com
END:VEVENT
BEGIN:VEVENT
DTSTAMP:20260422T130657Z
DTSTART;VALUE=DATE:20111010
SUMMARY:IA^3 2011 Notification Due
DESCRIPTION:Workshop on Irregular Applications: Architectures & Algorithm
 s
URL:http://www.wikicfp.com/cfp/servlet/event.showcfp?eventid=17636&copyow
 nerid=28255
UID:cfp196053-N@wikicfp.com
END:VEVENT
BEGIN:VEVENT
DTSTAMP:20260422T130657Z
DTSTART;VALUE=DATE:20111024
SUMMARY:IA^3 2011 Final Version Due
DESCRIPTION:Workshop on Irregular Applications: Architectures & Algorithm
 s
URL:http://www.wikicfp.com/cfp/servlet/event.showcfp?eventid=17636&copyow
 nerid=28255
UID:cfp196053-N@wikicfp.com
END:VEVENT
BEGIN:VEVENT
DTSTAMP:20260422T130657Z
DTSTART;VALUE=DATE:20120609
DTEND;VALUE=DATE:20120614
SUMMARY:ISCA 2012
DESCRIPTION:THE 39th ANNUAL INTERNATIONAL SYMPOSIUM ON COMPUTER ARCHITECT
 URE
URL:http://www.wikicfp.com/cfp/servlet/event.showcfp?eventid=17535&copyow
 nerid=28255
UID:cfp196051-E@wikicfp.com
END:VEVENT
BEGIN:VEVENT
DTSTAMP:20260422T130657Z
DTSTART;VALUE=DATE:20111114
SUMMARY:ISCA 2012 Abstract Due
DESCRIPTION:THE 39th ANNUAL INTERNATIONAL SYMPOSIUM ON COMPUTER ARCHITECT
 URE
URL:http://www.wikicfp.com/cfp/servlet/event.showcfp?eventid=17535&copyow
 nerid=28255
UID:cfp196051-A@wikicfp.com
END:VEVENT
BEGIN:VEVENT
DTSTAMP:20260422T130657Z
DTSTART;VALUE=DATE:20111121
SUMMARY:ISCA 2012 Deadline
DESCRIPTION:THE 39th ANNUAL INTERNATIONAL SYMPOSIUM ON COMPUTER ARCHITECT
 URE
URL:http://www.wikicfp.com/cfp/servlet/event.showcfp?eventid=17535&copyow
 nerid=28255
UID:cfp196051-D@wikicfp.com
END:VEVENT
BEGIN:VEVENT
DTSTAMP:20260422T130657Z
DTSTART;VALUE=DATE:20120305
SUMMARY:ISCA 2012 Notification Due
DESCRIPTION:THE 39th ANNUAL INTERNATIONAL SYMPOSIUM ON COMPUTER ARCHITECT
 URE
URL:http://www.wikicfp.com/cfp/servlet/event.showcfp?eventid=17535&copyow
 nerid=28255
UID:cfp196051-N@wikicfp.com
END:VEVENT
END:VCALENDAR
