BEGIN:VCALENDAR
PRODID:-//WikiCFP//giraykomurcu 1.0//EN
VERSION:2.0
CALSCALE:GREGORIAN
BEGIN:VEVENT
DTSTAMP:20260422T134439Z
DTSTART;VALUE=DATE:20120613
DTEND;VALUE=DATE:20120616
SUMMARY:VLSI Circuits 2012
DESCRIPTION:2012 Symposium On  VLSI Circuits
URL:http://www.wikicfp.com/cfp/servlet/event.showcfp?eventid=18808&copyow
 nerid=28165
UID:cfp223733-E@wikicfp.com
END:VEVENT
BEGIN:VEVENT
DTSTAMP:20260422T134439Z
DTSTART;VALUE=DATE:20120123
SUMMARY:VLSI Circuits 2012 Deadline
DESCRIPTION:2012 Symposium On  VLSI Circuits
URL:http://www.wikicfp.com/cfp/servlet/event.showcfp?eventid=18808&copyow
 nerid=28165
UID:cfp223733-D@wikicfp.com
END:VEVENT
BEGIN:VEVENT
DTSTAMP:20260422T134439Z
DTSTART;VALUE=DATE:20120626
DTEND;VALUE=DATE:20120630
SUMMARY:ACNS 2012
DESCRIPTION:10th International Conference on Applied Cryptography and Net
 work Security
URL:http://www.wikicfp.com/cfp/servlet/event.showcfp?eventid=17203&copyow
 nerid=28165
UID:cfp195662-E@wikicfp.com
END:VEVENT
BEGIN:VEVENT
DTSTAMP:20260422T134439Z
DTSTART;VALUE=DATE:20120212
SUMMARY:ACNS 2012 Deadline
DESCRIPTION:10th International Conference on Applied Cryptography and Net
 work Security
URL:http://www.wikicfp.com/cfp/servlet/event.showcfp?eventid=17203&copyow
 nerid=28165
UID:cfp195662-D@wikicfp.com
END:VEVENT
BEGIN:VEVENT
DTSTAMP:20260422T134439Z
DTSTART;VALUE=DATE:20120410
SUMMARY:ACNS 2012 Notification Due
DESCRIPTION:10th International Conference on Applied Cryptography and Net
 work Security
URL:http://www.wikicfp.com/cfp/servlet/event.showcfp?eventid=17203&copyow
 nerid=28165
UID:cfp195662-N@wikicfp.com
END:VEVENT
BEGIN:VEVENT
DTSTAMP:20260422T134439Z
DTSTART;VALUE=DATE:20120424
SUMMARY:ACNS 2012 Final Version Due
DESCRIPTION:10th International Conference on Applied Cryptography and Net
 work Security
URL:http://www.wikicfp.com/cfp/servlet/event.showcfp?eventid=17203&copyow
 nerid=28165
UID:cfp195662-N@wikicfp.com
END:VEVENT
BEGIN:VEVENT
DTSTAMP:20260422T134439Z
DTSTART;VALUE=DATE:20120711
DTEND;VALUE=DATE:20120714
SUMMARY:DBSEC 2012
DESCRIPTION:26th Annual WG 11.3 Conference on Data and Applications Secur
 ity and Privacy
URL:http://www.wikicfp.com/cfp/servlet/event.showcfp?eventid=19304&copyow
 nerid=28165
UID:cfp223765-E@wikicfp.com
END:VEVENT
BEGIN:VEVENT
DTSTAMP:20260422T134439Z
DTSTART;VALUE=DATE:20120226
SUMMARY:DBSEC 2012 Deadline
DESCRIPTION:26th Annual WG 11.3 Conference on Data and Applications Secur
 ity and Privacy
URL:http://www.wikicfp.com/cfp/servlet/event.showcfp?eventid=19304&copyow
 nerid=28165
UID:cfp223765-D@wikicfp.com
END:VEVENT
BEGIN:VEVENT
DTSTAMP:20260422T134439Z
DTSTART;VALUE=DATE:20120418
SUMMARY:DBSEC 2012 Notification Due
DESCRIPTION:26th Annual WG 11.3 Conference on Data and Applications Secur
 ity and Privacy
URL:http://www.wikicfp.com/cfp/servlet/event.showcfp?eventid=19304&copyow
 nerid=28165
UID:cfp223765-N@wikicfp.com
END:VEVENT
BEGIN:VEVENT
DTSTAMP:20260422T134439Z
DTSTART;VALUE=DATE:20120502
SUMMARY:DBSEC 2012 Final Version Due
DESCRIPTION:26th Annual WG 11.3 Conference on Data and Applications Secur
 ity and Privacy
URL:http://www.wikicfp.com/cfp/servlet/event.showcfp?eventid=19304&copyow
 nerid=28165
UID:cfp223765-N@wikicfp.com
END:VEVENT
BEGIN:VEVENT
DTSTAMP:20260422T134439Z
DTSTART;VALUE=DATE:20120724
DTEND;VALUE=DATE:20120728
SUMMARY:SECRYPT 2012
DESCRIPTION:International Conference on Security and Cryptography (SECRYP
 T)
URL:http://www.wikicfp.com/cfp/servlet/event.showcfp?eventid=18569&copyow
 nerid=28165
UID:cfp223764-E@wikicfp.com
END:VEVENT
BEGIN:VEVENT
DTSTAMP:20260422T134439Z
DTSTART;VALUE=DATE:20120305
SUMMARY:SECRYPT 2012 Deadline
DESCRIPTION:International Conference on Security and Cryptography (SECRYP
 T)
URL:http://www.wikicfp.com/cfp/servlet/event.showcfp?eventid=18569&copyow
 nerid=28165
UID:cfp223764-D@wikicfp.com
END:VEVENT
BEGIN:VEVENT
DTSTAMP:20260422T134439Z
DTSTART;VALUE=DATE:20120424
SUMMARY:SECRYPT 2012 Notification Due
DESCRIPTION:International Conference on Security and Cryptography (SECRYP
 T)
URL:http://www.wikicfp.com/cfp/servlet/event.showcfp?eventid=18569&copyow
 nerid=28165
UID:cfp223764-N@wikicfp.com
END:VEVENT
BEGIN:VEVENT
DTSTAMP:20260422T134439Z
DTSTART;VALUE=DATE:20120507
SUMMARY:SECRYPT 2012 Final Version Due
DESCRIPTION:International Conference on Security and Cryptography (SECRYP
 T)
URL:http://www.wikicfp.com/cfp/servlet/event.showcfp?eventid=18569&copyow
 nerid=28165
UID:cfp223764-N@wikicfp.com
END:VEVENT
BEGIN:VEVENT
DTSTAMP:20260422T134439Z
DTSTART;VALUE=DATE:20121007
DTEND;VALUE=DATE:20121011
SUMMARY:VLSI-SoC 2012
DESCRIPTION:IEEE/IFIP 20th International Conference on VLSI and System-on
 -Chip
URL:http://www.wikicfp.com/cfp/servlet/event.showcfp?eventid=15650&copyow
 nerid=28165
UID:cfp195665-E@wikicfp.com
END:VEVENT
BEGIN:VEVENT
DTSTAMP:20260422T134439Z
DTSTART;VALUE=DATE:20120430
SUMMARY:VLSI-SoC 2012 Deadline
DESCRIPTION:IEEE/IFIP 20th International Conference on VLSI and System-on
 -Chip
URL:http://www.wikicfp.com/cfp/servlet/event.showcfp?eventid=15650&copyow
 nerid=28165
UID:cfp195665-D@wikicfp.com
END:VEVENT
BEGIN:VEVENT
DTSTAMP:20260422T134439Z
DTSTART;VALUE=DATE:20120617
SUMMARY:VLSI-SoC 2012 Notification Due
DESCRIPTION:IEEE/IFIP 20th International Conference on VLSI and System-on
 -Chip
URL:http://www.wikicfp.com/cfp/servlet/event.showcfp?eventid=15650&copyow
 nerid=28165
UID:cfp195665-N@wikicfp.com
END:VEVENT
BEGIN:VEVENT
DTSTAMP:20260422T134439Z
DTSTART;VALUE=DATE:20120714
SUMMARY:VLSI-SoC 2012 Final Version Due
DESCRIPTION:IEEE/IFIP 20th International Conference on VLSI and System-on
 -Chip
URL:http://www.wikicfp.com/cfp/servlet/event.showcfp?eventid=15650&copyow
 nerid=28165
UID:cfp195665-N@wikicfp.com
END:VEVENT
END:VCALENDAR
