BEGIN:VCALENDAR
PRODID:-//WikiCFP//garganti 1.0//EN
VERSION:2.0
CALSCALE:GREGORIAN
BEGIN:VEVENT
DTSTAMP:20260421T025856Z
DTSTART;VALUE=DATE:20130919
DTEND;VALUE=DATE:20130921
SUMMARY:Eclipse IT 2013
DESCRIPTION:The VIII Workshop of the Italian Eclipse Community
URL:http://www.wikicfp.com/cfp/servlet/event.showcfp?eventid=31492&copyow
 nerid=28044
UID:cfp368268-E@wikicfp.com
END:VEVENT
BEGIN:VEVENT
DTSTAMP:20260421T025856Z
DTSTART;VALUE=DATE:20220704
DTEND;VALUE=DATE:20220709
SUMMARY:TAP 2022
DESCRIPTION:Tests and Proofs
URL:http://www.wikicfp.com/cfp/servlet/event.showcfp?eventid=155870&copyo
 wnerid=28044
UID:cfp923352-E@wikicfp.com
END:VEVENT
BEGIN:VEVENT
DTSTAMP:20260421T025856Z
DTSTART;VALUE=DATE:20220927
DTEND;VALUE=DATE:20220930
SUMMARY:ICTSS 2022
DESCRIPTION:International Conference on Testing Software and Systems
URL:http://www.wikicfp.com/cfp/servlet/event.showcfp?eventid=157451&copyo
 wnerid=28044
UID:cfp926749-E@wikicfp.com
END:VEVENT
BEGIN:VEVENT
DTSTAMP:20260421T025856Z
DTSTART;VALUE=DATE:20230530
DTEND;VALUE=DATE:20230603
SUMMARY:ABZ 2023
DESCRIPTION:Abstract State Machines\, Alloy\, B and Z
URL:http://www.wikicfp.com/cfp/servlet/event.showcfp?eventid=163813&copyo
 wnerid=28044
UID:cfp937009-E@wikicfp.com
END:VEVENT
BEGIN:VEVENT
DTSTAMP:20260421T025856Z
DTSTART;VALUE=DATE:20130326
DTEND;VALUE=DATE:20130328
SUMMARY:HIS 2013
DESCRIPTION:2nd International Conference on Health Information Science
URL:http://www.wikicfp.com/cfp/servlet/event.showcfp?eventid=25468&copyow
 nerid=28044
UID:cfp386135-E@wikicfp.com
END:VEVENT
BEGIN:VEVENT
DTSTAMP:20260421T025856Z
DTSTART;VALUE=DATE:20121023
SUMMARY:HIS 2013 Deadline
DESCRIPTION:2nd International Conference on Health Information Science
URL:http://www.wikicfp.com/cfp/servlet/event.showcfp?eventid=25468&copyow
 nerid=28044
UID:cfp386135-D@wikicfp.com
END:VEVENT
BEGIN:VEVENT
DTSTAMP:20260421T025856Z
DTSTART;VALUE=DATE:20130617
DTEND;VALUE=DATE:20130622
SUMMARY:TAP 2013
DESCRIPTION:7th INTERNATIONAL CONFERENCE ON TESTS AND PROOFS
URL:http://www.wikicfp.com/cfp/servlet/event.showcfp?eventid=26562&copyow
 nerid=28044
UID:cfp308903-E@wikicfp.com
END:VEVENT
BEGIN:VEVENT
DTSTAMP:20260421T025856Z
DTSTART;VALUE=DATE:20130125
SUMMARY:TAP 2013 Abstract Due
DESCRIPTION:7th INTERNATIONAL CONFERENCE ON TESTS AND PROOFS
URL:http://www.wikicfp.com/cfp/servlet/event.showcfp?eventid=26562&copyow
 nerid=28044
UID:cfp308903-A@wikicfp.com
END:VEVENT
BEGIN:VEVENT
DTSTAMP:20260421T025856Z
DTSTART;VALUE=DATE:20130201
SUMMARY:TAP 2013 Deadline
DESCRIPTION:7th INTERNATIONAL CONFERENCE ON TESTS AND PROOFS
URL:http://www.wikicfp.com/cfp/servlet/event.showcfp?eventid=26562&copyow
 nerid=28044
UID:cfp308903-D@wikicfp.com
END:VEVENT
BEGIN:VEVENT
DTSTAMP:20260421T025856Z
DTSTART;VALUE=DATE:20130303
SUMMARY:TAP 2013 Notification Due
DESCRIPTION:7th INTERNATIONAL CONFERENCE ON TESTS AND PROOFS
URL:http://www.wikicfp.com/cfp/servlet/event.showcfp?eventid=26562&copyow
 nerid=28044
UID:cfp308903-N@wikicfp.com
END:VEVENT
BEGIN:VEVENT
DTSTAMP:20260421T025856Z
DTSTART;VALUE=DATE:20130405
SUMMARY:TAP 2013 Final Version Due
DESCRIPTION:7th INTERNATIONAL CONFERENCE ON TESTS AND PROOFS
URL:http://www.wikicfp.com/cfp/servlet/event.showcfp?eventid=26562&copyow
 nerid=28044
UID:cfp308903-N@wikicfp.com
END:VEVENT
BEGIN:VEVENT
DTSTAMP:20260421T025856Z
DTSTART;VALUE=DATE:20140602
DTEND;VALUE=DATE:20140603
SUMMARY:TBFM 2014
DESCRIPTION:2nd Workshop on Tool Building in Formal Methods
URL:http://www.wikicfp.com/cfp/servlet/event.showcfp?eventid=34804&copyow
 nerid=28044
UID:cfp411116-E@wikicfp.com
END:VEVENT
BEGIN:VEVENT
DTSTAMP:20260421T025856Z
DTSTART;VALUE=DATE:20140303
SUMMARY:TBFM 2014 Abstract Due
DESCRIPTION:2nd Workshop on Tool Building in Formal Methods
URL:http://www.wikicfp.com/cfp/servlet/event.showcfp?eventid=34804&copyow
 nerid=28044
UID:cfp411116-A@wikicfp.com
END:VEVENT
BEGIN:VEVENT
DTSTAMP:20260421T025856Z
DTSTART;VALUE=DATE:20140310
SUMMARY:TBFM 2014 Deadline
DESCRIPTION:2nd Workshop on Tool Building in Formal Methods
URL:http://www.wikicfp.com/cfp/servlet/event.showcfp?eventid=34804&copyow
 nerid=28044
UID:cfp411116-D@wikicfp.com
END:VEVENT
BEGIN:VEVENT
DTSTAMP:20260421T025856Z
DTSTART;VALUE=DATE:20140414
SUMMARY:TBFM 2014 Notification Due
DESCRIPTION:2nd Workshop on Tool Building in Formal Methods
URL:http://www.wikicfp.com/cfp/servlet/event.showcfp?eventid=34804&copyow
 nerid=28044
UID:cfp411116-N@wikicfp.com
END:VEVENT
BEGIN:VEVENT
DTSTAMP:20260421T025856Z
DTSTART;VALUE=DATE:20140428
SUMMARY:TBFM 2014 Final Version Due
DESCRIPTION:2nd Workshop on Tool Building in Formal Methods
URL:http://www.wikicfp.com/cfp/servlet/event.showcfp?eventid=34804&copyow
 nerid=28044
UID:cfp411116-N@wikicfp.com
END:VEVENT
BEGIN:VEVENT
DTSTAMP:20260421T025856Z
DTSTART;VALUE=DATE:20140413
DTEND;VALUE=DATE:20140414
SUMMARY:IWCT 2015
DESCRIPTION:Fourth International Workshop on Combinatorial Testing
URL:http://www.wikicfp.com/cfp/servlet/event.showcfp?eventid=41635&copyow
 nerid=28044
UID:cfp486156-E@wikicfp.com
END:VEVENT
BEGIN:VEVENT
DTSTAMP:20260421T025856Z
DTSTART;VALUE=DATE:20150115
SUMMARY:IWCT 2015 Deadline
DESCRIPTION:Fourth International Workshop on Combinatorial Testing
URL:http://www.wikicfp.com/cfp/servlet/event.showcfp?eventid=41635&copyow
 nerid=28044
UID:cfp486156-D@wikicfp.com
END:VEVENT
BEGIN:VEVENT
DTSTAMP:20260421T025856Z
DTSTART;VALUE=DATE:20150207
SUMMARY:IWCT 2015 Notification Due
DESCRIPTION:Fourth International Workshop on Combinatorial Testing
URL:http://www.wikicfp.com/cfp/servlet/event.showcfp?eventid=41635&copyow
 nerid=28044
UID:cfp486156-N@wikicfp.com
END:VEVENT
BEGIN:VEVENT
DTSTAMP:20260421T025856Z
DTSTART;VALUE=DATE:20160410
DTEND;VALUE=DATE:20160411
SUMMARY:IWCT 2016
DESCRIPTION:5th International Workshop on Combinatorial Testing
URL:http://www.wikicfp.com/cfp/servlet/event.showcfp?eventid=49626&copyow
 nerid=28044
UID:cfp562772-E@wikicfp.com
END:VEVENT
BEGIN:VEVENT
DTSTAMP:20260421T025856Z
DTSTART;VALUE=DATE:20160115
SUMMARY:IWCT 2016 Deadline
DESCRIPTION:5th International Workshop on Combinatorial Testing
URL:http://www.wikicfp.com/cfp/servlet/event.showcfp?eventid=49626&copyow
 nerid=28044
UID:cfp562772-D@wikicfp.com
END:VEVENT
BEGIN:VEVENT
DTSTAMP:20260421T025856Z
DTSTART;VALUE=DATE:20190422
DTEND;VALUE=DATE:20190423
SUMMARY:A-MOST 2019
DESCRIPTION:Advances in Model-Based Software Testing
URL:http://www.wikicfp.com/cfp/servlet/event.showcfp?eventid=82300&copyow
 nerid=28044
UID:cfp753536-E@wikicfp.com
END:VEVENT
BEGIN:VEVENT
DTSTAMP:20260421T025856Z
DTSTART;VALUE=DATE:20190112
SUMMARY:A-MOST 2019 Deadline
DESCRIPTION:Advances in Model-Based Software Testing
URL:http://www.wikicfp.com/cfp/servlet/event.showcfp?eventid=82300&copyow
 nerid=28044
UID:cfp753536-D@wikicfp.com
END:VEVENT
BEGIN:VEVENT
DTSTAMP:20260421T025856Z
DTSTART;VALUE=DATE:20190209
SUMMARY:A-MOST 2019 Notification Due
DESCRIPTION:Advances in Model-Based Software Testing
URL:http://www.wikicfp.com/cfp/servlet/event.showcfp?eventid=82300&copyow
 nerid=28044
UID:cfp753536-N@wikicfp.com
END:VEVENT
BEGIN:VEVENT
DTSTAMP:20260421T025856Z
DTSTART;VALUE=DATE:20190215
SUMMARY:A-MOST 2019 Final Version Due
DESCRIPTION:Advances in Model-Based Software Testing
URL:http://www.wikicfp.com/cfp/servlet/event.showcfp?eventid=82300&copyow
 nerid=28044
UID:cfp753536-N@wikicfp.com
END:VEVENT
BEGIN:VEVENT
DTSTAMP:20260421T025856Z
DTSTART;VALUE=DATE:20200323
DTEND;VALUE=DATE:20200324
SUMMARY:A-MOST 2020
DESCRIPTION:Advances in Model-Based Software Testing
URL:http://www.wikicfp.com/cfp/servlet/event.showcfp?eventid=94596&copyow
 nerid=28044
UID:cfp806701-E@wikicfp.com
END:VEVENT
BEGIN:VEVENT
DTSTAMP:20260421T025856Z
DTSTART;VALUE=DATE:20200103
SUMMARY:A-MOST 2020 Abstract Due
DESCRIPTION:Advances in Model-Based Software Testing
URL:http://www.wikicfp.com/cfp/servlet/event.showcfp?eventid=94596&copyow
 nerid=28044
UID:cfp806701-A@wikicfp.com
END:VEVENT
BEGIN:VEVENT
DTSTAMP:20260421T025856Z
DTSTART;VALUE=DATE:20200107
SUMMARY:A-MOST 2020 Deadline
DESCRIPTION:Advances in Model-Based Software Testing
URL:http://www.wikicfp.com/cfp/servlet/event.showcfp?eventid=94596&copyow
 nerid=28044
UID:cfp806701-D@wikicfp.com
END:VEVENT
BEGIN:VEVENT
DTSTAMP:20260421T025856Z
DTSTART;VALUE=DATE:20200127
SUMMARY:A-MOST 2020 Notification Due
DESCRIPTION:Advances in Model-Based Software Testing
URL:http://www.wikicfp.com/cfp/servlet/event.showcfp?eventid=94596&copyow
 nerid=28044
UID:cfp806701-N@wikicfp.com
END:VEVENT
BEGIN:VEVENT
DTSTAMP:20260421T025856Z
DTSTART;VALUE=DATE:20200204
SUMMARY:A-MOST 2020 Final Version Due
DESCRIPTION:Advances in Model-Based Software Testing
URL:http://www.wikicfp.com/cfp/servlet/event.showcfp?eventid=94596&copyow
 nerid=28044
UID:cfp806701-N@wikicfp.com
END:VEVENT
BEGIN:VEVENT
DTSTAMP:20260421T025856Z
DTSTART;VALUE=DATE:20230918
DTEND;VALUE=DATE:20230921
SUMMARY:ICTSS 2023
DESCRIPTION:The 34th IFIP International Conference on Testing Software an
 d Systems
URL:http://www.wikicfp.com/cfp/servlet/event.showcfp?eventid=169942&copyo
 wnerid=28044
UID:cfp950898-E@wikicfp.com
END:VEVENT
BEGIN:VEVENT
DTSTAMP:20260421T025856Z
DTSTART;VALUE=DATE:20230513
SUMMARY:ICTSS 2023 Deadline
DESCRIPTION:The 34th IFIP International Conference on Testing Software an
 d Systems
URL:http://www.wikicfp.com/cfp/servlet/event.showcfp?eventid=169942&copyo
 wnerid=28044
UID:cfp950898-D@wikicfp.com
END:VEVENT
BEGIN:VEVENT
DTSTAMP:20260421T025856Z
DTSTART;VALUE=DATE:20240625
DTEND;VALUE=DATE:20240629
SUMMARY:ABZ 2024
DESCRIPTION:Abstract State Machines\, Alloy\, B and Z
URL:http://www.wikicfp.com/cfp/servlet/event.showcfp?eventid=175693&copyo
 wnerid=28044
UID:cfp972755-E@wikicfp.com
END:VEVENT
BEGIN:VEVENT
DTSTAMP:20260421T025856Z
DTSTART;VALUE=DATE:20240203
SUMMARY:ABZ 2024 Abstract Due
DESCRIPTION:Abstract State Machines\, Alloy\, B and Z
URL:http://www.wikicfp.com/cfp/servlet/event.showcfp?eventid=175693&copyo
 wnerid=28044
UID:cfp972755-A@wikicfp.com
END:VEVENT
BEGIN:VEVENT
DTSTAMP:20260421T025856Z
DTSTART;VALUE=DATE:20240210
SUMMARY:ABZ 2024 Deadline
DESCRIPTION:Abstract State Machines\, Alloy\, B and Z
URL:http://www.wikicfp.com/cfp/servlet/event.showcfp?eventid=175693&copyo
 wnerid=28044
UID:cfp972755-D@wikicfp.com
END:VEVENT
BEGIN:VEVENT
DTSTAMP:20260421T025856Z
DTSTART;VALUE=DATE:20240406
SUMMARY:ABZ 2024 Notification Due
DESCRIPTION:Abstract State Machines\, Alloy\, B and Z
URL:http://www.wikicfp.com/cfp/servlet/event.showcfp?eventid=175693&copyo
 wnerid=28044
UID:cfp972755-N@wikicfp.com
END:VEVENT
BEGIN:VEVENT
DTSTAMP:20260421T025856Z
DTSTART;VALUE=DATE:20240420
SUMMARY:ABZ 2024 Final Version Due
DESCRIPTION:Abstract State Machines\, Alloy\, B and Z
URL:http://www.wikicfp.com/cfp/servlet/event.showcfp?eventid=175693&copyo
 wnerid=28044
UID:cfp972755-N@wikicfp.com
END:VEVENT
END:VCALENDAR
