BEGIN:VCALENDAR
PRODID:-//WikiCFP//mcgettrs 1.0//EN
VERSION:2.0
CALSCALE:GREGORIAN
BEGIN:VEVENT
DTSTAMP:20260424T082949Z
DTSTART;VALUE=DATE:20110227
DTEND;VALUE=DATE:20110302
SUMMARY:FPGA 2011
DESCRIPTION: ACM/SIGDA International Symposium on Field-Programmable Gate
  Arrays
URL:http://www.wikicfp.com/cfp/servlet/event.showcfp?eventid=11358&copyow
 nerid=27825
UID:cfp193797-E@wikicfp.com
END:VEVENT
BEGIN:VEVENT
DTSTAMP:20260424T082949Z
DTSTART;VALUE=DATE:20100920
SUMMARY:FPGA 2011 Deadline
DESCRIPTION: ACM/SIGDA International Symposium on Field-Programmable Gate
  Arrays
URL:http://www.wikicfp.com/cfp/servlet/event.showcfp?eventid=11358&copyow
 nerid=27825
UID:cfp193797-D@wikicfp.com
END:VEVENT
BEGIN:VEVENT
DTSTAMP:20260424T082949Z
DTSTART;VALUE=DATE:20101112
SUMMARY:FPGA 2011 Notification Due
DESCRIPTION: ACM/SIGDA International Symposium on Field-Programmable Gate
  Arrays
URL:http://www.wikicfp.com/cfp/servlet/event.showcfp?eventid=11358&copyow
 nerid=27825
UID:cfp193797-N@wikicfp.com
END:VEVENT
BEGIN:VEVENT
DTSTAMP:20260424T082949Z
DTSTART;VALUE=DATE:20101206
SUMMARY:FPGA 2011 Final Version Due
DESCRIPTION: ACM/SIGDA International Symposium on Field-Programmable Gate
  Arrays
URL:http://www.wikicfp.com/cfp/servlet/event.showcfp?eventid=11358&copyow
 nerid=27825
UID:cfp193797-N@wikicfp.com
END:VEVENT
BEGIN:VEVENT
DTSTAMP:20260424T082949Z
DTSTART;VALUE=DATE:20110323
DTEND;VALUE=DATE:20110326
SUMMARY:ARC 2011
DESCRIPTION:International Symposium on Applied Reconfigurable Computing
URL:http://www.wikicfp.com/cfp/servlet/event.showcfp?eventid=11359&copyow
 nerid=27825
UID:cfp193799-E@wikicfp.com
END:VEVENT
BEGIN:VEVENT
DTSTAMP:20260424T082949Z
DTSTART;VALUE=DATE:20101101
SUMMARY:ARC 2011 Deadline
DESCRIPTION:International Symposium on Applied Reconfigurable Computing
URL:http://www.wikicfp.com/cfp/servlet/event.showcfp?eventid=11359&copyow
 nerid=27825
UID:cfp193799-D@wikicfp.com
END:VEVENT
BEGIN:VEVENT
DTSTAMP:20260424T082949Z
DTSTART;VALUE=DATE:20101201
SUMMARY:ARC 2011 Notification Due
DESCRIPTION:International Symposium on Applied Reconfigurable Computing
URL:http://www.wikicfp.com/cfp/servlet/event.showcfp?eventid=11359&copyow
 nerid=27825
UID:cfp193799-N@wikicfp.com
END:VEVENT
BEGIN:VEVENT
DTSTAMP:20260424T082949Z
DTSTART;VALUE=DATE:20101220
SUMMARY:ARC 2011 Final Version Due
DESCRIPTION:International Symposium on Applied Reconfigurable Computing
URL:http://www.wikicfp.com/cfp/servlet/event.showcfp?eventid=11359&copyow
 nerid=27825
UID:cfp193799-N@wikicfp.com
END:VEVENT
BEGIN:VEVENT
DTSTAMP:20260424T082949Z
DTSTART;VALUE=DATE:20110501
DTEND;VALUE=DATE:20110504
SUMMARY:FCCM 2011
DESCRIPTION:IEEE International Symposium on Field-Programmable Custom Com
 puting Machines
URL:http://www.wikicfp.com/cfp/servlet/event.showcfp?eventid=11357&copyow
 nerid=27825
UID:cfp193798-E@wikicfp.com
END:VEVENT
BEGIN:VEVENT
DTSTAMP:20260424T082949Z
DTSTART;VALUE=DATE:20110107
SUMMARY:FCCM 2011 Deadline
DESCRIPTION:IEEE International Symposium on Field-Programmable Custom Com
 puting Machines
URL:http://www.wikicfp.com/cfp/servlet/event.showcfp?eventid=11357&copyow
 nerid=27825
UID:cfp193798-D@wikicfp.com
END:VEVENT
BEGIN:VEVENT
DTSTAMP:20260424T082949Z
DTSTART;VALUE=DATE:20110301
SUMMARY:FCCM 2011 Notification Due
DESCRIPTION:IEEE International Symposium on Field-Programmable Custom Com
 puting Machines
URL:http://www.wikicfp.com/cfp/servlet/event.showcfp?eventid=11357&copyow
 nerid=27825
UID:cfp193798-N@wikicfp.com
END:VEVENT
BEGIN:VEVENT
DTSTAMP:20260424T082949Z
DTSTART;VALUE=DATE:20110905
DTEND;VALUE=DATE:20110908
SUMMARY:FPL 2011
DESCRIPTION:International Conference on Field Programmable Logic and Appl
 ications
URL:http://www.wikicfp.com/cfp/servlet/event.showcfp?eventid=14847&copyow
 nerid=27825
UID:cfp193800-E@wikicfp.com
END:VEVENT
BEGIN:VEVENT
DTSTAMP:20260424T082949Z
DTSTART;VALUE=DATE:20110318
SUMMARY:FPL 2011 Deadline
DESCRIPTION:International Conference on Field Programmable Logic and Appl
 ications
URL:http://www.wikicfp.com/cfp/servlet/event.showcfp?eventid=14847&copyow
 nerid=27825
UID:cfp193800-D@wikicfp.com
END:VEVENT
BEGIN:VEVENT
DTSTAMP:20260424T082949Z
DTSTART;VALUE=DATE:20110520
SUMMARY:FPL 2011 Notification Due
DESCRIPTION:International Conference on Field Programmable Logic and Appl
 ications
URL:http://www.wikicfp.com/cfp/servlet/event.showcfp?eventid=14847&copyow
 nerid=27825
UID:cfp193800-N@wikicfp.com
END:VEVENT
BEGIN:VEVENT
DTSTAMP:20260424T082949Z
DTSTART;VALUE=DATE:20110614
SUMMARY:FPL 2011 Final Version Due
DESCRIPTION:International Conference on Field Programmable Logic and Appl
 ications
URL:http://www.wikicfp.com/cfp/servlet/event.showcfp?eventid=14847&copyow
 nerid=27825
UID:cfp193800-N@wikicfp.com
END:VEVENT
BEGIN:VEVENT
DTSTAMP:20260424T082949Z
DTSTART;VALUE=DATE:20110829
DTEND;VALUE=DATE:20110903
SUMMARY:ParCo 2011
DESCRIPTION:Parallel Computing
URL:http://www.wikicfp.com/cfp/servlet/event.showcfp?eventid=13551&copyow
 nerid=27825
UID:cfp193796-E@wikicfp.com
END:VEVENT
BEGIN:VEVENT
DTSTAMP:20260424T082949Z
DTSTART;VALUE=DATE:20110331
SUMMARY:ParCo 2011 Deadline
DESCRIPTION:Parallel Computing
URL:http://www.wikicfp.com/cfp/servlet/event.showcfp?eventid=13551&copyow
 nerid=27825
UID:cfp193796-D@wikicfp.com
END:VEVENT
BEGIN:VEVENT
DTSTAMP:20260424T082949Z
DTSTART;VALUE=DATE:20110601
SUMMARY:ParCo 2011 Notification Due
DESCRIPTION:Parallel Computing
URL:http://www.wikicfp.com/cfp/servlet/event.showcfp?eventid=13551&copyow
 nerid=27825
UID:cfp193796-N@wikicfp.com
END:VEVENT
BEGIN:VEVENT
DTSTAMP:20260424T082949Z
DTSTART;VALUE=DATE:20110731
SUMMARY:ParCo 2011 Final Version Due
DESCRIPTION:Parallel Computing
URL:http://www.wikicfp.com/cfp/servlet/event.showcfp?eventid=13551&copyow
 nerid=27825
UID:cfp193796-N@wikicfp.com
END:VEVENT
BEGIN:VEVENT
DTSTAMP:20260424T082949Z
DTSTART;VALUE=DATE:20111130
DTEND;VALUE=DATE:20111203
SUMMARY:ReConFig 2011
DESCRIPTION:International Conference on Reconfigurable Computing and FPGA
 s
URL:http://www.wikicfp.com/cfp/servlet/event.showcfp?eventid=15614&copyow
 nerid=27825
UID:cfp193801-E@wikicfp.com
END:VEVENT
BEGIN:VEVENT
DTSTAMP:20260424T082949Z
DTSTART;VALUE=DATE:20110722
SUMMARY:ReConFig 2011 Deadline
DESCRIPTION:International Conference on Reconfigurable Computing and FPGA
 s
URL:http://www.wikicfp.com/cfp/servlet/event.showcfp?eventid=15614&copyow
 nerid=27825
UID:cfp193801-D@wikicfp.com
END:VEVENT
BEGIN:VEVENT
DTSTAMP:20260424T082949Z
DTSTART;VALUE=DATE:20110926
SUMMARY:ReConFig 2011 Notification Due
DESCRIPTION:International Conference on Reconfigurable Computing and FPGA
 s
URL:http://www.wikicfp.com/cfp/servlet/event.showcfp?eventid=15614&copyow
 nerid=27825
UID:cfp193801-N@wikicfp.com
END:VEVENT
BEGIN:VEVENT
DTSTAMP:20260424T082949Z
DTSTART;VALUE=DATE:20111015
SUMMARY:ReConFig 2011 Final Version Due
DESCRIPTION:International Conference on Reconfigurable Computing and FPGA
 s
URL:http://www.wikicfp.com/cfp/servlet/event.showcfp?eventid=15614&copyow
 nerid=27825
UID:cfp193801-N@wikicfp.com
END:VEVENT
BEGIN:VEVENT
DTSTAMP:20260424T082949Z
DTSTART;VALUE=DATE:20120325
DTEND;VALUE=DATE:20120331
SUMMARY:INFOCOM 2012
DESCRIPTION:The 31st Annual IEEE International Conference on Computer Com
 munications
URL:http://www.wikicfp.com/cfp/servlet/event.showcfp?eventid=11876&copyow
 nerid=27825
UID:cfp193802-E@wikicfp.com
END:VEVENT
BEGIN:VEVENT
DTSTAMP:20260424T082949Z
DTSTART;VALUE=DATE:20110722
SUMMARY:INFOCOM 2012 Abstract Due
DESCRIPTION:The 31st Annual IEEE International Conference on Computer Com
 munications
URL:http://www.wikicfp.com/cfp/servlet/event.showcfp?eventid=11876&copyow
 nerid=27825
UID:cfp193802-A@wikicfp.com
END:VEVENT
BEGIN:VEVENT
DTSTAMP:20260424T082949Z
DTSTART;VALUE=DATE:20110729
SUMMARY:INFOCOM 2012 Deadline
DESCRIPTION:The 31st Annual IEEE International Conference on Computer Com
 munications
URL:http://www.wikicfp.com/cfp/servlet/event.showcfp?eventid=11876&copyow
 nerid=27825
UID:cfp193802-D@wikicfp.com
END:VEVENT
BEGIN:VEVENT
DTSTAMP:20260424T082949Z
DTSTART;VALUE=DATE:20111121
SUMMARY:INFOCOM 2012 Notification Due
DESCRIPTION:The 31st Annual IEEE International Conference on Computer Com
 munications
URL:http://www.wikicfp.com/cfp/servlet/event.showcfp?eventid=11876&copyow
 nerid=27825
UID:cfp193802-N@wikicfp.com
END:VEVENT
BEGIN:VEVENT
DTSTAMP:20260424T082949Z
DTSTART;VALUE=DATE:20120610
DTEND;VALUE=DATE:20120616
SUMMARY:ICC 2012
DESCRIPTION:IEEE International Conference on Communications
URL:http://www.wikicfp.com/cfp/servlet/event.showcfp?eventid=11083&copyow
 nerid=27825
UID:cfp193804-E@wikicfp.com
END:VEVENT
BEGIN:VEVENT
DTSTAMP:20260424T082949Z
DTSTART;VALUE=DATE:20110928
SUMMARY:ICC 2012 Deadline
DESCRIPTION:IEEE International Conference on Communications
URL:http://www.wikicfp.com/cfp/servlet/event.showcfp?eventid=11083&copyow
 nerid=27825
UID:cfp193804-D@wikicfp.com
END:VEVENT
BEGIN:VEVENT
DTSTAMP:20260424T082949Z
DTSTART;VALUE=DATE:20120109
SUMMARY:ICC 2012 Notification Due
DESCRIPTION:IEEE International Conference on Communications
URL:http://www.wikicfp.com/cfp/servlet/event.showcfp?eventid=11083&copyow
 nerid=27825
UID:cfp193804-N@wikicfp.com
END:VEVENT
BEGIN:VEVENT
DTSTAMP:20260424T082949Z
DTSTART;VALUE=DATE:20120210
SUMMARY:ICC 2012 Final Version Due
DESCRIPTION:IEEE International Conference on Communications
URL:http://www.wikicfp.com/cfp/servlet/event.showcfp?eventid=11083&copyow
 nerid=27825
UID:cfp193804-N@wikicfp.com
END:VEVENT
END:VCALENDAR
