BEGIN:VCALENDAR
PRODID:-//WikiCFP//roedder 1.0//EN
VERSION:2.0
CALSCALE:GREGORIAN
BEGIN:VEVENT
DTSTAMP:20260422T185544Z
DTSTART;VALUE=DATE:20111208
DTEND;VALUE=DATE:20111210
SUMMARY:IWSLT 2011
DESCRIPTION:International Workshop on Spoken Language Translation
URL:http://www.wikicfp.com/cfp/servlet/event.showcfp?eventid=17574&copyow
 nerid=27705
UID:cfp193225-E@wikicfp.com
END:VEVENT
BEGIN:VEVENT
DTSTAMP:20260422T185544Z
DTSTART;VALUE=DATE:20110930
SUMMARY:IWSLT 2011 Deadline
DESCRIPTION:International Workshop on Spoken Language Translation
URL:http://www.wikicfp.com/cfp/servlet/event.showcfp?eventid=17574&copyow
 nerid=27705
UID:cfp193225-D@wikicfp.com
END:VEVENT
BEGIN:VEVENT
DTSTAMP:20260422T185544Z
DTSTART;VALUE=DATE:20111031
SUMMARY:IWSLT 2011 Notification Due
DESCRIPTION:International Workshop on Spoken Language Translation
URL:http://www.wikicfp.com/cfp/servlet/event.showcfp?eventid=17574&copyow
 nerid=27705
UID:cfp193225-N@wikicfp.com
END:VEVENT
BEGIN:VEVENT
DTSTAMP:20260422T185544Z
DTSTART;VALUE=DATE:20111111
SUMMARY:IWSLT 2011 Final Version Due
DESCRIPTION:International Workshop on Spoken Language Translation
URL:http://www.wikicfp.com/cfp/servlet/event.showcfp?eventid=17574&copyow
 nerid=27705
UID:cfp193225-N@wikicfp.com
END:VEVENT
END:VCALENDAR
