BEGIN:VCALENDAR
PRODID:-//WikiCFP//lgn1984 1.0//EN
VERSION:2.0
CALSCALE:GREGORIAN
BEGIN:VEVENT
DTSTAMP:20260421T122504Z
DTSTART;VALUE=DATE:20111212
DTEND;VALUE=DATE:20111215
SUMMARY:DASC 2011
DESCRIPTION:9th IEEE International Conference on Dependable\, Autonomic a
 nd Secure Computing
URL:http://www.wikicfp.com/cfp/servlet/event.showcfp?eventid=17523&copyow
 nerid=27645
UID:cfp192897-E@wikicfp.com
END:VEVENT
BEGIN:VEVENT
DTSTAMP:20260421T122504Z
DTSTART;VALUE=DATE:20110830
SUMMARY:DASC 2011 Deadline
DESCRIPTION:9th IEEE International Conference on Dependable\, Autonomic a
 nd Secure Computing
URL:http://www.wikicfp.com/cfp/servlet/event.showcfp?eventid=17523&copyow
 nerid=27645
UID:cfp192897-D@wikicfp.com
END:VEVENT
BEGIN:VEVENT
DTSTAMP:20260421T122504Z
DTSTART;VALUE=DATE:20110925
SUMMARY:DASC 2011 Notification Due
DESCRIPTION:9th IEEE International Conference on Dependable\, Autonomic a
 nd Secure Computing
URL:http://www.wikicfp.com/cfp/servlet/event.showcfp?eventid=17523&copyow
 nerid=27645
UID:cfp192897-N@wikicfp.com
END:VEVENT
BEGIN:VEVENT
DTSTAMP:20260421T122504Z
DTSTART;VALUE=DATE:20111010
SUMMARY:DASC 2011 Final Version Due
DESCRIPTION:9th IEEE International Conference on Dependable\, Autonomic a
 nd Secure Computing
URL:http://www.wikicfp.com/cfp/servlet/event.showcfp?eventid=17523&copyow
 nerid=27645
UID:cfp192897-N@wikicfp.com
END:VEVENT
BEGIN:VEVENT
DTSTAMP:20260421T122504Z
DTSTART;VALUE=DATE:20120516
DTEND;VALUE=DATE:20120522
SUMMARY:TAMC 2012
DESCRIPTION:The 9th Annual Conference on Theory and Applications of Model
 s of Computation
URL:http://www.wikicfp.com/cfp/servlet/event.showcfp?eventid=17522&copyow
 nerid=27645
UID:cfp192898-E@wikicfp.com
END:VEVENT
BEGIN:VEVENT
DTSTAMP:20260421T122504Z
DTSTART;VALUE=DATE:20120110
SUMMARY:TAMC 2012 Deadline
DESCRIPTION:The 9th Annual Conference on Theory and Applications of Model
 s of Computation
URL:http://www.wikicfp.com/cfp/servlet/event.showcfp?eventid=17522&copyow
 nerid=27645
UID:cfp192898-D@wikicfp.com
END:VEVENT
END:VCALENDAR
