BEGIN:VCALENDAR
PRODID:-//WikiCFP//mattrung1 1.0//EN
VERSION:2.0
CALSCALE:GREGORIAN
BEGIN:VEVENT
DTSTAMP:20260423T004252Z
DTSTART;VALUE=DATE:20120122
DTEND;VALUE=DATE:20120125
SUMMARY:VMCAI 2012
DESCRIPTION:13th International Conference on Verification\, Model Checkin
 g\, and Abstract Interpretation
URL:http://www.wikicfp.com/cfp/servlet/event.showcfp?eventid=17126&copyow
 nerid=27417
UID:cfp191760-E@wikicfp.com
END:VEVENT
BEGIN:VEVENT
DTSTAMP:20260423T004252Z
DTSTART;VALUE=DATE:20110812
SUMMARY:VMCAI 2012 Abstract Due
DESCRIPTION:13th International Conference on Verification\, Model Checkin
 g\, and Abstract Interpretation
URL:http://www.wikicfp.com/cfp/servlet/event.showcfp?eventid=17126&copyow
 nerid=27417
UID:cfp191760-A@wikicfp.com
END:VEVENT
BEGIN:VEVENT
DTSTAMP:20260423T004252Z
DTSTART;VALUE=DATE:20110819
SUMMARY:VMCAI 2012 Deadline
DESCRIPTION:13th International Conference on Verification\, Model Checkin
 g\, and Abstract Interpretation
URL:http://www.wikicfp.com/cfp/servlet/event.showcfp?eventid=17126&copyow
 nerid=27417
UID:cfp191760-D@wikicfp.com
END:VEVENT
BEGIN:VEVENT
DTSTAMP:20260423T004252Z
DTSTART;VALUE=DATE:20111010
SUMMARY:VMCAI 2012 Notification Due
DESCRIPTION:13th International Conference on Verification\, Model Checkin
 g\, and Abstract Interpretation
URL:http://www.wikicfp.com/cfp/servlet/event.showcfp?eventid=17126&copyow
 nerid=27417
UID:cfp191760-N@wikicfp.com
END:VEVENT
BEGIN:VEVENT
DTSTAMP:20260423T004252Z
DTSTART;VALUE=DATE:20111130
DTEND;VALUE=DATE:20111203
SUMMARY:ICISC 2011
DESCRIPTION:The 14th Annual International Conference on Information Secur
 ity and Cryptology
URL:http://www.wikicfp.com/cfp/servlet/event.showcfp?eventid=17239&copyow
 nerid=27417
UID:cfp192026-E@wikicfp.com
END:VEVENT
BEGIN:VEVENT
DTSTAMP:20260423T004252Z
DTSTART;VALUE=DATE:20110831
SUMMARY:ICISC 2011 Deadline
DESCRIPTION:The 14th Annual International Conference on Information Secur
 ity and Cryptology
URL:http://www.wikicfp.com/cfp/servlet/event.showcfp?eventid=17239&copyow
 nerid=27417
UID:cfp192026-D@wikicfp.com
END:VEVENT
BEGIN:VEVENT
DTSTAMP:20260423T004252Z
DTSTART;VALUE=DATE:20111021
SUMMARY:ICISC 2011 Notification Due
DESCRIPTION:The 14th Annual International Conference on Information Secur
 ity and Cryptology
URL:http://www.wikicfp.com/cfp/servlet/event.showcfp?eventid=17239&copyow
 nerid=27417
UID:cfp192026-N@wikicfp.com
END:VEVENT
BEGIN:VEVENT
DTSTAMP:20260423T004252Z
DTSTART;VALUE=DATE:20111101
SUMMARY:ICISC 2011 Final Version Due
DESCRIPTION:The 14th Annual International Conference on Information Secur
 ity and Cryptology
URL:http://www.wikicfp.com/cfp/servlet/event.showcfp?eventid=17239&copyow
 nerid=27417
UID:cfp192026-N@wikicfp.com
END:VEVENT
BEGIN:VEVENT
DTSTAMP:20260423T004252Z
DTSTART;VALUE=DATE:20120228
DTEND;VALUE=DATE:20120304
SUMMARY:SIGCSE  2012
DESCRIPTION:ACM Special Interest Group on Computer Science Education [B]
URL:http://www.wikicfp.com/cfp/servlet/event.showcfp?eventid=12403&copyow
 nerid=27417
UID:cfp192029-E@wikicfp.com
END:VEVENT
BEGIN:VEVENT
DTSTAMP:20260423T004252Z
DTSTART;VALUE=DATE:20110902
SUMMARY:SIGCSE  2012 Deadline
DESCRIPTION:ACM Special Interest Group on Computer Science Education [B]
URL:http://www.wikicfp.com/cfp/servlet/event.showcfp?eventid=12403&copyow
 nerid=27417
UID:cfp192029-D@wikicfp.com
END:VEVENT
BEGIN:VEVENT
DTSTAMP:20260423T004252Z
DTSTART;VALUE=DATE:20111017
SUMMARY:SIGCSE  2012 Notification Due
DESCRIPTION:ACM Special Interest Group on Computer Science Education [B]
URL:http://www.wikicfp.com/cfp/servlet/event.showcfp?eventid=12403&copyow
 nerid=27417
UID:cfp192029-N@wikicfp.com
END:VEVENT
BEGIN:VEVENT
DTSTAMP:20260423T004252Z
DTSTART;VALUE=DATE:20111128
SUMMARY:SIGCSE  2012 Final Version Due
DESCRIPTION:ACM Special Interest Group on Computer Science Education [B]
URL:http://www.wikicfp.com/cfp/servlet/event.showcfp?eventid=12403&copyow
 nerid=27417
UID:cfp192029-N@wikicfp.com
END:VEVENT
BEGIN:VEVENT
DTSTAMP:20260423T004252Z
DTSTART;VALUE=DATE:20111214
DTEND;VALUE=DATE:20111217
SUMMARY:SEA 2011
DESCRIPTION:The 15th International Conference on Software Engineering and
  Applications
URL:http://www.wikicfp.com/cfp/servlet/event.showcfp?eventid=15562&copyow
 nerid=27417
UID:cfp191759-E@wikicfp.com
END:VEVENT
BEGIN:VEVENT
DTSTAMP:20260423T004252Z
DTSTART;VALUE=DATE:20110922
SUMMARY:SEA 2011 Deadline
DESCRIPTION:The 15th International Conference on Software Engineering and
  Applications
URL:http://www.wikicfp.com/cfp/servlet/event.showcfp?eventid=15562&copyow
 nerid=27417
UID:cfp191759-D@wikicfp.com
END:VEVENT
BEGIN:VEVENT
DTSTAMP:20260423T004252Z
DTSTART;VALUE=DATE:20111012
SUMMARY:SEA 2011 Notification Due
DESCRIPTION:The 15th International Conference on Software Engineering and
  Applications
URL:http://www.wikicfp.com/cfp/servlet/event.showcfp?eventid=15562&copyow
 nerid=27417
UID:cfp191759-N@wikicfp.com
END:VEVENT
BEGIN:VEVENT
DTSTAMP:20260423T004252Z
DTSTART;VALUE=DATE:20111028
SUMMARY:SEA 2011 Final Version Due
DESCRIPTION:The 15th International Conference on Software Engineering and
  Applications
URL:http://www.wikicfp.com/cfp/servlet/event.showcfp?eventid=15562&copyow
 nerid=27417
UID:cfp191759-N@wikicfp.com
END:VEVENT
BEGIN:VEVENT
DTSTAMP:20260423T004252Z
DTSTART;VALUE=DATE:20120602
DTEND;VALUE=DATE:20120610
SUMMARY:ICSE 2012
DESCRIPTION:34th International Conference on Software Engineering
URL:http://www.wikicfp.com/cfp/servlet/event.showcfp?eventid=13479&copyow
 nerid=27417
UID:cfp191758-E@wikicfp.com
END:VEVENT
BEGIN:VEVENT
DTSTAMP:20260423T004252Z
DTSTART;VALUE=DATE:20110929
SUMMARY:ICSE 2012 Deadline
DESCRIPTION:34th International Conference on Software Engineering
URL:http://www.wikicfp.com/cfp/servlet/event.showcfp?eventid=13479&copyow
 nerid=27417
UID:cfp191758-D@wikicfp.com
END:VEVENT
BEGIN:VEVENT
DTSTAMP:20260423T004252Z
DTSTART;VALUE=DATE:20120319
DTEND;VALUE=DATE:20120323
SUMMARY:REFSQ 2012
DESCRIPTION:18th International Working Conference on Requirements Enginee
 ring: Foundation for Software Quality
URL:http://www.wikicfp.com/cfp/servlet/event.showcfp?eventid=16509&copyow
 nerid=27417
UID:cfp192024-E@wikicfp.com
END:VEVENT
BEGIN:VEVENT
DTSTAMP:20260423T004252Z
DTSTART;VALUE=DATE:20110922
SUMMARY:REFSQ 2012 Abstract Due
DESCRIPTION:18th International Working Conference on Requirements Enginee
 ring: Foundation for Software Quality
URL:http://www.wikicfp.com/cfp/servlet/event.showcfp?eventid=16509&copyow
 nerid=27417
UID:cfp192024-A@wikicfp.com
END:VEVENT
BEGIN:VEVENT
DTSTAMP:20260423T004252Z
DTSTART;VALUE=DATE:20111001
SUMMARY:REFSQ 2012 Deadline
DESCRIPTION:18th International Working Conference on Requirements Enginee
 ring: Foundation for Software Quality
URL:http://www.wikicfp.com/cfp/servlet/event.showcfp?eventid=16509&copyow
 nerid=27417
UID:cfp192024-D@wikicfp.com
END:VEVENT
BEGIN:VEVENT
DTSTAMP:20260423T004252Z
DTSTART;VALUE=DATE:20120418
DTEND;VALUE=DATE:20120423
SUMMARY:ICST 2012
DESCRIPTION:IEEE Fifth International Conference on Software Testing\, Ver
 ification and Validation
URL:http://www.wikicfp.com/cfp/servlet/event.showcfp?eventid=16289&copyow
 nerid=27417
UID:cfp191763-E@wikicfp.com
END:VEVENT
BEGIN:VEVENT
DTSTAMP:20260423T004252Z
DTSTART;VALUE=DATE:20111028
SUMMARY:ICST 2012 Abstract Due
DESCRIPTION:IEEE Fifth International Conference on Software Testing\, Ver
 ification and Validation
URL:http://www.wikicfp.com/cfp/servlet/event.showcfp?eventid=16289&copyow
 nerid=27417
UID:cfp191763-A@wikicfp.com
END:VEVENT
BEGIN:VEVENT
DTSTAMP:20260423T004252Z
DTSTART;VALUE=DATE:20111104
SUMMARY:ICST 2012 Deadline
DESCRIPTION:IEEE Fifth International Conference on Software Testing\, Ver
 ification and Validation
URL:http://www.wikicfp.com/cfp/servlet/event.showcfp?eventid=16289&copyow
 nerid=27417
UID:cfp191763-D@wikicfp.com
END:VEVENT
BEGIN:VEVENT
DTSTAMP:20260423T004252Z
DTSTART;VALUE=DATE:20111228
SUMMARY:ICST 2012 Notification Due
DESCRIPTION:IEEE Fifth International Conference on Software Testing\, Ver
 ification and Validation
URL:http://www.wikicfp.com/cfp/servlet/event.showcfp?eventid=16289&copyow
 nerid=27417
UID:cfp191763-N@wikicfp.com
END:VEVENT
BEGIN:VEVENT
DTSTAMP:20260423T004252Z
DTSTART;VALUE=DATE:20120115
SUMMARY:ICST 2012 Final Version Due
DESCRIPTION:IEEE Fifth International Conference on Software Testing\, Ver
 ification and Validation
URL:http://www.wikicfp.com/cfp/servlet/event.showcfp?eventid=16289&copyow
 nerid=27417
UID:cfp191763-N@wikicfp.com
END:VEVENT
BEGIN:VEVENT
DTSTAMP:20260423T004252Z
DTSTART;VALUE=DATE:20120610
DTEND;VALUE=DATE:20120613
SUMMARY:WorldCIS 2012
DESCRIPTION:World Congress on Internet Security (WorldCIS-2012)
URL:http://www.wikicfp.com/cfp/servlet/event.showcfp?eventid=17360&copyow
 nerid=27417
UID:cfp191764-E@wikicfp.com
END:VEVENT
BEGIN:VEVENT
DTSTAMP:20260423T004252Z
DTSTART;VALUE=DATE:20120115
SUMMARY:WorldCIS 2012 Abstract Due
DESCRIPTION:World Congress on Internet Security (WorldCIS-2012)
URL:http://www.wikicfp.com/cfp/servlet/event.showcfp?eventid=17360&copyow
 nerid=27417
UID:cfp191764-A@wikicfp.com
END:VEVENT
BEGIN:VEVENT
DTSTAMP:20260423T004252Z
DTSTART;VALUE=DATE:20120120
SUMMARY:WorldCIS 2012 Deadline
DESCRIPTION:World Congress on Internet Security (WorldCIS-2012)
URL:http://www.wikicfp.com/cfp/servlet/event.showcfp?eventid=17360&copyow
 nerid=27417
UID:cfp191764-D@wikicfp.com
END:VEVENT
BEGIN:VEVENT
DTSTAMP:20260423T004252Z
DTSTART;VALUE=DATE:20120215
SUMMARY:WorldCIS 2012 Notification Due
DESCRIPTION:World Congress on Internet Security (WorldCIS-2012)
URL:http://www.wikicfp.com/cfp/servlet/event.showcfp?eventid=17360&copyow
 nerid=27417
UID:cfp191764-N@wikicfp.com
END:VEVENT
BEGIN:VEVENT
DTSTAMP:20260423T004252Z
DTSTART;VALUE=DATE:20120924
DTEND;VALUE=DATE:20120929
SUMMARY:RE  2012
DESCRIPTION:20th IEEE International Requirements Engineering Conference
URL:http://www.wikicfp.com/cfp/servlet/event.showcfp?eventid=17453&copyow
 nerid=27417
UID:cfp191765-E@wikicfp.com
END:VEVENT
BEGIN:VEVENT
DTSTAMP:20260423T004252Z
DTSTART;VALUE=DATE:20120227
SUMMARY:RE  2012 Abstract Due
DESCRIPTION:20th IEEE International Requirements Engineering Conference
URL:http://www.wikicfp.com/cfp/servlet/event.showcfp?eventid=17453&copyow
 nerid=27417
UID:cfp191765-A@wikicfp.com
END:VEVENT
BEGIN:VEVENT
DTSTAMP:20260423T004252Z
DTSTART;VALUE=DATE:20120305
SUMMARY:RE  2012 Deadline
DESCRIPTION:20th IEEE International Requirements Engineering Conference
URL:http://www.wikicfp.com/cfp/servlet/event.showcfp?eventid=17453&copyow
 nerid=27417
UID:cfp191765-D@wikicfp.com
END:VEVENT
BEGIN:VEVENT
DTSTAMP:20260423T004252Z
DTSTART;VALUE=DATE:20120518
SUMMARY:RE  2012 Notification Due
DESCRIPTION:20th IEEE International Requirements Engineering Conference
URL:http://www.wikicfp.com/cfp/servlet/event.showcfp?eventid=17453&copyow
 nerid=27417
UID:cfp191765-N@wikicfp.com
END:VEVENT
BEGIN:VEVENT
DTSTAMP:20260423T004252Z
DTSTART;VALUE=DATE:20120629
SUMMARY:RE  2012 Final Version Due
DESCRIPTION:20th IEEE International Requirements Engineering Conference
URL:http://www.wikicfp.com/cfp/servlet/event.showcfp?eventid=17453&copyow
 nerid=27417
UID:cfp191765-N@wikicfp.com
END:VEVENT
BEGIN:VEVENT
DTSTAMP:20260423T004252Z
DTSTART;VALUE=DATE:20131230
SUMMARY:SE 2013 Deadline
DESCRIPTION:Software Engineering Journal
URL:http://www.wikicfp.com/cfp/servlet/event.showcfp?eventid=15942&copyow
 nerid=27417
UID:cfp192025-D@wikicfp.com
END:VEVENT
END:VCALENDAR
