BEGIN:VCALENDAR
PRODID:-//WikiCFP//zahid_rashid 1.0//EN
VERSION:2.0
CALSCALE:GREGORIAN
BEGIN:VEVENT
DTSTAMP:20260420T165933Z
DTSTART;VALUE=DATE:20110715
DTEND;VALUE=DATE:20110718
SUMMARY:CCSEA 2011
DESCRIPTION:First International Conference on Computer Science\, Engineer
 ing and Applications (CCSEA-2011)
URL:http://www.wikicfp.com/cfp/servlet/event.showcfp?eventid=16581&copyow
 nerid=27341
UID:cfp190971-E@wikicfp.com
END:VEVENT
BEGIN:VEVENT
DTSTAMP:20260420T165933Z
DTSTART;VALUE=DATE:20110610
SUMMARY:CCSEA 2011 Deadline
DESCRIPTION:First International Conference on Computer Science\, Engineer
 ing and Applications (CCSEA-2011)
URL:http://www.wikicfp.com/cfp/servlet/event.showcfp?eventid=16581&copyow
 nerid=27341
UID:cfp190971-D@wikicfp.com
END:VEVENT
BEGIN:VEVENT
DTSTAMP:20260420T165933Z
DTSTART;VALUE=DATE:20110625
SUMMARY:CCSEA 2011 Notification Due
DESCRIPTION:First International Conference on Computer Science\, Engineer
 ing and Applications (CCSEA-2011)
URL:http://www.wikicfp.com/cfp/servlet/event.showcfp?eventid=16581&copyow
 nerid=27341
UID:cfp190971-N@wikicfp.com
END:VEVENT
BEGIN:VEVENT
DTSTAMP:20260420T165933Z
DTSTART;VALUE=DATE:20110705
SUMMARY:CCSEA 2011 Final Version Due
DESCRIPTION:First International Conference on Computer Science\, Engineer
 ing and Applications (CCSEA-2011)
URL:http://www.wikicfp.com/cfp/servlet/event.showcfp?eventid=16581&copyow
 nerid=27341
UID:cfp190971-N@wikicfp.com
END:VEVENT
BEGIN:VEVENT
DTSTAMP:20260420T165933Z
DTSTART;VALUE=DATE:20111215
DTEND;VALUE=DATE:20111220
SUMMARY:ICISS 2011
DESCRIPTION:7th International Conference on Information Systems Security
URL:http://www.wikicfp.com/cfp/servlet/event.showcfp?eventid=15394&copyow
 nerid=27341
UID:cfp190966-E@wikicfp.com
END:VEVENT
BEGIN:VEVENT
DTSTAMP:20260420T165933Z
DTSTART;VALUE=DATE:20110715
SUMMARY:ICISS 2011 Deadline
DESCRIPTION:7th International Conference on Information Systems Security
URL:http://www.wikicfp.com/cfp/servlet/event.showcfp?eventid=15394&copyow
 nerid=27341
UID:cfp190966-D@wikicfp.com
END:VEVENT
BEGIN:VEVENT
DTSTAMP:20260420T165933Z
DTSTART;VALUE=DATE:20110909
SUMMARY:ICISS 2011 Notification Due
DESCRIPTION:7th International Conference on Information Systems Security
URL:http://www.wikicfp.com/cfp/servlet/event.showcfp?eventid=15394&copyow
 nerid=27341
UID:cfp190966-N@wikicfp.com
END:VEVENT
BEGIN:VEVENT
DTSTAMP:20260420T165933Z
DTSTART;VALUE=DATE:20110923
SUMMARY:ICISS 2011 Final Version Due
DESCRIPTION:7th International Conference on Information Systems Security
URL:http://www.wikicfp.com/cfp/servlet/event.showcfp?eventid=15394&copyow
 nerid=27341
UID:cfp190966-N@wikicfp.com
END:VEVENT
BEGIN:VEVENT
DTSTAMP:20260420T165933Z
DTSTART;VALUE=DATE:20111208
DTEND;VALUE=DATE:20111211
SUMMARY:SecTech 2011
DESCRIPTION:Security Technology 2011
URL:http://www.wikicfp.com/cfp/servlet/event.showcfp?eventid=17058&copyow
 nerid=27341
UID:cfp190970-E@wikicfp.com
END:VEVENT
BEGIN:VEVENT
DTSTAMP:20260420T165933Z
DTSTART;VALUE=DATE:20110720
SUMMARY:SecTech 2011 Deadline
DESCRIPTION:Security Technology 2011
URL:http://www.wikicfp.com/cfp/servlet/event.showcfp?eventid=17058&copyow
 nerid=27341
UID:cfp190970-D@wikicfp.com
END:VEVENT
BEGIN:VEVENT
DTSTAMP:20260420T165933Z
DTSTART;VALUE=DATE:20110831
SUMMARY:SecTech 2011 Notification Due
DESCRIPTION:Security Technology 2011
URL:http://www.wikicfp.com/cfp/servlet/event.showcfp?eventid=17058&copyow
 nerid=27341
UID:cfp190970-N@wikicfp.com
END:VEVENT
BEGIN:VEVENT
DTSTAMP:20260420T165933Z
DTSTART;VALUE=DATE:20110920
SUMMARY:SecTech 2011 Final Version Due
DESCRIPTION:Security Technology 2011
URL:http://www.wikicfp.com/cfp/servlet/event.showcfp?eventid=17058&copyow
 nerid=27341
UID:cfp190970-N@wikicfp.com
END:VEVENT
BEGIN:VEVENT
DTSTAMP:20260420T165933Z
DTSTART;VALUE=DATE:20111130
DTEND;VALUE=DATE:20111203
SUMMARY:ICISC 2011
DESCRIPTION:The 14th Annual International Conference on Information Secur
 ity and Cryptology
URL:http://www.wikicfp.com/cfp/servlet/event.showcfp?eventid=17239&copyow
 nerid=27341
UID:cfp190968-E@wikicfp.com
END:VEVENT
BEGIN:VEVENT
DTSTAMP:20260420T165933Z
DTSTART;VALUE=DATE:20110831
SUMMARY:ICISC 2011 Deadline
DESCRIPTION:The 14th Annual International Conference on Information Secur
 ity and Cryptology
URL:http://www.wikicfp.com/cfp/servlet/event.showcfp?eventid=17239&copyow
 nerid=27341
UID:cfp190968-D@wikicfp.com
END:VEVENT
BEGIN:VEVENT
DTSTAMP:20260420T165933Z
DTSTART;VALUE=DATE:20111021
SUMMARY:ICISC 2011 Notification Due
DESCRIPTION:The 14th Annual International Conference on Information Secur
 ity and Cryptology
URL:http://www.wikicfp.com/cfp/servlet/event.showcfp?eventid=17239&copyow
 nerid=27341
UID:cfp190968-N@wikicfp.com
END:VEVENT
BEGIN:VEVENT
DTSTAMP:20260420T165933Z
DTSTART;VALUE=DATE:20111101
SUMMARY:ICISC 2011 Final Version Due
DESCRIPTION:The 14th Annual International Conference on Information Secur
 ity and Cryptology
URL:http://www.wikicfp.com/cfp/servlet/event.showcfp?eventid=17239&copyow
 nerid=27341
UID:cfp190968-N@wikicfp.com
END:VEVENT
BEGIN:VEVENT
DTSTAMP:20260420T165933Z
DTSTART;VALUE=DATE:20111205
DTEND;VALUE=DATE:20111208
SUMMARY:AISM 2011
DESCRIPTION:9th Australian Information Security Management Conference
URL:http://www.wikicfp.com/cfp/servlet/event.showcfp?eventid=13489&copyow
 nerid=27341
UID:cfp190965-E@wikicfp.com
END:VEVENT
BEGIN:VEVENT
DTSTAMP:20260420T165933Z
DTSTART;VALUE=DATE:20110930
SUMMARY:AISM 2011 Deadline
DESCRIPTION:9th Australian Information Security Management Conference
URL:http://www.wikicfp.com/cfp/servlet/event.showcfp?eventid=13489&copyow
 nerid=27341
UID:cfp190965-D@wikicfp.com
END:VEVENT
BEGIN:VEVENT
DTSTAMP:20260420T165933Z
DTSTART;VALUE=DATE:20111021
SUMMARY:AISM 2011 Notification Due
DESCRIPTION:9th Australian Information Security Management Conference
URL:http://www.wikicfp.com/cfp/servlet/event.showcfp?eventid=13489&copyow
 nerid=27341
UID:cfp190965-N@wikicfp.com
END:VEVENT
BEGIN:VEVENT
DTSTAMP:20260420T165933Z
DTSTART;VALUE=DATE:20111104
SUMMARY:AISM 2011 Final Version Due
DESCRIPTION:9th Australian Information Security Management Conference
URL:http://www.wikicfp.com/cfp/servlet/event.showcfp?eventid=13489&copyow
 nerid=27341
UID:cfp190965-N@wikicfp.com
END:VEVENT
END:VCALENDAR
