BEGIN:VCALENDAR
PRODID:-//WikiCFP//voglinio 1.0//EN
VERSION:2.0
CALSCALE:GREGORIAN
BEGIN:VEVENT
DTSTAMP:20260423T115013Z
DTSTART;VALUE=DATE:20111219
DTEND;VALUE=DATE:20111222
SUMMARY:SEMCCO 2011
DESCRIPTION:Swarm Evolutionary and Memetic Computing Conference
URL:http://www.wikicfp.com/cfp/servlet/event.showcfp?eventid=15832&copyow
 nerid=27104
UID:cfp189831-E@wikicfp.com
END:VEVENT
BEGIN:VEVENT
DTSTAMP:20260423T115013Z
DTSTART;VALUE=DATE:20110731
SUMMARY:SEMCCO 2011 Deadline
DESCRIPTION:Swarm Evolutionary and Memetic Computing Conference
URL:http://www.wikicfp.com/cfp/servlet/event.showcfp?eventid=15832&copyow
 nerid=27104
UID:cfp189831-D@wikicfp.com
END:VEVENT
BEGIN:VEVENT
DTSTAMP:20260423T115013Z
DTSTART;VALUE=DATE:20110911
DTEND;VALUE=DATE:20110912
SUMMARY:SEA  2011
DESCRIPTION:International Conference on Soft-computing and Engineering Ap
 plications
URL:http://www.wikicfp.com/cfp/servlet/event.showcfp?eventid=16444&copyow
 nerid=27104
UID:cfp189832-E@wikicfp.com
END:VEVENT
BEGIN:VEVENT
DTSTAMP:20260423T115013Z
DTSTART;VALUE=DATE:20110801
SUMMARY:SEA  2011 Deadline
DESCRIPTION:International Conference on Soft-computing and Engineering Ap
 plications
URL:http://www.wikicfp.com/cfp/servlet/event.showcfp?eventid=16444&copyow
 nerid=27104
UID:cfp189832-D@wikicfp.com
END:VEVENT
BEGIN:VEVENT
DTSTAMP:20260423T115013Z
DTSTART;VALUE=DATE:20110815
SUMMARY:SEA  2011 Notification Due
DESCRIPTION:International Conference on Soft-computing and Engineering Ap
 plications
URL:http://www.wikicfp.com/cfp/servlet/event.showcfp?eventid=16444&copyow
 nerid=27104
UID:cfp189832-N@wikicfp.com
END:VEVENT
BEGIN:VEVENT
DTSTAMP:20260423T115013Z
DTSTART;VALUE=DATE:20110825
SUMMARY:SEA  2011 Final Version Due
DESCRIPTION:International Conference on Soft-computing and Engineering Ap
 plications
URL:http://www.wikicfp.com/cfp/servlet/event.showcfp?eventid=16444&copyow
 nerid=27104
UID:cfp189832-N@wikicfp.com
END:VEVENT
BEGIN:VEVENT
DTSTAMP:20260423T115013Z
DTSTART;VALUE=DATE:20111214
DTEND;VALUE=DATE:20111217
SUMMARY:PDCS 2011
DESCRIPTION:The 23rd International Conference on Parallel and Distributed
  Computing and Systems
URL:http://www.wikicfp.com/cfp/servlet/event.showcfp?eventid=15561&copyow
 nerid=27104
UID:cfp189827-E@wikicfp.com
END:VEVENT
BEGIN:VEVENT
DTSTAMP:20260423T115013Z
DTSTART;VALUE=DATE:20110922
SUMMARY:PDCS 2011 Deadline
DESCRIPTION:The 23rd International Conference on Parallel and Distributed
  Computing and Systems
URL:http://www.wikicfp.com/cfp/servlet/event.showcfp?eventid=15561&copyow
 nerid=27104
UID:cfp189827-D@wikicfp.com
END:VEVENT
BEGIN:VEVENT
DTSTAMP:20260423T115013Z
DTSTART;VALUE=DATE:20111012
SUMMARY:PDCS 2011 Notification Due
DESCRIPTION:The 23rd International Conference on Parallel and Distributed
  Computing and Systems
URL:http://www.wikicfp.com/cfp/servlet/event.showcfp?eventid=15561&copyow
 nerid=27104
UID:cfp189827-N@wikicfp.com
END:VEVENT
BEGIN:VEVENT
DTSTAMP:20260423T115013Z
DTSTART;VALUE=DATE:20111028
SUMMARY:PDCS 2011 Final Version Due
DESCRIPTION:The 23rd International Conference on Parallel and Distributed
  Computing and Systems
URL:http://www.wikicfp.com/cfp/servlet/event.showcfp?eventid=15561&copyow
 nerid=27104
UID:cfp189827-N@wikicfp.com
END:VEVENT
BEGIN:VEVENT
DTSTAMP:20260423T115013Z
DTSTART;VALUE=DATE:20120305
DTEND;VALUE=DATE:20120310
SUMMARY:HPSC 2012
DESCRIPTION:5th International Conference on High Performance Scientific C
 omputing
URL:http://www.wikicfp.com/cfp/servlet/event.showcfp?eventid=11148&copyow
 nerid=27104
UID:cfp189829-E@wikicfp.com
END:VEVENT
BEGIN:VEVENT
DTSTAMP:20260423T115013Z
DTSTART;VALUE=DATE:20110929
SUMMARY:HPSC 2012 Deadline
DESCRIPTION:5th International Conference on High Performance Scientific C
 omputing
URL:http://www.wikicfp.com/cfp/servlet/event.showcfp?eventid=11148&copyow
 nerid=27104
UID:cfp189829-D@wikicfp.com
END:VEVENT
BEGIN:VEVENT
DTSTAMP:20260423T115013Z
DTSTART;VALUE=DATE:20120521
DTEND;VALUE=DATE:20120526
SUMMARY:IPDPS 2012
DESCRIPTION:26th IEEE International Parallel & Distributed Processing Sym
 posium
URL:http://www.wikicfp.com/cfp/servlet/event.showcfp?eventid=17115&copyow
 nerid=27104
UID:cfp189828-E@wikicfp.com
END:VEVENT
BEGIN:VEVENT
DTSTAMP:20260423T115013Z
DTSTART;VALUE=DATE:20110924
SUMMARY:IPDPS 2012 Abstract Due
DESCRIPTION:26th IEEE International Parallel & Distributed Processing Sym
 posium
URL:http://www.wikicfp.com/cfp/servlet/event.showcfp?eventid=17115&copyow
 nerid=27104
UID:cfp189828-A@wikicfp.com
END:VEVENT
BEGIN:VEVENT
DTSTAMP:20260423T115013Z
DTSTART;VALUE=DATE:20111001
SUMMARY:IPDPS 2012 Deadline
DESCRIPTION:26th IEEE International Parallel & Distributed Processing Sym
 posium
URL:http://www.wikicfp.com/cfp/servlet/event.showcfp?eventid=17115&copyow
 nerid=27104
UID:cfp189828-D@wikicfp.com
END:VEVENT
BEGIN:VEVENT
DTSTAMP:20260423T115013Z
DTSTART;VALUE=DATE:20111219
SUMMARY:IPDPS 2012 Notification Due
DESCRIPTION:26th IEEE International Parallel & Distributed Processing Sym
 posium
URL:http://www.wikicfp.com/cfp/servlet/event.showcfp?eventid=17115&copyow
 nerid=27104
UID:cfp189828-N@wikicfp.com
END:VEVENT
BEGIN:VEVENT
DTSTAMP:20260423T115013Z
DTSTART;VALUE=DATE:20120201
SUMMARY:IPDPS 2012 Final Version Due
DESCRIPTION:26th IEEE International Parallel & Distributed Processing Sym
 posium
URL:http://www.wikicfp.com/cfp/servlet/event.showcfp?eventid=17115&copyow
 nerid=27104
UID:cfp189828-N@wikicfp.com
END:VEVENT
BEGIN:VEVENT
DTSTAMP:20260423T115013Z
DTSTART;VALUE=DATE:20111231
SUMMARY:PDCN 2011 Deadline
DESCRIPTION:Parallel and Distributed Computing and Networks Journal
URL:http://www.wikicfp.com/cfp/servlet/event.showcfp?eventid=15921&copyow
 nerid=27104
UID:cfp189830-D@wikicfp.com
END:VEVENT
BEGIN:VEVENT
DTSTAMP:20260423T115013Z
DTSTART;VALUE=DATE:20120707
DTEND;VALUE=DATE:20120712
SUMMARY:GECCO 2012
DESCRIPTION:Genetic and Evolutionary Computation Conference ï¼GECCO 2012
 ï¼
URL:http://www.wikicfp.com/cfp/servlet/event.showcfp?eventid=17856&copyow
 nerid=27104
UID:cfp197859-E@wikicfp.com
END:VEVENT
BEGIN:VEVENT
DTSTAMP:20260423T115013Z
DTSTART;VALUE=DATE:20120127
SUMMARY:GECCO 2012 Deadline
DESCRIPTION:Genetic and Evolutionary Computation Conference ï¼GECCO 2012
 ï¼
URL:http://www.wikicfp.com/cfp/servlet/event.showcfp?eventid=17856&copyow
 nerid=27104
UID:cfp197859-D@wikicfp.com
END:VEVENT
BEGIN:VEVENT
DTSTAMP:20260423T115013Z
DTSTART;VALUE=DATE:20120313
SUMMARY:GECCO 2012 Notification Due
DESCRIPTION:Genetic and Evolutionary Computation Conference ï¼GECCO 2012
 ï¼
URL:http://www.wikicfp.com/cfp/servlet/event.showcfp?eventid=17856&copyow
 nerid=27104
UID:cfp197859-N@wikicfp.com
END:VEVENT
BEGIN:VEVENT
DTSTAMP:20260423T115013Z
DTSTART;VALUE=DATE:20120409
SUMMARY:GECCO 2012 Final Version Due
DESCRIPTION:Genetic and Evolutionary Computation Conference ï¼GECCO 2012
 ï¼
URL:http://www.wikicfp.com/cfp/servlet/event.showcfp?eventid=17856&copyow
 nerid=27104
UID:cfp197859-N@wikicfp.com
END:VEVENT
END:VCALENDAR
