BEGIN:VCALENDAR
PRODID:-//WikiCFP//bakriy 1.0//EN
VERSION:2.0
CALSCALE:GREGORIAN
BEGIN:VEVENT
DTSTAMP:20260421T023123Z
DTSTART;VALUE=DATE:20100517
DTEND;VALUE=DATE:20100521
SUMMARY:PCGrid 2010
DESCRIPTION:The Fourth Workshop on Desktop Grids and Volunteer Computing 
 Systems (in conjunction with CCGrid 2010)
URL:http://www.wikicfp.com/cfp/servlet/event.showcfp?eventid=7107&copyown
 erid=27016
UID:cfp189251-E@wikicfp.com
END:VEVENT
BEGIN:VEVENT
DTSTAMP:20260421T023123Z
DTSTART;VALUE=DATE:20091130
SUMMARY:PCGrid 2010 Deadline
DESCRIPTION:The Fourth Workshop on Desktop Grids and Volunteer Computing 
 Systems (in conjunction with CCGrid 2010)
URL:http://www.wikicfp.com/cfp/servlet/event.showcfp?eventid=7107&copyown
 erid=27016
UID:cfp189251-D@wikicfp.com
END:VEVENT
BEGIN:VEVENT
DTSTAMP:20260421T023123Z
DTSTART;VALUE=DATE:20091230
SUMMARY:PCGrid 2010 Notification Due
DESCRIPTION:The Fourth Workshop on Desktop Grids and Volunteer Computing 
 Systems (in conjunction with CCGrid 2010)
URL:http://www.wikicfp.com/cfp/servlet/event.showcfp?eventid=7107&copyown
 erid=27016
UID:cfp189251-N@wikicfp.com
END:VEVENT
BEGIN:VEVENT
DTSTAMP:20260421T023123Z
DTSTART;VALUE=DATE:20100125
SUMMARY:PCGrid 2010 Final Version Due
DESCRIPTION:The Fourth Workshop on Desktop Grids and Volunteer Computing 
 Systems (in conjunction with CCGrid 2010)
URL:http://www.wikicfp.com/cfp/servlet/event.showcfp?eventid=7107&copyown
 erid=27016
UID:cfp189251-N@wikicfp.com
END:VEVENT
BEGIN:VEVENT
DTSTAMP:20260421T023123Z
DTSTART;VALUE=DATE:20110511
DTEND;VALUE=DATE:20110514
SUMMARY:GPC 2011
DESCRIPTION:The 6th International Conference on Grid and Pervasive Comput
 ing
URL:http://www.wikicfp.com/cfp/servlet/event.showcfp?eventid=10042&copyow
 nerid=27016
UID:cfp189250-E@wikicfp.com
END:VEVENT
BEGIN:VEVENT
DTSTAMP:20260421T023123Z
DTSTART;VALUE=DATE:20101231
SUMMARY:GPC 2011 Deadline
DESCRIPTION:The 6th International Conference on Grid and Pervasive Comput
 ing
URL:http://www.wikicfp.com/cfp/servlet/event.showcfp?eventid=10042&copyow
 nerid=27016
UID:cfp189250-D@wikicfp.com
END:VEVENT
BEGIN:VEVENT
DTSTAMP:20260421T023123Z
DTSTART;VALUE=DATE:20110212
SUMMARY:GPC 2011 Notification Due
DESCRIPTION:The 6th International Conference on Grid and Pervasive Comput
 ing
URL:http://www.wikicfp.com/cfp/servlet/event.showcfp?eventid=10042&copyow
 nerid=27016
UID:cfp189250-N@wikicfp.com
END:VEVENT
BEGIN:VEVENT
DTSTAMP:20260421T023123Z
DTSTART;VALUE=DATE:20110220
SUMMARY:GPC 2011 Final Version Due
DESCRIPTION:The 6th International Conference on Grid and Pervasive Comput
 ing
URL:http://www.wikicfp.com/cfp/servlet/event.showcfp?eventid=10042&copyow
 nerid=27016
UID:cfp189250-N@wikicfp.com
END:VEVENT
BEGIN:VEVENT
DTSTAMP:20260421T023123Z
DTSTART;VALUE=DATE:20110125
SUMMARY:IJGCA 2011 Deadline
DESCRIPTION:International Journal of Grid Computing & Applications (IJGCA
 )
URL:http://www.wikicfp.com/cfp/servlet/event.showcfp?eventid=12741&copyow
 nerid=27016
UID:cfp189245-D@wikicfp.com
END:VEVENT
BEGIN:VEVENT
DTSTAMP:20260421T023123Z
DTSTART;VALUE=DATE:20110225
SUMMARY:IJGCA 2011 Notification Due
DESCRIPTION:International Journal of Grid Computing & Applications (IJGCA
 )
URL:http://www.wikicfp.com/cfp/servlet/event.showcfp?eventid=12741&copyow
 nerid=27016
UID:cfp189245-N@wikicfp.com
END:VEVENT
BEGIN:VEVENT
DTSTAMP:20260421T023123Z
DTSTART;VALUE=DATE:20110310
SUMMARY:IJGCA 2011 Final Version Due
DESCRIPTION:International Journal of Grid Computing & Applications (IJGCA
 )
URL:http://www.wikicfp.com/cfp/servlet/event.showcfp?eventid=12741&copyow
 nerid=27016
UID:cfp189245-N@wikicfp.com
END:VEVENT
BEGIN:VEVENT
DTSTAMP:20260421T023123Z
DTSTART;VALUE=DATE:20110704
DTEND;VALUE=DATE:20110709
SUMMARY:SHPCS 2011
DESCRIPTION:6th Workshop on Security and High Performance Computing Syste
 ms
URL:http://www.wikicfp.com/cfp/servlet/event.showcfp?eventid=12322&copyow
 nerid=27016
UID:cfp189249-E@wikicfp.com
END:VEVENT
BEGIN:VEVENT
DTSTAMP:20260421T023123Z
DTSTART;VALUE=DATE:20110228
SUMMARY:SHPCS 2011 Deadline
DESCRIPTION:6th Workshop on Security and High Performance Computing Syste
 ms
URL:http://www.wikicfp.com/cfp/servlet/event.showcfp?eventid=12322&copyow
 nerid=27016
UID:cfp189249-D@wikicfp.com
END:VEVENT
BEGIN:VEVENT
DTSTAMP:20260421T023123Z
DTSTART;VALUE=DATE:20110324
SUMMARY:SHPCS 2011 Notification Due
DESCRIPTION:6th Workshop on Security and High Performance Computing Syste
 ms
URL:http://www.wikicfp.com/cfp/servlet/event.showcfp?eventid=12322&copyow
 nerid=27016
UID:cfp189249-N@wikicfp.com
END:VEVENT
BEGIN:VEVENT
DTSTAMP:20260421T023123Z
DTSTART;VALUE=DATE:20110414
SUMMARY:SHPCS 2011 Final Version Due
DESCRIPTION:6th Workshop on Security and High Performance Computing Syste
 ms
URL:http://www.wikicfp.com/cfp/servlet/event.showcfp?eventid=12322&copyow
 nerid=27016
UID:cfp189249-N@wikicfp.com
END:VEVENT
BEGIN:VEVENT
DTSTAMP:20260421T023123Z
DTSTART;VALUE=DATE:20111024
DTEND;VALUE=DATE:20111027
SUMMARY:SKG 2011
DESCRIPTION:The 7th International Conference on Semantics\, Knowledge and
  Grids
URL:http://www.wikicfp.com/cfp/servlet/event.showcfp?eventid=13435&copyow
 nerid=27016
UID:cfp189248-E@wikicfp.com
END:VEVENT
BEGIN:VEVENT
DTSTAMP:20260421T023123Z
DTSTART;VALUE=DATE:20110501
SUMMARY:SKG 2011 Deadline
DESCRIPTION:The 7th International Conference on Semantics\, Knowledge and
  Grids
URL:http://www.wikicfp.com/cfp/servlet/event.showcfp?eventid=13435&copyow
 nerid=27016
UID:cfp189248-D@wikicfp.com
END:VEVENT
BEGIN:VEVENT
DTSTAMP:20260421T023123Z
DTSTART;VALUE=DATE:20110530
SUMMARY:SKG 2011 Notification Due
DESCRIPTION:The 7th International Conference on Semantics\, Knowledge and
  Grids
URL:http://www.wikicfp.com/cfp/servlet/event.showcfp?eventid=13435&copyow
 nerid=27016
UID:cfp189248-N@wikicfp.com
END:VEVENT
BEGIN:VEVENT
DTSTAMP:20260421T023123Z
DTSTART;VALUE=DATE:20110615
SUMMARY:SKG 2011 Final Version Due
DESCRIPTION:The 7th International Conference on Semantics\, Knowledge and
  Grids
URL:http://www.wikicfp.com/cfp/servlet/event.showcfp?eventid=13435&copyow
 nerid=27016
UID:cfp189248-N@wikicfp.com
END:VEVENT
BEGIN:VEVENT
DTSTAMP:20260421T023123Z
DTSTART;VALUE=DATE:20110829
DTEND;VALUE=DATE:20110830
SUMMARY:MDGS 2011
DESCRIPTION:Managing and Delivering Grid Services
URL:http://www.wikicfp.com/cfp/servlet/event.showcfp?eventid=16657&copyow
 nerid=27016
UID:cfp189247-E@wikicfp.com
END:VEVENT
BEGIN:VEVENT
DTSTAMP:20260421T023123Z
DTSTART;VALUE=DATE:20110619
SUMMARY:MDGS 2011 Deadline
DESCRIPTION:Managing and Delivering Grid Services
URL:http://www.wikicfp.com/cfp/servlet/event.showcfp?eventid=16657&copyow
 nerid=27016
UID:cfp189247-D@wikicfp.com
END:VEVENT
BEGIN:VEVENT
DTSTAMP:20260421T023123Z
DTSTART;VALUE=DATE:20110715
SUMMARY:MDGS 2011 Notification Due
DESCRIPTION:Managing and Delivering Grid Services
URL:http://www.wikicfp.com/cfp/servlet/event.showcfp?eventid=16657&copyow
 nerid=27016
UID:cfp189247-N@wikicfp.com
END:VEVENT
BEGIN:VEVENT
DTSTAMP:20260421T023123Z
DTSTART;VALUE=DATE:20111015
SUMMARY:MDGS 2011 Final Version Due
DESCRIPTION:Managing and Delivering Grid Services
URL:http://www.wikicfp.com/cfp/servlet/event.showcfp?eventid=16657&copyow
 nerid=27016
UID:cfp189247-N@wikicfp.com
END:VEVENT
BEGIN:VEVENT
DTSTAMP:20260421T023123Z
DTSTART;VALUE=DATE:20111024
DTEND;VALUE=DATE:20111027
SUMMARY:IDCS 2011
DESCRIPTION:The 4th IEEE International Workshop on Internet and Distribut
 ed Computing Systems
URL:http://www.wikicfp.com/cfp/servlet/event.showcfp?eventid=16143&copyow
 nerid=27016
UID:cfp189257-E@wikicfp.com
END:VEVENT
BEGIN:VEVENT
DTSTAMP:20260421T023123Z
DTSTART;VALUE=DATE:20110630
SUMMARY:IDCS 2011 Deadline
DESCRIPTION:The 4th IEEE International Workshop on Internet and Distribut
 ed Computing Systems
URL:http://www.wikicfp.com/cfp/servlet/event.showcfp?eventid=16143&copyow
 nerid=27016
UID:cfp189257-D@wikicfp.com
END:VEVENT
BEGIN:VEVENT
DTSTAMP:20260421T023123Z
DTSTART;VALUE=DATE:20110730
SUMMARY:IDCS 2011 Notification Due
DESCRIPTION:The 4th IEEE International Workshop on Internet and Distribut
 ed Computing Systems
URL:http://www.wikicfp.com/cfp/servlet/event.showcfp?eventid=16143&copyow
 nerid=27016
UID:cfp189257-N@wikicfp.com
END:VEVENT
BEGIN:VEVENT
DTSTAMP:20260421T023123Z
DTSTART;VALUE=DATE:20110815
SUMMARY:IDCS 2011 Final Version Due
DESCRIPTION:The 4th IEEE International Workshop on Internet and Distribut
 ed Computing Systems
URL:http://www.wikicfp.com/cfp/servlet/event.showcfp?eventid=16143&copyow
 nerid=27016
UID:cfp189257-N@wikicfp.com
END:VEVENT
BEGIN:VEVENT
DTSTAMP:20260421T023123Z
DTSTART;VALUE=DATE:20110921
DTEND;VALUE=DATE:20110924
SUMMARY:Grid 2011
DESCRIPTION:The 12th IEEE/ACM International Conference on Grid Computing
URL:http://www.wikicfp.com/cfp/servlet/event.showcfp?eventid=16547&copyow
 nerid=27016
UID:cfp189246-E@wikicfp.com
END:VEVENT
BEGIN:VEVENT
DTSTAMP:20260421T023123Z
DTSTART;VALUE=DATE:20110715
SUMMARY:Grid 2011 Deadline
DESCRIPTION:The 12th IEEE/ACM International Conference on Grid Computing
URL:http://www.wikicfp.com/cfp/servlet/event.showcfp?eventid=16547&copyow
 nerid=27016
UID:cfp189246-D@wikicfp.com
END:VEVENT
BEGIN:VEVENT
DTSTAMP:20260421T023123Z
DTSTART;VALUE=DATE:20110817
SUMMARY:Grid 2011 Notification Due
DESCRIPTION:The 12th IEEE/ACM International Conference on Grid Computing
URL:http://www.wikicfp.com/cfp/servlet/event.showcfp?eventid=16547&copyow
 nerid=27016
UID:cfp189246-N@wikicfp.com
END:VEVENT
BEGIN:VEVENT
DTSTAMP:20260421T023123Z
DTSTART;VALUE=DATE:20110824
SUMMARY:Grid 2011 Final Version Due
DESCRIPTION:The 12th IEEE/ACM International Conference on Grid Computing
URL:http://www.wikicfp.com/cfp/servlet/event.showcfp?eventid=16547&copyow
 nerid=27016
UID:cfp189246-N@wikicfp.com
END:VEVENT
BEGIN:VEVENT
DTSTAMP:20260421T023123Z
DTSTART;VALUE=DATE:20111205
DTEND;VALUE=DATE:20111209
SUMMARY:TARDIS 2011
DESCRIPTION:1st International Workshop on fault Tolerant Architectures fo
 r Reliable Distributed Infrastructures and Services
URL:http://www.wikicfp.com/cfp/servlet/event.showcfp?eventid=16953&copyow
 nerid=27016
UID:cfp189256-E@wikicfp.com
END:VEVENT
BEGIN:VEVENT
DTSTAMP:20260421T023123Z
DTSTART;VALUE=DATE:20110830
SUMMARY:TARDIS 2011 Deadline
DESCRIPTION:1st International Workshop on fault Tolerant Architectures fo
 r Reliable Distributed Infrastructures and Services
URL:http://www.wikicfp.com/cfp/servlet/event.showcfp?eventid=16953&copyow
 nerid=27016
UID:cfp189256-D@wikicfp.com
END:VEVENT
BEGIN:VEVENT
DTSTAMP:20260421T023123Z
DTSTART;VALUE=DATE:20110915
SUMMARY:TARDIS 2011 Notification Due
DESCRIPTION:1st International Workshop on fault Tolerant Architectures fo
 r Reliable Distributed Infrastructures and Services
URL:http://www.wikicfp.com/cfp/servlet/event.showcfp?eventid=16953&copyow
 nerid=27016
UID:cfp189256-N@wikicfp.com
END:VEVENT
BEGIN:VEVENT
DTSTAMP:20260421T023123Z
DTSTART;VALUE=DATE:20110925
SUMMARY:TARDIS 2011 Final Version Due
DESCRIPTION:1st International Workshop on fault Tolerant Architectures fo
 r Reliable Distributed Infrastructures and Services
URL:http://www.wikicfp.com/cfp/servlet/event.showcfp?eventid=16953&copyow
 nerid=27016
UID:cfp189256-N@wikicfp.com
END:VEVENT
BEGIN:VEVENT
DTSTAMP:20260421T023123Z
DTSTART;VALUE=DATE:20120325
DTEND;VALUE=DATE:20120330
SUMMARY:COSYS  2012
DESCRIPTION:ACM SAC Track on Cooperative Systems in Heterogeneous Environ
 ments 
URL:http://www.wikicfp.com/cfp/servlet/event.showcfp?eventid=16525&copyow
 nerid=27016
UID:cfp189253-E@wikicfp.com
END:VEVENT
BEGIN:VEVENT
DTSTAMP:20260421T023123Z
DTSTART;VALUE=DATE:20110907
SUMMARY:COSYS  2012 Deadline
DESCRIPTION:ACM SAC Track on Cooperative Systems in Heterogeneous Environ
 ments 
URL:http://www.wikicfp.com/cfp/servlet/event.showcfp?eventid=16525&copyow
 nerid=27016
UID:cfp189253-D@wikicfp.com
END:VEVENT
BEGIN:VEVENT
DTSTAMP:20260421T023123Z
DTSTART;VALUE=DATE:20111012
SUMMARY:COSYS  2012 Notification Due
DESCRIPTION:ACM SAC Track on Cooperative Systems in Heterogeneous Environ
 ments 
URL:http://www.wikicfp.com/cfp/servlet/event.showcfp?eventid=16525&copyow
 nerid=27016
UID:cfp189253-N@wikicfp.com
END:VEVENT
BEGIN:VEVENT
DTSTAMP:20260421T023123Z
DTSTART;VALUE=DATE:20111102
SUMMARY:COSYS  2012 Final Version Due
DESCRIPTION:ACM SAC Track on Cooperative Systems in Heterogeneous Environ
 ments 
URL:http://www.wikicfp.com/cfp/servlet/event.showcfp?eventid=16525&copyow
 nerid=27016
UID:cfp189253-N@wikicfp.com
END:VEVENT
END:VCALENDAR
