BEGIN:VCALENDAR
PRODID:-//WikiCFP//slcp118 1.0//EN
VERSION:2.0
CALSCALE:GREGORIAN
BEGIN:VEVENT
DTSTAMP:20260424T184842Z
DTSTART;VALUE=DATE:20120514
DTEND;VALUE=DATE:20120520
SUMMARY:ICRA 2012
DESCRIPTION:2012 IEEE International Conference on Robotics and Automation
  (ICRA) 
URL:http://www.wikicfp.com/cfp/servlet/event.showcfp?eventid=14629&copyow
 nerid=27012
UID:cfp189206-E@wikicfp.com
END:VEVENT
BEGIN:VEVENT
DTSTAMP:20260424T184842Z
DTSTART;VALUE=DATE:20110916
SUMMARY:ICRA 2012 Deadline
DESCRIPTION:2012 IEEE International Conference on Robotics and Automation
  (ICRA) 
URL:http://www.wikicfp.com/cfp/servlet/event.showcfp?eventid=14629&copyow
 nerid=27012
UID:cfp189206-D@wikicfp.com
END:VEVENT
BEGIN:VEVENT
DTSTAMP:20260424T184842Z
DTSTART;VALUE=DATE:20120106
SUMMARY:ICRA 2012 Notification Due
DESCRIPTION:2012 IEEE International Conference on Robotics and Automation
  (ICRA) 
URL:http://www.wikicfp.com/cfp/servlet/event.showcfp?eventid=14629&copyow
 nerid=27012
UID:cfp189206-N@wikicfp.com
END:VEVENT
BEGIN:VEVENT
DTSTAMP:20260424T184842Z
DTSTART;VALUE=DATE:20120210
SUMMARY:ICRA 2012 Final Version Due
DESCRIPTION:2012 IEEE International Conference on Robotics and Automation
  (ICRA) 
URL:http://www.wikicfp.com/cfp/servlet/event.showcfp?eventid=14629&copyow
 nerid=27012
UID:cfp189206-N@wikicfp.com
END:VEVENT
END:VCALENDAR
