BEGIN:VCALENDAR
PRODID:-//WikiCFP//aldocassola 1.0//EN
VERSION:2.0
CALSCALE:GREGORIAN
BEGIN:VEVENT
DTSTAMP:20260423T203010Z
DTSTART;VALUE=DATE:20130414
DTEND;VALUE=DATE:20130420
SUMMARY:INFOCOM 2013
DESCRIPTION:The 32nd Annual IEEE International Conference on Computer Com
 munications
URL:http://www.wikicfp.com/cfp/servlet/event.showcfp?eventid=19778&copyow
 nerid=26753
UID:cfp307114-E@wikicfp.com
END:VEVENT
BEGIN:VEVENT
DTSTAMP:20260423T203010Z
DTSTART;VALUE=DATE:20120720
SUMMARY:INFOCOM 2013 Abstract Due
DESCRIPTION:The 32nd Annual IEEE International Conference on Computer Com
 munications
URL:http://www.wikicfp.com/cfp/servlet/event.showcfp?eventid=19778&copyow
 nerid=26753
UID:cfp307114-A@wikicfp.com
END:VEVENT
BEGIN:VEVENT
DTSTAMP:20260423T203010Z
DTSTART;VALUE=DATE:20120727
SUMMARY:INFOCOM 2013 Deadline
DESCRIPTION:The 32nd Annual IEEE International Conference on Computer Com
 munications
URL:http://www.wikicfp.com/cfp/servlet/event.showcfp?eventid=19778&copyow
 nerid=26753
UID:cfp307114-D@wikicfp.com
END:VEVENT
BEGIN:VEVENT
DTSTAMP:20260423T203010Z
DTSTART;VALUE=DATE:20121119
SUMMARY:INFOCOM 2013 Notification Due
DESCRIPTION:The 32nd Annual IEEE International Conference on Computer Com
 munications
URL:http://www.wikicfp.com/cfp/servlet/event.showcfp?eventid=19778&copyow
 nerid=26753
UID:cfp307114-N@wikicfp.com
END:VEVENT
BEGIN:VEVENT
DTSTAMP:20260423T203010Z
DTSTART;VALUE=DATE:20130224
DTEND;VALUE=DATE:20130228
SUMMARY:NDSS 2013
DESCRIPTION:20th Network & Distributed System Security Symposium
URL:http://www.wikicfp.com/cfp/servlet/event.showcfp?eventid=23645&copyow
 nerid=26753
UID:cfp307118-E@wikicfp.com
END:VEVENT
BEGIN:VEVENT
DTSTAMP:20260423T203010Z
DTSTART;VALUE=DATE:20120801
SUMMARY:NDSS 2013 Abstract Due
DESCRIPTION:20th Network & Distributed System Security Symposium
URL:http://www.wikicfp.com/cfp/servlet/event.showcfp?eventid=23645&copyow
 nerid=26753
UID:cfp307118-A@wikicfp.com
END:VEVENT
BEGIN:VEVENT
DTSTAMP:20260423T203010Z
DTSTART;VALUE=DATE:20120806
SUMMARY:NDSS 2013 Deadline
DESCRIPTION:20th Network & Distributed System Security Symposium
URL:http://www.wikicfp.com/cfp/servlet/event.showcfp?eventid=23645&copyow
 nerid=26753
UID:cfp307118-D@wikicfp.com
END:VEVENT
BEGIN:VEVENT
DTSTAMP:20260423T203010Z
DTSTART;VALUE=DATE:20121022
SUMMARY:NDSS 2013 Notification Due
DESCRIPTION:20th Network & Distributed System Security Symposium
URL:http://www.wikicfp.com/cfp/servlet/event.showcfp?eventid=23645&copyow
 nerid=26753
UID:cfp307118-N@wikicfp.com
END:VEVENT
BEGIN:VEVENT
DTSTAMP:20260423T203010Z
DTSTART;VALUE=DATE:20121203
SUMMARY:NDSS 2013 Final Version Due
DESCRIPTION:20th Network & Distributed System Security Symposium
URL:http://www.wikicfp.com/cfp/servlet/event.showcfp?eventid=23645&copyow
 nerid=26753
UID:cfp307118-N@wikicfp.com
END:VEVENT
BEGIN:VEVENT
DTSTAMP:20260423T203010Z
DTSTART;VALUE=DATE:20130417
DTEND;VALUE=DATE:20130420
SUMMARY:WiSec 2013
DESCRIPTION:The Sixth ACM Conference on Security and Privacy in Wireless 
 and Mobile Networks
URL:http://www.wikicfp.com/cfp/servlet/event.showcfp?eventid=25166&copyow
 nerid=26753
UID:cfp307116-E@wikicfp.com
END:VEVENT
BEGIN:VEVENT
DTSTAMP:20260423T203010Z
DTSTART;VALUE=DATE:20121111
SUMMARY:WiSec 2013 Deadline
DESCRIPTION:The Sixth ACM Conference on Security and Privacy in Wireless 
 and Mobile Networks
URL:http://www.wikicfp.com/cfp/servlet/event.showcfp?eventid=25166&copyow
 nerid=26753
UID:cfp307116-D@wikicfp.com
END:VEVENT
BEGIN:VEVENT
DTSTAMP:20260423T203010Z
DTSTART;VALUE=DATE:20130120
SUMMARY:WiSec 2013 Notification Due
DESCRIPTION:The Sixth ACM Conference on Security and Privacy in Wireless 
 and Mobile Networks
URL:http://www.wikicfp.com/cfp/servlet/event.showcfp?eventid=25166&copyow
 nerid=26753
UID:cfp307116-N@wikicfp.com
END:VEVENT
BEGIN:VEVENT
DTSTAMP:20260423T203010Z
DTSTART;VALUE=DATE:20130215
SUMMARY:WiSec 2013 Final Version Due
DESCRIPTION:The Sixth ACM Conference on Security and Privacy in Wireless 
 and Mobile Networks
URL:http://www.wikicfp.com/cfp/servlet/event.showcfp?eventid=25166&copyow
 nerid=26753
UID:cfp307116-N@wikicfp.com
END:VEVENT
BEGIN:VEVENT
DTSTAMP:20260423T203010Z
DTSTART;VALUE=DATE:20130625
DTEND;VALUE=DATE:20130629
SUMMARY:MobiSys  2013
DESCRIPTION: The 11th International Conference on Mobile Systems\, Applic
 ations\, and Services 
URL:http://www.wikicfp.com/cfp/servlet/event.showcfp?eventid=25643&copyow
 nerid=26753
UID:cfp307120-E@wikicfp.com
END:VEVENT
BEGIN:VEVENT
DTSTAMP:20260423T203010Z
DTSTART;VALUE=DATE:20121203
SUMMARY:MobiSys  2013 Abstract Due
DESCRIPTION: The 11th International Conference on Mobile Systems\, Applic
 ations\, and Services 
URL:http://www.wikicfp.com/cfp/servlet/event.showcfp?eventid=25643&copyow
 nerid=26753
UID:cfp307120-A@wikicfp.com
END:VEVENT
BEGIN:VEVENT
DTSTAMP:20260423T203010Z
DTSTART;VALUE=DATE:20121210
SUMMARY:MobiSys  2013 Deadline
DESCRIPTION: The 11th International Conference on Mobile Systems\, Applic
 ations\, and Services 
URL:http://www.wikicfp.com/cfp/servlet/event.showcfp?eventid=25643&copyow
 nerid=26753
UID:cfp307120-D@wikicfp.com
END:VEVENT
BEGIN:VEVENT
DTSTAMP:20260423T203010Z
DTSTART;VALUE=DATE:20130304
SUMMARY:MobiSys  2013 Notification Due
DESCRIPTION: The 11th International Conference on Mobile Systems\, Applic
 ations\, and Services 
URL:http://www.wikicfp.com/cfp/servlet/event.showcfp?eventid=25643&copyow
 nerid=26753
UID:cfp307120-N@wikicfp.com
END:VEVENT
BEGIN:VEVENT
DTSTAMP:20260423T203010Z
DTSTART;VALUE=DATE:20130729
DTEND;VALUE=DATE:20130802
SUMMARY:MobiHoc 2013
DESCRIPTION:The 14th ACM International Symposium on Mobile Ad Hoc Network
 ing and Computing
URL:http://www.wikicfp.com/cfp/servlet/event.showcfp?eventid=25610&copyow
 nerid=26753
UID:cfp307113-E@wikicfp.com
END:VEVENT
BEGIN:VEVENT
DTSTAMP:20260423T203010Z
DTSTART;VALUE=DATE:20121213
SUMMARY:MobiHoc 2013 Abstract Due
DESCRIPTION:The 14th ACM International Symposium on Mobile Ad Hoc Network
 ing and Computing
URL:http://www.wikicfp.com/cfp/servlet/event.showcfp?eventid=25610&copyow
 nerid=26753
UID:cfp307113-A@wikicfp.com
END:VEVENT
BEGIN:VEVENT
DTSTAMP:20260423T203010Z
DTSTART;VALUE=DATE:20121220
SUMMARY:MobiHoc 2013 Deadline
DESCRIPTION:The 14th ACM International Symposium on Mobile Ad Hoc Network
 ing and Computing
URL:http://www.wikicfp.com/cfp/servlet/event.showcfp?eventid=25610&copyow
 nerid=26753
UID:cfp307113-D@wikicfp.com
END:VEVENT
BEGIN:VEVENT
DTSTAMP:20260423T203010Z
DTSTART;VALUE=DATE:20130310
SUMMARY:MobiHoc 2013 Notification Due
DESCRIPTION:The 14th ACM International Symposium on Mobile Ad Hoc Network
 ing and Computing
URL:http://www.wikicfp.com/cfp/servlet/event.showcfp?eventid=25610&copyow
 nerid=26753
UID:cfp307113-N@wikicfp.com
END:VEVENT
BEGIN:VEVENT
DTSTAMP:20260423T203010Z
DTSTART;VALUE=DATE:20130512
SUMMARY:MobiHoc 2013 Final Version Due
DESCRIPTION:The 14th ACM International Symposium on Mobile Ad Hoc Network
 ing and Computing
URL:http://www.wikicfp.com/cfp/servlet/event.showcfp?eventid=25610&copyow
 nerid=26753
UID:cfp307113-N@wikicfp.com
END:VEVENT
BEGIN:VEVENT
DTSTAMP:20260423T203010Z
DTSTART;VALUE=DATE:20140402
DTEND;VALUE=DATE:20140405
SUMMARY:NSDI 2014
DESCRIPTION:11th USENIX Symposium on Networked Systems Design and Impleme
 ntation 
URL:http://www.wikicfp.com/cfp/servlet/event.showcfp?eventid=32196&copyow
 nerid=26753
UID:cfp384793-E@wikicfp.com
END:VEVENT
BEGIN:VEVENT
DTSTAMP:20260423T203010Z
DTSTART;VALUE=DATE:20130920
SUMMARY:NSDI 2014 Abstract Due
DESCRIPTION:11th USENIX Symposium on Networked Systems Design and Impleme
 ntation 
URL:http://www.wikicfp.com/cfp/servlet/event.showcfp?eventid=32196&copyow
 nerid=26753
UID:cfp384793-A@wikicfp.com
END:VEVENT
BEGIN:VEVENT
DTSTAMP:20260423T203010Z
DTSTART;VALUE=DATE:20130927
SUMMARY:NSDI 2014 Deadline
DESCRIPTION:11th USENIX Symposium on Networked Systems Design and Impleme
 ntation 
URL:http://www.wikicfp.com/cfp/servlet/event.showcfp?eventid=32196&copyow
 nerid=26753
UID:cfp384793-D@wikicfp.com
END:VEVENT
BEGIN:VEVENT
DTSTAMP:20260423T203010Z
DTSTART;VALUE=DATE:20131213
SUMMARY:NSDI 2014 Notification Due
DESCRIPTION:11th USENIX Symposium on Networked Systems Design and Impleme
 ntation 
URL:http://www.wikicfp.com/cfp/servlet/event.showcfp?eventid=32196&copyow
 nerid=26753
UID:cfp384793-N@wikicfp.com
END:VEVENT
BEGIN:VEVENT
DTSTAMP:20260423T203010Z
DTSTART;VALUE=DATE:20140226
SUMMARY:NSDI 2014 Final Version Due
DESCRIPTION:11th USENIX Symposium on Networked Systems Design and Impleme
 ntation 
URL:http://www.wikicfp.com/cfp/servlet/event.showcfp?eventid=32196&copyow
 nerid=26753
UID:cfp384793-N@wikicfp.com
END:VEVENT
BEGIN:VEVENT
DTSTAMP:20260423T203010Z
DTSTART;VALUE=DATE:20131230
SUMMARY:CCS 2013 Deadline
DESCRIPTION:Communications and Computer Security Journal
URL:http://www.wikicfp.com/cfp/servlet/event.showcfp?eventid=15941&copyow
 nerid=26753
UID:cfp307121-D@wikicfp.com
END:VEVENT
BEGIN:VEVENT
DTSTAMP:20260423T203010Z
DTSTART;VALUE=DATE:20140602
DTEND;VALUE=DATE:20140605
SUMMARY:SEC 2014
DESCRIPTION:29th IFIP TC-11 SEC 2014 International Conference ICT Systems
  Security and Privacy Protection
URL:http://www.wikicfp.com/cfp/servlet/event.showcfp?eventid=32582&copyow
 nerid=26753
UID:cfp397846-E@wikicfp.com
END:VEVENT
BEGIN:VEVENT
DTSTAMP:20260423T203010Z
DTSTART;VALUE=DATE:20140120
SUMMARY:SEC 2014 Abstract Due
DESCRIPTION:29th IFIP TC-11 SEC 2014 International Conference ICT Systems
  Security and Privacy Protection
URL:http://www.wikicfp.com/cfp/servlet/event.showcfp?eventid=32582&copyow
 nerid=26753
UID:cfp397846-A@wikicfp.com
END:VEVENT
BEGIN:VEVENT
DTSTAMP:20260423T203010Z
DTSTART;VALUE=DATE:20140130
SUMMARY:SEC 2014 Deadline
DESCRIPTION:29th IFIP TC-11 SEC 2014 International Conference ICT Systems
  Security and Privacy Protection
URL:http://www.wikicfp.com/cfp/servlet/event.showcfp?eventid=32582&copyow
 nerid=26753
UID:cfp397846-D@wikicfp.com
END:VEVENT
BEGIN:VEVENT
DTSTAMP:20260423T203010Z
DTSTART;VALUE=DATE:20140310
SUMMARY:SEC 2014 Notification Due
DESCRIPTION:29th IFIP TC-11 SEC 2014 International Conference ICT Systems
  Security and Privacy Protection
URL:http://www.wikicfp.com/cfp/servlet/event.showcfp?eventid=32582&copyow
 nerid=26753
UID:cfp397846-N@wikicfp.com
END:VEVENT
BEGIN:VEVENT
DTSTAMP:20260423T203010Z
DTSTART;VALUE=DATE:20140317
SUMMARY:SEC 2014 Final Version Due
DESCRIPTION:29th IFIP TC-11 SEC 2014 International Conference ICT Systems
  Security and Privacy Protection
URL:http://www.wikicfp.com/cfp/servlet/event.showcfp?eventid=32582&copyow
 nerid=26753
UID:cfp397846-N@wikicfp.com
END:VEVENT
BEGIN:VEVENT
DTSTAMP:20260423T203010Z
DTSTART;VALUE=DATE:20140721
DTEND;VALUE=DATE:20140726
SUMMARY:WiSec 2014
DESCRIPTION:The 7th ACM Conference on Security and Privacy in Wireless an
 d Mobile Networks
URL:http://www.wikicfp.com/cfp/servlet/event.showcfp?eventid=33078&copyow
 nerid=26753
UID:cfp397847-E@wikicfp.com
END:VEVENT
BEGIN:VEVENT
DTSTAMP:20260423T203010Z
DTSTART;VALUE=DATE:20140303
SUMMARY:WiSec 2014 Abstract Due
DESCRIPTION:The 7th ACM Conference on Security and Privacy in Wireless an
 d Mobile Networks
URL:http://www.wikicfp.com/cfp/servlet/event.showcfp?eventid=33078&copyow
 nerid=26753
UID:cfp397847-A@wikicfp.com
END:VEVENT
BEGIN:VEVENT
DTSTAMP:20260423T203010Z
DTSTART;VALUE=DATE:20140310
SUMMARY:WiSec 2014 Deadline
DESCRIPTION:The 7th ACM Conference on Security and Privacy in Wireless an
 d Mobile Networks
URL:http://www.wikicfp.com/cfp/servlet/event.showcfp?eventid=33078&copyow
 nerid=26753
UID:cfp397847-D@wikicfp.com
END:VEVENT
BEGIN:VEVENT
DTSTAMP:20260423T203010Z
DTSTART;VALUE=DATE:20140507
SUMMARY:WiSec 2014 Notification Due
DESCRIPTION:The 7th ACM Conference on Security and Privacy in Wireless an
 d Mobile Networks
URL:http://www.wikicfp.com/cfp/servlet/event.showcfp?eventid=33078&copyow
 nerid=26753
UID:cfp397847-N@wikicfp.com
END:VEVENT
BEGIN:VEVENT
DTSTAMP:20260423T203010Z
DTSTART;VALUE=DATE:20140528
SUMMARY:WiSec 2014 Final Version Due
DESCRIPTION:The 7th ACM Conference on Security and Privacy in Wireless an
 d Mobile Networks
URL:http://www.wikicfp.com/cfp/servlet/event.showcfp?eventid=33078&copyow
 nerid=26753
UID:cfp397847-N@wikicfp.com
END:VEVENT
END:VCALENDAR
