BEGIN:VCALENDAR
PRODID:-//WikiCFP//ashishkapoor89 1.0//EN
VERSION:2.0
CALSCALE:GREGORIAN
BEGIN:VEVENT
DTSTAMP:20260420T204749Z
DTSTART;VALUE=DATE:20111218
DTEND;VALUE=DATE:20111217
SUMMARY:MSN 2011
DESCRIPTION:The 7th International Conference on Mobile Ad-hoc and Sensor 
 Networks
URL:http://www.wikicfp.com/cfp/servlet/event.showcfp?eventid=15014&copyow
 nerid=26547
UID:cfp185701-E@wikicfp.com
END:VEVENT
BEGIN:VEVENT
DTSTAMP:20260420T204749Z
DTSTART;VALUE=DATE:20110720
SUMMARY:MSN 2011 Deadline
DESCRIPTION:The 7th International Conference on Mobile Ad-hoc and Sensor 
 Networks
URL:http://www.wikicfp.com/cfp/servlet/event.showcfp?eventid=15014&copyow
 nerid=26547
UID:cfp185701-D@wikicfp.com
END:VEVENT
BEGIN:VEVENT
DTSTAMP:20260420T204749Z
DTSTART;VALUE=DATE:20110909
SUMMARY:MSN 2011 Notification Due
DESCRIPTION:The 7th International Conference on Mobile Ad-hoc and Sensor 
 Networks
URL:http://www.wikicfp.com/cfp/servlet/event.showcfp?eventid=15014&copyow
 nerid=26547
UID:cfp185701-N@wikicfp.com
END:VEVENT
BEGIN:VEVENT
DTSTAMP:20260420T204749Z
DTSTART;VALUE=DATE:20111007
SUMMARY:MSN 2011 Final Version Due
DESCRIPTION:The 7th International Conference on Mobile Ad-hoc and Sensor 
 Networks
URL:http://www.wikicfp.com/cfp/servlet/event.showcfp?eventid=15014&copyow
 nerid=26547
UID:cfp185701-N@wikicfp.com
END:VEVENT
BEGIN:VEVENT
DTSTAMP:20260420T204749Z
DTSTART;VALUE=DATE:20120325
DTEND;VALUE=DATE:20120331
SUMMARY:INFOCOM 2012
DESCRIPTION:The 31st Annual IEEE International Conference on Computer Com
 munications
URL:http://www.wikicfp.com/cfp/servlet/event.showcfp?eventid=11876&copyow
 nerid=26547
UID:cfp185695-E@wikicfp.com
END:VEVENT
BEGIN:VEVENT
DTSTAMP:20260420T204749Z
DTSTART;VALUE=DATE:20110722
SUMMARY:INFOCOM 2012 Abstract Due
DESCRIPTION:The 31st Annual IEEE International Conference on Computer Com
 munications
URL:http://www.wikicfp.com/cfp/servlet/event.showcfp?eventid=11876&copyow
 nerid=26547
UID:cfp185695-A@wikicfp.com
END:VEVENT
BEGIN:VEVENT
DTSTAMP:20260420T204749Z
DTSTART;VALUE=DATE:20110729
SUMMARY:INFOCOM 2012 Deadline
DESCRIPTION:The 31st Annual IEEE International Conference on Computer Com
 munications
URL:http://www.wikicfp.com/cfp/servlet/event.showcfp?eventid=11876&copyow
 nerid=26547
UID:cfp185695-D@wikicfp.com
END:VEVENT
BEGIN:VEVENT
DTSTAMP:20260420T204749Z
DTSTART;VALUE=DATE:20111121
SUMMARY:INFOCOM 2012 Notification Due
DESCRIPTION:The 31st Annual IEEE International Conference on Computer Com
 munications
URL:http://www.wikicfp.com/cfp/servlet/event.showcfp?eventid=11876&copyow
 nerid=26547
UID:cfp185695-N@wikicfp.com
END:VEVENT
BEGIN:VEVENT
DTSTAMP:20260420T204749Z
DTSTART;VALUE=DATE:20111213
DTEND;VALUE=DATE:20111216
SUMMARY:I2TS 2011
DESCRIPTION:10th International Information and Telecommunication and Tech
 nologieS Conference
URL:http://www.wikicfp.com/cfp/servlet/event.showcfp?eventid=16840&copyow
 nerid=26547
UID:cfp185696-E@wikicfp.com
END:VEVENT
BEGIN:VEVENT
DTSTAMP:20260420T204749Z
DTSTART;VALUE=DATE:20110731
SUMMARY:I2TS 2011 Deadline
DESCRIPTION:10th International Information and Telecommunication and Tech
 nologieS Conference
URL:http://www.wikicfp.com/cfp/servlet/event.showcfp?eventid=16840&copyow
 nerid=26547
UID:cfp185696-D@wikicfp.com
END:VEVENT
BEGIN:VEVENT
DTSTAMP:20260420T204749Z
DTSTART;VALUE=DATE:20110930
SUMMARY:I2TS 2011 Notification Due
DESCRIPTION:10th International Information and Telecommunication and Tech
 nologieS Conference
URL:http://www.wikicfp.com/cfp/servlet/event.showcfp?eventid=16840&copyow
 nerid=26547
UID:cfp185696-N@wikicfp.com
END:VEVENT
BEGIN:VEVENT
DTSTAMP:20260420T204749Z
DTSTART;VALUE=DATE:20111117
DTEND;VALUE=DATE:20111120
SUMMARY:IPCCC 2011
DESCRIPTION:IEEE International Performance\, Computing\, And Communicatio
 n Conference
URL:http://www.wikicfp.com/cfp/servlet/event.showcfp?eventid=16317&copyow
 nerid=26547
UID:cfp185697-E@wikicfp.com
END:VEVENT
BEGIN:VEVENT
DTSTAMP:20260420T204749Z
DTSTART;VALUE=DATE:20110812
SUMMARY:IPCCC 2011 Deadline
DESCRIPTION:IEEE International Performance\, Computing\, And Communicatio
 n Conference
URL:http://www.wikicfp.com/cfp/servlet/event.showcfp?eventid=16317&copyow
 nerid=26547
UID:cfp185697-D@wikicfp.com
END:VEVENT
BEGIN:VEVENT
DTSTAMP:20260420T204749Z
DTSTART;VALUE=DATE:20110915
SUMMARY:IPCCC 2011 Notification Due
DESCRIPTION:IEEE International Performance\, Computing\, And Communicatio
 n Conference
URL:http://www.wikicfp.com/cfp/servlet/event.showcfp?eventid=16317&copyow
 nerid=26547
UID:cfp185697-N@wikicfp.com
END:VEVENT
BEGIN:VEVENT
DTSTAMP:20260420T204749Z
DTSTART;VALUE=DATE:20111007
SUMMARY:IPCCC 2011 Final Version Due
DESCRIPTION:IEEE International Performance\, Computing\, And Communicatio
 n Conference
URL:http://www.wikicfp.com/cfp/servlet/event.showcfp?eventid=16317&copyow
 nerid=26547
UID:cfp185697-N@wikicfp.com
END:VEVENT
END:VCALENDAR
